Workbook
Name BC_IC: DATA!#REF!
Name BI1_: DATA!#REF!
Name BI1_: DATA!#REF!
Name BI1_: DATA!#REF!
Name BI2_: DATA!$I$10:$I$59
Name BI3_: DATA!$J$10:$J$59
Name BIL: DATA!$A$10:$A$59
Name BM1_: DATA!$E$10:$E$59
Name BM2_: DATA!$F$10:$F$59
Name BM3_: DATA!#REF!
Name BM3_: DATA!#REF!
Name BM3_: DATA!#REF!
Name CATATAN: DATA!#REF!
Name CATATAN: DATA!#REF!
Name CATATAN: DATA!#REF!
Name DATA: DATA!$B$9:$O$59
Name DATA: DATA!$B$9:$O$59
Name DYDVList: '[1](1023an)'!$E$4:INDEX('[1](1023an)'!$E$4:$E$10,'[1](1023an)'!$E$2)
Name GRED: DATA!#REF!
Name GRED: DATA!#REF!
Name GRED: DATA!#REF!
Name GRED1: 'DATA TRANSIT'!$B$79:$D$82
Name GRED1: 'PROFIL KELAS'!$B$79:$D$82
Name GRED1: 'DATA TRANSIT'!$B$79:$D$82
Name GRED2: DATA!$B$45:$D$74
Name GRED2: DATA!$B$45:$D$74
Name GRED3: DATA!$B$520:$C$523
Name GRED4: DATA!$B$518:$D$520
Name KELAS: DATA!$D$10:$D$44
Name LISTKELAS_DROPMENU: DATA!$Z$12:INDEX(DATA!$Z$12:$Z$31,DATA!$Z$10)
Name M1_: DATA!$K$10:$K$59
Name M2_: DATA!$L$10:$L$59
Name M3_: DATA!$M$10:$M$59
Name MAIL_MERGE: 'DATA TRANSIT'!$B$17:$AB$77
Name MARKAH: DATA!#REF!
Name MARKAH: DATA!#REF!
Name MARKAH: DATA!#REF!
Name NAMA_MURID: DATA!$B$10:$B$44
Name NAMA_MURID_PROFIL: 'PROFIL KELAS'!$B$18:$B$77
Name PROFIL_DATA: 'PROFIL KELAS'!$B$18:$V$77
Name VL: 'PROFIL KELAS'!$E$18:$E$67
Name VL: 'DATA TRANSIT'!$E$18:$E$67

Sheet IKeP
H15: SK FELDA PALONG 5
H17: NBA6016
H20: 6 CERDIK
H22: HARYANTI BINTI ABD. KADIR
H24: HAMINUDIN BIN BOHARI

Sheet DATA
B2: NAMA SEKOLAH | C2: =IKeP!H15 -> SK FELDA PALONG 5
B3: KOD SEKOLAH | C3: =IKeP!H17 -> NBA6016
B6: NAMA GURU BIMBINGAN DAN KAUNSELING | C6: =IKeP!H22 -> HARYANTI BINTI ABD. KADIR
E8: SKOR INVENTORI KECERDASAN PELBAGAI
A9: BIL | B9: NAMA MURID | C9: KELAS | D9: NO. KAD PENGENALAN / NO. SURAT BERANAK | E9: VL | F9: LM | G9: INTRA | H9: VR | I9: NAT | J9: INTER | K9: KINE | L9: MUZIK | M9: EKSIS | N9: NAMA SEKOLAH | O9: KOD SEKOLAH | P9: VL% | Q9: lm% | R9: INTRA% | S9: VR% | T9: NAT% | U9: INTER% | V9: KINE% | W9: MUZIK% | X9: EKSIS% | Z9: Unique Count | AA9: Column1 | AB9: Formula For Defined Name For DV List: | CC9: N/A
A10: 1 | B10: ABDUL KHAIRIL IZWAN BIN ABDUL KHALID | C10: 6 CERDIK | D10: BY54520 | E10: 6 | F10: 8 | G10: 7 | H10: 6 | I10: 7 | J10: 7 | K10: 7 | L10: 6 | M10: 9 | N10: Sederhana | O10: 70 | P10: Sederhana | Q10: 0 | S10: 30 | T10: Rendah | U10: 100 | V10: =K10*10 -> 70 | W10: =L10*10 -> 60 | X10: =M10*10 -> 90 | Z10: {=SUM(IF(FREQUENCY(IF($C$10:$C$510<>"",MATCH($C$10:$C$510,$C$10:$C$510,0)),ROW($C$10:$C$510)-ROW($D$10)+1),1))} -> 2 | AB10: {=$Z$12:INDEX($Z$12:$Z$31,$Z$10)} -> 6 CERDIK | CC10: 0
A11: 2 | B11: AMEER SUFFIAN BIN MOHD RAZUAN | C11: 6 CERDIK | D11: CB48425 | E11: 1 | F11: 8 | G11: 5 | H11: 4 | I11: 6 | J11: 10 | K11: 7 | L11: 7 | M11: 9 | N11: Sederhana | O11: 80 | P11: Tinggi | Q11: 60 | R11: Sederhana | S11: 10 | T11: Rendah | U11: 80 | V11: =K11*10 -> 70 | W11: =L11*10 -> 70 | X11: =M11*10 -> 90 | Z11: Return Unique Items | CC11: 1
A12: 3 | B12: AMEERA SAFFIAH BINTI MOHD RAZUAN | C12: 6 CERDIK | D12: CB48424 | E12: 3 | F12: 6 | G12: 9 | H12: 8 | I12: 8 | J12: 7 | K12: 8 | L12: 4 | M12: 9 | N12: Sederhana | O12: 90 | P12: Tinggi | Q12: 100 | R12: Tinggi | S12: 40 | T12: Rendah | U12: 90 | V12: =K12*10 -> 80 | W12: =L12*10 -> 40 | X12: =M12*10 -> 90 | Z12: {=IF(ROWS(Z$12:Z12)>$Z$10,"",INDEX($C$10:$C$510,SMALL(IF(FREQUENCY(IF($C$10:$C$510<>"",MATCH($C$10:$C$510,$C$10:$C$510,0)),ROW($C$10:$C$510)-ROW($D$10)+1),ROW($C$10:$C$510)-ROW($D$10)+1),ROWS(Z$12:Z12))))} -> 6 CERDIK | AB12: Select From Drop-down: | CC12: 2
A13: 4 | B13: DARWISY ZULHILMI BIN SHAHIDAN | C13: 6 CERDIK | D13: BY54836 | E13: 2 | F13: 8 | G13: 8 | H13: 5 | I13: 10 | J13: 6 | K13: 7 | L13: 4 | M13: 10 | N13: Sederhana | O13: 80 | P13: Tinggi | Q13: 80 | R13: Tinggi | S13: 70 | T13: Sederhana | U13: 60 | V13: =K13*10 -> 70 | W13: =L13*10 -> 40 | X13: =M13*10 -> 100 | Z13: {=IF(ROWS(Z$12:Z13)>$Z$10,"",INDEX($C$10:$C$510,SMALL(IF(FREQUENCY(IF($C$10:$C$510<>"",MATCH($C$10:$C$510,$C$10:$C$510,0)),ROW($C$10:$C$510)-ROW($D$10)+1),ROW($C$10:$C$510)-ROW($D$10)+1),ROWS(Z$12:Z13))))} -> 6 BIJAK | CC13: 3
A14: 5 | B14: DELISHA HANA BINTI AZMAN | C14: 6 CERDIK | D14: BY54529 | E14: 10 | F14: 10 | G14: 10 | H14: 9 | I14: 10 | J14: 9 | K14: 8 | L14: 9 | M14: 8 | N14: Tinggi | O14: 50 | P14: Sederhana | Q14: 70 | R14: Sederhana | S14: 40 | T14: Rendah | U14: 70 | V14: =K14*10 -> 80 | W14: =L14*10 -> 90 | X14: =M14*10 -> 80 | Z14: {=IF(ROWS(Z$12:Z14)>$Z$10,"",INDEX($C$10:$C$510,SMALL(IF(FREQUENCY(IF($C$10:$C$510<>"",MATCH($C$10:$C$510,$C$10:$C$510,0)),ROW($C$10:$C$510)-ROW($D$10)+1),ROW($C$10:$C$510)-ROW($D$10)+1),ROWS(Z$12:Z14))))} | CC14: 4
A15: 6 | B15: HARRAZ ZAKWAN BIN MOHD IMRANSYAH | C15: 6 CERDIK | D15: BX58302 | E15: 3 | F15: 8 | G15: 8 | H15: 7 | I15: 5 | J15: 7 | K15: 5 | L15: 7 | M15: 9 | N15: Tinggi | O15: 90 | P15: Tinggi | Q15: 50 | R15: Sederhana | S15: 70 | T15: Sederhana | U15: 80 | V15: =K15*10 -> 50 | W15: =L15*10 -> 70 | X15: =M15*10 -> 90 | Z15: {=IF(ROWS(Z$12:Z15)>$Z$10,"",INDEX($C$10:$C$510,SMALL(IF(FREQUENCY(IF($C$10:$C$510<>"",MATCH($C$10:$C$510,$C$10:$C$510,0)),ROW($C$10:$C$510)-ROW($D$10)+1),ROW($C$10:$C$510)-ROW($D$10)+1),ROWS(Z$12:Z15))))} | CC15: 5
A16: 7 | B16: MOHAMAD DANISH DANIAL BIN MOHAMAD NASARUDDIN | C16: 6 CERDIK | D16: CA19676 | E16: 3 | F16: 6 | G16: 8 | H16: 6 | I16: 10 | J16: 7 | K16: 6 | L16: 4 | M16: 9 | N16: Tinggi | O16: 80 | P16: Tinggi | Q16: 100 | R16: Tinggi | S16: 50 | T16: Sederhana | U16: 90 | V16: =K16*10 -> 60 | W16: =L16*10 -> 40 | X16: =M16*10 -> 90 | Z16: {=IF(ROWS(Z$12:Z16)>$Z$10,"",INDEX($C$10:$C$510,SMALL(IF(FREQUENCY(IF($C$10:$C$510<>"",MATCH($C$10:$C$510,$C$10:$C$510,0)),ROW($C$10:$C$510)-ROW($D$10)+1),ROW($C$10:$C$510)-ROW($D$10)+1),ROWS(Z$12:Z16))))} | CC16: 6
A17: 8 | B17: MOHAMAD MIKHAIL HAQIMI BIN ABDULLAH | C17: 6 CERDIK | D17: CC54134 | E17: 1 | F17: 10 | G17: 9 | H17: 8 | I17: 7 | J17: 8 | K17: 9 | L17: 4 | M17: 10 | N17: Tinggi | O17: 70 | P17: Sederhana | Q17: 70 | R17: Sederhana | S17: 50 | T17: Sederhana | U17: 100 | V17: =K17*10 -> 90 | W17: =L17*10 -> 40 | X17: =M17*10 -> 100 | Z17: {=IF(ROWS(Z$12:Z17)>$Z$10,"",INDEX($C$10:$C$510,SMALL(IF(FREQUENCY(IF($C$10:$C$510<>"",MATCH($C$10:$C$510,$C$10:$C$510,0)),ROW($C$10:$C$510)-ROW($D$10)+1),ROW($C$10:$C$510)-ROW($D$10)+1),ROWS(Z$12:Z17))))} | CC17: 7
A18: 9 | B18: MUHAMMAD AMIN BIN ISKANDAR | C18: 6 CERDIK | D18: CA39174 | E18: 0 | F18: 3 | G18: 8 | H18: 3 | I18: 4 | J18: 7 | K18: 4 | L18: 3 | M18: 8 | N18: Sederhana | O18: 100 | P18: Tinggi | Q18: 40 | R18: Rendah | S18: 30 | T18: Rendah | U18: 50 | V18: =K18*10 -> 40 | W18: =L18*10 -> 30 | X18: =M18*10 -> 80 | Z18: {=IF(ROWS(Z$12:Z18)>$Z$10,"",INDEX($C$10:$C$510,SMALL(IF(FREQUENCY(IF($C$10:$C$510<>"",MATCH($C$10:$C$510,$C$10:$C$510,0)),ROW($C$10:$C$510)-ROW($D$10)+1),ROW($C$10:$C$510)-ROW($D$10)+1),ROWS(Z$12:Z18))))} | CC18: 8
A19: 10 | B19: MUHAMMAD AMIRUL IMAN BIN ADAM | C19: 6 CERDIK | D19: BC59535 | E19: 2 | F19: 4 | G19: 7 | H19: 4 | I19: 2 | J19: 6 | K19: 6 | L19: 4 | M19: 4 | N19: Tinggi | O19: 100 | P19: Tinggi | Q19: 100 | R19: Tinggi | S19: 60 | T19: Sederhana | U19: 90 | V19: =K19*10 -> 60 | W19: =L19*10 -> 40 | X19: =M19*10 -> 40 | Z19: {=IF(ROWS(Z$12:Z19)>$Z$10,"",INDEX($C$10:$C$510,SMALL(IF(FREQUENCY(IF($C$10:$C$510<>"",MATCH($C$10:$C$510,$C$10:$C$510,0)),ROW($C$10:$C$510)-ROW($D$10)+1),ROW($C$10:$C$510)-ROW($D$10)+1),ROWS(Z$12:Z19))))} | CC19: 9
A20: 11 | B20: MUHAMMAD DANIEL ASHRAF BIN ABDULLAH | C20: 6 CERDIK | D20: BY53034 | E20: 5 | F20: 8 | G20: 7 | H20: 8 | I20: 8 | J20: 8 | K20: 7 | L20: 4 | M20: 9 | N20: Sederhana | O20: 90 | P20: Tinggi | Q20: 90 | R20: Tinggi | S20: 100 | T20: Tinggi | U20: 100 | V20: =K20*10 -> 70 | W20: =L20*10 -> 40 | X20: =M20*10 -> 90 | Z20: {=IF(ROWS(Z$12:Z20)>$Z$10,"",INDEX($C$10:$C$510,SMALL(IF(FREQUENCY(IF($C$10:$C$510<>"",MATCH($C$10:$C$510,$C$10:$C$510,0)),ROW($C$10:$C$510)-ROW($D$10)+1),ROW($C$10:$C$510)-ROW($D$10)+1),ROWS(Z$12:Z20))))} | CC20: 10
A21: 12 | B21: MUHAMMAD DENISH RIFQIE BIN ABD RAHMAN | C21: 6 CERDIK | D21: BY55932 | E21: 2 | F21: 7 | G21: 5 | H21: 6 | I21: 10 | J21: 5 | K21: 5 | L21: 1 | M21: 8 | N21: Sederhana | O21: 80 | P21: Tinggi | Q21: 70 | R21: Sederhana | S21: 0 | U21: 60 | V21: =K21*10 -> 50 | W21: =L21*10 -> 10 | X21: =M21*10 -> 80 | Z21: {=IF(ROWS(Z$12:Z21)>$Z$10,"",INDEX($C$10:$C$510,SMALL(IF(FREQUENCY(IF($C$10:$C$510<>"",MATCH($C$10:$C$510,$C$10:$C$510,0)),ROW($C$10:$C$510)-ROW($D$10)+1),ROW($C$10:$C$510)-ROW($D$10)+1),ROWS(Z$12:Z21))))}
A22: 13 | B22: MUHAMMAD DENNY IQWAN BIN ABDULLAH | C22: 6 CERDIK | D22: CA98972 | E22: 6 | F22: 9 | G22: 8 | H22: 6 | I22: 10 | J22: 8 | K22: 7 | L22: 5 | M22: 7 | N22: Rendah | O22: 20 | P22: Rendah | Q22: 50 | R22: Sederhana | S22: 30 | T22: Rendah | U22: 30 | V22: =K22*10 -> 70 | W22: =L22*10 -> 50 | X22: =M22*10 -> 70 | Z22: {=IF(ROWS(Z$12:Z22)>$Z$10,"",INDEX($C$10:$C$510,SMALL(IF(FREQUENCY(IF($C$10:$C$510<>"",MATCH($C$10:$C$510,$C$10:$C$510,0)),ROW($C$10:$C$510)-ROW($D$10)+1),ROW($C$10:$C$510)-ROW($D$10)+1),ROWS(Z$12:Z22))))}
A23: 14 | B23: MUHAMMAD FARHAN BIN ABDULLAH | C23: 6 CERDIK | D23: BZ57821 | E23: 2 | F23: 3 | G23: 8 | H23: 5 | I23: 3 | J23: 7 | K23: 8 | L23: 6 | M23: 8 | N23: Tinggi | O23: 60 | P23: Sederhana | Q23: 70 | R23: Sederhana | S23: 50 | T23: Sederhana | U23: 80 | V23: =K23*10 -> 80 | W23: =L23*10 -> 60 | X23: =M23*10 -> 80 | Z23: {=IF(ROWS(Z$12:Z23)>$Z$10,"",INDEX($C$10:$C$510,SMALL(IF(FREQUENCY(IF($C$10:$C$510<>"",MATCH($C$10:$C$510,$C$10:$C$510,0)),ROW($C$10:$C$510)-ROW($D$10)+1),ROW($C$10:$C$510)-ROW($D$10)+1),ROWS(Z$12:Z23))))}
A24: 15 | B24: MUHAMMAD ILMAN IZHAM MUSTAFA | C24: 6 CERDIK | D24: BX60716 | E24: 5 | F24: 6 | G24: 9 | H24: 9 | I24: 3 | J24: 9 | K24: 10 | L24: 8 | M24: 9 | N24: Tinggi | O24: 100 | P24: Tinggi | Q24: 50 | R24: Sederhana | S24: 20 | T24: Rendah | U24: 80 | V24: =K24*10 -> 100 | W24: =L24*10 -> 80 | X24: =M24*10 -> 90 | Z24: {=IF(ROWS(Z$12:Z24)>$Z$10,"",INDEX($C$10:$C$510,SMALL(IF(FREQUENCY(IF($C$10:$C$510<>"",MATCH($C$10:$C$510,$C$10:$C$510,0)),ROW($C$10:$C$510)-ROW($D$10)+1),ROW($C$10:$C$510)-ROW($D$10)+1),ROWS(Z$12:Z24))))}
A25: 16 | B25: MUHAMMAD MIFZAL AQEEF BIN MOHD MAHFUZ | C25: 6 CERDIK | D25: CB94105 | E25: 2 | F25: 5 | G25: 8 | H25: 4 | I25: 8 | J25: 10 | K25: 9 | L25: 3 | M25: 8 | N25: Tinggi | O25: 80 | P25: Tinggi | Q25: 90 | R25: Tinggi | S25: 100 | T25: Tinggi | U25: 90 | V25: =K25*10 -> 90 | W25: =L25*10 -> 30 | X25: =M25*10 -> 80 | Z25: {=IF(ROWS(Z$12:Z25)>$Z$10,"",INDEX($C$10:$C$510,SMALL(IF(FREQUENCY(IF($C$10:$C$510<>"",MATCH($C$10:$C$510,$C$10:$C$510,0)),ROW($C$10:$C$510)-ROW($D$10)+1),ROW($C$10:$C$510)-ROW($D$10)+1),ROWS(Z$12:Z25))))}
A26: 17 | B26: MUHAMMAD NAZRUL IKHWAN BIN KAMARUDIN | C26: 6 CERDIK | D26: BX58344 | E26: 2 | F26: 9 | G26: 9 | H26: 7 | I26: 8 | J26: 7 | K26: 8 | L26: 2 | M26: 10 | N26: Sederhana | O26: 100 | P26: Tinggi | Q26: 90 | R26: Tinggi | S26: 50 | T26: Sederhana | U26: 90 | V26: =K26*10 -> 80 | W26: =L26*10 -> 20 | X26: =M26*10 -> 100 | Z26: {=IF(ROWS(Z$12:Z26)>$Z$10,"",INDEX($C$10:$C$510,SMALL(IF(FREQUENCY(IF($C$10:$C$510<>"",MATCH($C$10:$C$510,$C$10:$C$510,0)),ROW($C$10:$C$510)-ROW($D$10)+1),ROW($C$10:$C$510)-ROW($D$10)+1),ROWS(Z$12:Z26))))}
A27: 18 | B27: MUHAMMAD SYAWAL BIN MUHAMAD RASDI | C27: 6 CERDIK | D27: BY54904 | E27: 4 | F27: 9 | G27: 9 | H27: 8 | I27: 10 | J27: 9 | K27: 8 | L27: 4 | M27: 10 | N27: Sederhana | O27: 60 | P27: Sederhana | Q27: 90 | R27: Tinggi | S27: 20 | T27: Rendah | U27: 70 | V27: =K27*10 -> 80 | W27: =L27*10 -> 40 | X27: =M27*10 -> 100 | Z27: {=IF(ROWS(Z$12:Z27)>$Z$10,"",INDEX($C$10:$C$510,SMALL(IF(FREQUENCY(IF($C$10:$C$510<>"",MATCH($C$10:$C$510,$C$10:$C$510,0)),ROW($C$10:$C$510)-ROW($D$10)+1),ROW($C$10:$C$510)-ROW($D$10)+1),ROWS(Z$12:Z27))))}
A28: 19 | B28: NUR AFIQAH SYUHADAH BINTI RIZAL | C28: 6 CERDIK | D28: CA36570 | E28: 4 | F28: 6 | G28: 7 | H28: 5 | I28: 9 | J28: 7 | K28: 6 | L28: 0 | M28: 9 | N28: Tinggi | O28: 100 | P28: Tinggi | Q28: 90 | R28: Tinggi | S28: 60 | T28: Sederhana | U28: 80 | V28: =K28*10 -> 60 | W28: =L28*10 -> 0 | X28: =M28*10 -> 90 | Z28: {=IF(ROWS(Z$12:Z28)>$Z$10,"",INDEX($C$10:$C$510,SMALL(IF(FREQUENCY(IF($C$10:$C$510<>"",MATCH($C$10:$C$510,$C$10:$C$510,0)),ROW($C$10:$C$510)-ROW($D$10)+1),ROW($C$10:$C$510)-ROW($D$10)+1),ROWS(Z$12:Z28))))}
A29: 20 | B29: NUR AIMUNI FATIYAH BINTI AFZANIZAM | C29: 6 CERDIK | D29: BY54611 | E29: 3 | F29: 7 | G29: 8 | H29: 6 | I29: 9 | J29: 9 | K29: 2 | L29: 3 | M29: 7 | N29: Sederhana | O29: 80 | P29: Tinggi | Q29: 90 | R29: Tinggi | S29: 20 | T29: Rendah | U29: 60 | V29: =K29*10 -> 20 | W29: =L29*10 -> 30 | X29: =M29*10 -> 70 | Z29: {=IF(ROWS(Z$12:Z29)>$Z$10,"",INDEX($C$10:$C$510,SMALL(IF(FREQUENCY(IF($C$10:$C$510<>"",MATCH($C$10:$C$510,$C$10:$C$510,0)),ROW($C$10:$C$510)-ROW($D$10)+1),ROW($C$10:$C$510)-ROW($D$10)+1),ROWS(Z$12:Z29))))}
A30: 21 | B30: NUR AISYAH RAUDAH BINTI RAMLAN | C30: 6 CERDIK | D30: BY56853 | E30: 7 | F30: 7 | G30: 10 | H30: 10 | I30: 9 | J30: 10 | K30: 10 | L30: 10 | M30: 10 | N30: Tinggi | O30: 70 | P30: Sederhana | Q30: 90 | R30: Tinggi | S30: 40 | T30: Rendah | U30: 80 | V30: =K30*10 -> 100 | W30: =L30*10 -> 100 | X30: =M30*10 -> 100 | Z30: {=IF(ROWS(Z$12:Z30)>$Z$10,"",INDEX($C$10:$C$510,SMALL(IF(FREQUENCY(IF($C$10:$C$510<>"",MATCH($C$10:$C$510,$C$10:$C$510,0)),ROW($C$10:$C$510)-ROW($D$10)+1),ROW($C$10:$C$510)-ROW($D$10)+1),ROWS(Z$12:Z30))))}
A31: 22 | B31: NUR ALYA NAJWA BINTI SABARUDIN | C31: 6 CERDIK | D31: CB48440 | E31: 4 | F31: 6 | G31: 9 | H31: 3 | I31: 2 | J31: 10 | K31: 5 | L31: 2 | M31: 8 | N31: Rendah | O31: 80 | P31: Tinggi | Q31: 50 | R31: Sederhana | S31: 100 | T31: Tinggi | U31: 80 | V31: =K31*10 -> 50 | W31: =L31*10 -> 20 | X31: =M31*10 -> 80 | Z31: {=IF(ROWS(Z$12:Z31)>$Z$10,"",INDEX($C$10:$C$510,SMALL(IF(FREQUENCY(IF($C$10:$C$510<>"",MATCH($C$10:$C$510,$C$10:$C$510,0)),ROW($C$10:$C$510)-ROW($D$10)+1),ROW($C$10:$C$510)-ROW($D$10)+1),ROWS(Z$12:Z31))))}
A32: 23 | B32: NUR ATIQAH BALQIS BINTI MARUDDIN | C32: 6 CERDIK | D32: BW04040 | E32: 4 | F32: 6 | G32: 9 | H32: 3 | I32: 9 | J32: 8 | K32: 3 | L32: 4 | M32: 10 | N32: Tinggi | O32: 90 | P32: Tinggi | Q32: 50 | R32: Sederhana | S32: 40 | T32: Rendah | U32: 100 | V32: =K32*10 -> 30 | W32: =L32*10 -> 40 | X32: =M32*10 -> 100
A33: 24 | B33: NUR DAMIA NAJWA BINTI MOHAMAD NIZAM | C33: 6 CERDIK | D33: BY56713 | E33: 4 | F33: 5 | G33: 10 | H33: 5 | I33: 9 | J33: 5 | K33: 6 | L33: 4 | M33: 10 | N33: Sederhana | O33: 100 | P33: Tinggi | Q33: 90 | R33: Tinggi | S33: 20 | T33: Rendah | U33: 80 | V33: =K33*10 -> 60 | W33: =L33*10 -> 40 | X33: =M33*10 -> 100
A34: 25 | B34: NUR HAZURA IZATIE BINTI NOR SHAHFUDIN | C34: 6 CERDIK | D34: CB47713 | E34: 4 | F34: 5 | G34: 8 | H34: 6 | I34: 7 | J34: 4 | K34: 7 | L34: 4 | M34: 9 | N34: Tinggi | O34: 100 | P34: Tinggi | Q34: 70 | R34: Sederhana | S34: 20 | T34: Rendah | U34: 100 | V34: =K34*10 -> 70 | W34: =L34*10 -> 40 | X34: =M34*10 -> 90
A35: 26 | B35: NUR SYAFFIAHTUL HANIS BINTI MOHD ZAINIZAM | C35: 6 CERDIK | D35: BX63361 | E35: 6 | F35: 8 | G35: 7 | H35: 6 | I35: 10 | J35: 7 | K35: 5 | L35: 2 | M35: 6 | N35: Tinggi | O35: 100 | P35: Tinggi | Q35: 90 | R35: Tinggi | S35: 60 | T35: Sederhana | U35: 100 | V35: =K35*10 -> 50 | W35: =L35*10 -> 20 | X35: =M35*10 -> 60
A36: 27 | B36: NURIN KHAIRA BINTI ABDULLAH | C36: 6 CERDIK | D36: BY56722 | E36: 3 | F36: 5 | G36: 9 | H36: 8 | I36: 10 | J36: 9 | K36: 6 | L36: 7 | M36: 9 | N36: Tinggi | O36: 100 | P36: Tinggi | Q36: 100 | R36: Tinggi | S36: 40 | T36: Rendah | U36: 90 | V36: =K36*10 -> 60 | W36: =L36*10 -> 70 | X36: =M36*10 -> 90
A37: 28 | B37: NURMIZA SOFIA BINTI HELMYZAN | C37: 6 CERDIK | D37: BY43841 | E37: 5 | F37: 5 | G37: 8 | H37: 7 | I37: 5 | J37: 8 | K37: 9 | L37: 10 | M37: 6 | N37: Sederhana | O37: 80 | P37: Tinggi | Q37: 30 | R37: Rendah | S37: 20 | T37: Rendah | U37: 50 | V37: =K37*10 -> 90 | W37: =L37*10 -> 100 | X37: =M37*10 -> 60
A38: 29 | B38: NURUL QISTINA BINTI MAHDHIR | C38: 6 CERDIK | D38: CA92823 | E38: 6 | F38: 4 | G38: 5 | H38: 3 | I38: 9 | J38: 7 | K38: 7 | L38: 3 | M38: 6 | N38: Sederhana | O38: 90 | P38: Tinggi | Q38: 90 | R38: Tinggi | S38: 70 | T38: Sederhana | U38: 90 | V38: =K38*10 -> 70 | W38: =L38*10 -> 30 | X38: =M38*10 -> 60
A39: 30 | B39: PUTERI NUR SYAHADAH BINTI MUHAMMAD HANAFI KEW | C39: 6 CERDIK | D39: BY52766 | E39: 5 | F39: 4 | G39: 8 | H39: 6 | I39: 6 | J39: 10 | K39: 6 | L39: 6 | M39: 8 | N39: Tinggi | O39: 80 | P39: Tinggi | Q39: 60 | R39: Sederhana | S39: 40 | T39: Rendah | U39: 70 | V39: =K39*10 -> 60 | W39: =L39*10 -> 60 | X39: =M39*10 -> 80
A40: 31 | B40: RAJA MUZZAFFAR SHAH BIN RAJA NAZRULAZMIR | C40: 6 CERDIK | D40: CB48439 | E40: 5 | F40: 6 | G40: 9 | H40: 5 | I40: 10 | J40: 6 | K40: 9 | L40: 9 | M40: 9 | N40: Tinggi | O40: 90 | P40: Tinggi | Q40: 80 | R40: Tinggi | S40: 30 | T40: Rendah | U40: 90 | V40: =K40*10 -> 90 | W40: =L40*10 -> 90 | X40: =M40*10 -> 90
A41: 32 | B41: SITI NORNAZIATUL AZRINDA BINTI AZMAN | C41: 6 CERDIK | D41: BY20222 | E41: 9 | F41: 9 | G41: 8 | H41: 8 | I41: 10 | J41: 6 | K41: 6 | L41: 6 | M41: 9 | N41: Sederhana | O41: 80 | P41: Tinggi | Q41: 50 | R41: Sederhana | S41: 30 | T41: Rendah | U41: 50 | V41: =K41*10 -> 60 | W41: =L41*10 -> 60 | X41: =M41*10 -> 90
A42: 33 | B42: WARDATUL BATRISYIA BINTI MOHD FAIZUL | C42: 6 CERDIK | D42: CA37578 | E42: 5 | F42: 7 | G42: 8 | H42: 5 | I42: 9 | J42: 8 | K42: 8 | L42: 4 | M42: 9 | N42: Tinggi | O42: 50 | P42: Sederhana | Q42: 40 | R42: Rendah | S42: 30 | T42: Rendah | U42: 50 | V42: =K42*10 -> 80 | W42: =L42*10 -> 40 | X42: =M42*10 -> 90
A43: 34 | B43: AIRIESYA RANIA BINTI ABDULLAH | C43: 6 BIJAK | D43: BY53903 | E43: 4 | F43: 7 | G43: 10 | H43: 8 | I43: 10 | J43: 9 | K43: 9 | L43: 3 | M43: 10 | N43: Tinggi | O43: 70 | P43: Sederhana | Q43: 80 | R43: Tinggi | S43: 50 | T43: Sederhana | U43: 80 | V43: =K43*10 -> 90 | W43: =L43*10 -> 30 | X43: =M43*10 -> 100
A44: 35 | B44: DANIA NURBATRISYIA BINTI MAT SA'AD | C44: 6 BIJAK | D44: CB31088 | E44: 4 | F44: 5 | G44: 5 | H44: 3 | I44: 8 | J44: 5 | K44: 5 | L44: 1 | M44: 6 | N44: Rendah | O44: 90 | P44: Tinggi | Q44: 70 | R44: Sederhana | S44: 40 | T44: Rendah | U44: 90 | V44: =K44*10 -> 50 | W44: =L44*10 -> 10 | X44: =M44*10 -> 60
A45: 36 | B45: DANIAL ZUHAIRI BIN RAHIZAL | C45: 6 BIJAK | D45: CB94041 | E45: 0 | F45: 6 | G45: 6 | H45: 1 | I45: 4 | J45: 4 | K45: 8 | L45: 5 | M45: 7 | N45: Sederhana | O45: 60 | P45: Sederhana | Q45: 50 | R45: =G45*10 -> 60 | S45: =H45*10 -> 10 | T45: =I45*10 -> 40 | U45: =J45*10 -> 40 | V45: =K45*10 -> 80 | W45: =L45*10 -> 50 | X45: =M45*10 -> 70
A46: 37 | B46: INTAN NORFARHANA BINTI MOHD ZAINUDDIN | C46: 6 BIJAK | D46: BX58196 | E46: 2 | F46: 5 | G46: 7 | H46: 3 | I46: 8 | J46: 9 | K46: 4 | L46: 2 | M46: 8 | N46: Sederhana | O46: 20 | P46: Rendah | Q46: 70 | R46: =G46*10 -> 70 | S46: =H46*10 -> 30 | T46: =I46*10 -> 80 | U46: =J46*10 -> 90 | V46: =K46*10 -> 40 | W46: =L46*10 -> 20 | X46: =M46*10 -> 80
A47: 38 | B47: JEREMY MIKHAIL BIN MOHAMAD JEFFRI | C47: 6 BIJAK | D47: CB46096 | E47: 1 | F47: 4 | G47: 4 | H47: 4 | I47: 6 | J47: 4 | K47: 3 | L47: 2 | M47: 6 | N47: Rendah | O47: 40 | P47: Rendah | Q47: 50 | R47: =G47*10 -> 40 | S47: =H47*10 -> 40 | T47: =I47*10 -> 60 | U47: =J47*10 -> 40 | V47: =K47*10 -> 30 | W47: =L47*10 -> 20 | X47: =M47*10 -> 60
A48: 39 | B48: MUHAMAD KHAIREIL FAIQ BIN MUHAMAD KHAIRUL | C48: 6 BIJAK | D48: BX63486 | E48: 2 | F48: 4 | G48: 7 | H48: 3 | I48: 6 | J48: 7 | K48: 8 | L48: 6 | M48: 4 | N48: Sederhana | O48: 70 | P48: Sederhana | Q48: 90 | R48: =G48*10 -> 70 | S48: =H48*10 -> 30 | T48: =I48*10 -> 60 | U48: =J48*10 -> 70 | V48: =K48*10 -> 80 | W48: =L48*10 -> 60 | X48: =M48*10 -> 40
A49: 40 | B49: MUHAMMAD AFIQ IRFAN BIN MOHD AFANDI | C49: 6 BIJAK | D49: BY41909 | E49: 0 | F49: 2 | G49: 4 | H49: 2 | I49: 3 | J49: 1 | K49: 3 | L49: 0 | M49: 6 | N49: Tinggi | O49: 80 | P49: Tinggi | Q49: 20 | R49: =G49*10 -> 40 | S49: =H49*10 -> 20 | T49: =I49*10 -> 30 | U49: =J49*10 -> 10 | V49: =K49*10 -> 30 | W49: =L49*10 -> 0 | X49: =M49*10 -> 60
A50: 41 | B50: MUHAMMAD AIDIL ZAFFUAN BIN MUHAMMAD IKMAL RIDHWAN | C50: 6 BIJAK | D50: CB93796 | E50: 2 | F50: 5 | G50: 3 | H50: 8 | I50: 9 | J50: 5 | K50: 6 | L50: 6 | M50: 10 | N50: Sederhana | O50: 90 | P50: Tinggi | Q50: 80 | R50: =G50*10 -> 30 | S50: =H50*10 -> 80 | T50: =I50*10 -> 90 | U50: =J50*10 -> 50 | V50: =K50*10 -> 60 | W50: =L50*10 -> 60 | X50: =M50*10 -> 100
A51: 42 | B51: MUHAMMAD ARIFF IKHWAN BIN NASARUDIN | C51: 6 BIJAK | D51: BY54980 | E51: 4 | F51: 6 | G51: 9 | H51: 5 | I51: 5 | J51: 8 | K51: 9 | L51: 5 | M51: 9 | N51: Sederhana | O51: 70 | P51: Sederhana | Q51: 80 | R51: =G51*10 -> 90 | S51: =H51*10 -> 50 | T51: =I51*10 -> 50 | U51: =J51*10 -> 80 | V51: =K51*10 -> 90 | W51: =L51*10 -> 50 | X51: =M51*10 -> 90
A52: 43 | B52: MUHAMMAD ASHYRAF BIN HIMRAM | C52: 6 BIJAK | D52: BY53435 | E52: 3 | F52: 5 | G52: 6 | H52: 4 | I52: 8 | J52: 6 | K52: 7 | L52: 6 | M52: 8 | N52: Tinggi | O52: 90 | P52: Tinggi | Q52: 70 | R52: =G52*10 -> 60 | S52: =H52*10 -> 40 | T52: =I52*10 -> 80 | U52: =J52*10 -> 60 | V52: =K52*10 -> 70 | W52: =L52*10 -> 60 | X52: =M52*10 -> 80
A53: 44 | B53: MUHAMMAD FAKHRI NAUFAL BIN ABDULLAH | C53: 6 BIJAK | D53: CA04865 | E53: 8 | F53: 10 | G53: 5 | H53: 10 | I53: 10 | J53: 7 | K53: 8 | L53: 9 | M53: 10 | N53: Tinggi | O53: 70 | P53: Sederhana | Q53: 70 | R53: =G53*10 -> 50 | S53: =H53*10 -> 100 | T53: =I53*10 -> 100 | U53: =J53*10 -> 70 | V53: =K53*10 -> 80 | W53: =L53*10 -> 90 | X53: =M53*10 -> 100
A54: 45 | B54: MUHAMMAD FIQRI BIN ZAIDI | C54: 6 BIJAK | D54: BY54135 | E54: 1 | F54: 5 | G54: 6 | H54: 3 | I54: 6 | J54: 6 | K54: 8 | L54: 6 | M54: 6 | N54: Tinggi | O54: 80 | P54: Tinggi | Q54: 70 | R54: =G54*10 -> 60 | S54: =H54*10 -> 30 | T54: =I54*10 -> 60 | U54: =J54*10 -> 60 | V54: =K54*10 -> 80 | W54: =L54*10 -> 60 | X54: =M54*10 -> 60
A55: 46 | B55: MUHAMMAD FITRI MOHD FADIL BIN ABDULLAH | C55: 6 BIJAK | D55: CA33005 | E55: 3 | F55: 7 | G55: 5 | H55: 7 | I55: 7 | J55: 6 | K55: 8 | L55: 1 | M55: 9 | N55: Tinggi | O55: 100 | P55: Tinggi | Q55: 40 | R55: =G55*10 -> 50 | S55: =H55*10 -> 70 | T55: =I55*10 -> 70 | U55: =J55*10 -> 60 | V55: =K55*10 -> 80 | W55: =L55*10 -> 10 | X55: =M55*10 -> 90
A56: 47 | B56: MUHAMMAD HAIKAL RASUL BIN CHE' MAT | C56: 6 BIJAK | D56: BX58321 | E56: 5 | F56: 5 | G56: 4 | H56: 6 | I56: 4 | J56: 7 | K56: 3 | L56: 8 | M56: 5 | N56: Tinggi | O56: 90 | P56: Tinggi | Q56: 90 | R56: =G57*10 -> 90 | S56: =H57*10 -> 60 | T56: =I57*10 -> 90 | U56: =J57*10 -> 90 | V56: =K57*10 -> 80 | W56: =L57*10 -> 40 | X56: =M57*10 -> 70
A57: 48 | B57: MUHAMMAD HALIM IQMAL BIN AZMAN | C57: 6 BIJAK | D57: BX58346 | E57: 1 | F57: 5 | G57: 9 | H57: 6 | I57: 9 | J57: 9 | K57: 8 | L57: 4 | M57: 7 | N57: Sederhana | O57: 50 | P57: Sederhana | Q57: 40 | R57: =G58*10 -> 50 | S57: =H58*10 -> 50 | T57: =I58*10 -> 60 | U57: =J58*10 -> 60 | V57: =K58*10 -> 60 | W57: =L58*10 -> 50 | X57: =M58*10 -> 60
A58: 49 | B58: MUHAMMAD HAZIQ BIN ASRUL APENDI | C58: 6 BIJAK | D58: BX58194 | E58: 3 | F58: 5 | G58: 5 | H58: 5 | I58: 6 | J58: 6 | K58: 6 | L58: 5 | M58: 6 | N58: Tinggi | O58: 90 | P58: Tinggi | Q58: 70 | R58: =#REF!*10 -> #REF! | S58: =#REF!*10 -> #REF! | T58: =#REF!*10 -> #REF! | U58: =#REF!*10 -> #REF! | V58: =#REF!*10 -> #REF! | W58: =#REF!*10 -> #REF! | X58: =#REF!*10 -> #REF!
A59: 50 | B59: MUHAMMAD HUSSAINI BIN MOHD BUKORI | C59: 6 BIJAK | D59: BX30836 | E59: 1 | F59: 7 | G59: 7 | H59: 6 | I59: 6 | J59: 8 | K59: 9 | L59: 1 | M59: 6 | N59: Rendah | O59: 80 | P59: Tinggi | Q59: 80 | R59: =G59*10 -> 70 | S59: =H59*10 -> 60 | T59: =I59*10 -> 60 | U59: =J59*10 -> 80 | V59: =K59*10 -> 90 | W59: =L59*10 -> 10 | X59: =M59*10 -> 60
A60: 51 | B60: MUHAMMAD IQBAL BIN NASIR | C60: 6 BIJAK | D60: BX58343 | E60: 5 | F60: 6 | G60: 3 | H60: 5 | I60: 5 | J60: 5 | K60: 8 | L60: 3 | M60: 6 | N60: Tinggi | O60: 100 | P60: Tinggi | Q60: 100 | R60: =G60*10 -> 30 | S60: =H60*10 -> 50 | T60: =I60*10 -> 50 | U60: =J60*10 -> 50 | V60: =K60*10 -> 80 | W60: =L60*10 -> 30 | X60: =M60*10 -> 60
A61: 52 | B61: MUHAMMAD IRFAN BIN ABDULLAH | C61: 6 BIJAK | D61: CA36859 | E61: 2 | F61: 7 | G61: 7 | H61: 6 | I61: 3 | J61: 8 | K61: 6 | L61: 4 | M61: 8 | N61: Sederhana | O61: 60 | P61: Sederhana | Q61: 70 | R61: =G61*10 -> 70 | S61: =H61*10 -> 60 | T61: =I61*10 -> 30 | U61: =J61*10 -> 80 | V61: =K61*10 -> 60 | W61: =L61*10 -> 40 | X61: =M61*10 -> 80
A62: 53 | B62: MUHAMMAD IZZ IRFAN BIN MOHD AFANDI | C62: 6 BIJAK | D62: BY41908 | E62: 1 | F62: 5 | G62: 8 | H62: 7 | I62: 7 | J62: 8 | K62: 8 | L62: 3 | M62: 6 | N62: Sederhana | O62: 90 | P62: Tinggi | Q62: 80 | R62: =G62*10 -> 80 | S62: =H62*10 -> 70 | T62: =I62*10 -> 70 | U62: =J62*10 -> 80 | V62: =K62*10 -> 80 | W62: =L62*10 -> 30 | X62: =M62*10 -> 60
A63: 54 | B63: MUHAMMAD MIKHAIL BIN ZURAIDI | C63: 6 BIJAK | D63: BX62203 | E63: 1 | F63: 3 | G63: 5 | H63: 5 | I63: 8 | J63: 6 | K63: 6 | L63: 4 | M63: 8 | N63: Tinggi | O63: 90 | P63: Tinggi | Q63: 60 | R63: =G63*10 -> 50 | S63: =H63*10 -> 50 | T63: =I63*10 -> 80 | U63: =J63*10 -> 60 | V63: =K63*10 -> 60 | W63: =L63*10 -> 40 | X63: =M63*10 -> 80
A64: 55 | B64: NUR AQILAH BATRISYIA BINTI NORDIN | C64: 6 BIJAK | D64: BU16491 | E64: 6 | F64: 8 | G64: 8 | H64: 7 | I64: 9 | J64: 9 | K64: 6 | L64: 2 | M64: 6 | N64: Tinggi | O64: 100 | P64: Tinggi | Q64: 80 | R64: =G64*10 -> 80 | S64: =H64*10 -> 70 | T64: =I64*10 -> 90 | U64: =J64*10 -> 90 | V64: =K64*10 -> 60 | W64: =L64*10 -> 20 | X64: =M64*10 -> 60
A65: 56 | B65: NUR HIDAYAH BINTI ABDULLAH | C65: 6 BIJAK | D65: BY53314 | E65: 3 | F65: 6 | G65: 10 | H65: 7 | I65: 8 | J65: 5 | K65: 7 | L65: 3 | M65: 9 | N65: Tinggi | O65: 90 | P65: Tinggi | Q65: 50 | R65: =G65*10 -> 100 | S65: =H65*10 -> 70 | T65: =I65*10 -> 80 | U65: =J65*10 -> 50 | V65: =K65*10 -> 70 | W65: =L65*10 -> 30 | X65: =M65*10 -> 90
A66: 57 | B66: NUR IRIS MARISSA BINTI KAMARULPIDAUH | C66: 6 BIJAK | D66: CA05821 | E66: 7 | F66: 8 | G66: 10 | H66: 5 | I66: 8 | J66: 7 | K66: 6 | L66: 8 | M66: 9 | N66: Tinggi | O66: 90 | P66: Tinggi | Q66: 80 | R66: =G66*10 -> 100 | S66: =H66*10 -> 50 | T66: =I66*10 -> 80 | U66: =J66*10 -> 70 | V66: =K66*10 -> 60 | W66: =L66*10 -> 80 | X66: =M66*10 -> 90
A67: 58 | B67: NUR NABILA MAISARA BINTI MOHAMAD FITRI | C67: 6 BIJAK | D67: CB48355 | E67: 6 | F67: 9 | G67: 8 | H67: 6 | I67: 8 | J67: 9 | K67: 8 | L67: 7 | M67: 9 | N67: Sederhana | O67: 80 | P67: Tinggi | Q67: 40 | R67: =G67*10 -> 80 | S67: =H67*10 -> 60 | T67: =I67*10 -> 80 | U67: =J67*10 -> 90 | V67: =K67*10 -> 80 | W67: =L67*10 -> 70 | X67: =M67*10 -> 90
A68: 59 | B68: NURFARISHA ALEYA BINTI MOHD FIKRI | C68: 6 BIJAK | D68: CA34441 | E68: 4 | F68: 7 | G68: 5 | H68: 3 | I68: 7 | J68: 8 | K68: 5 | L68: 2 | M68: 7 | N68: Sederhana | O68: 50 | P68: Sederhana | Q68: 80 | R68: =G68*10 -> 50 | S68: =H68*10 -> 30 | T68: =I68*10 -> 70 | U68: =J68*10 -> 80 | V68: =K68*10 -> 50 | W68: =L68*10 -> 20 | X68: =M68*10 -> 70
A69: 60 | B69: NURSYAFIQA AMIRAH BINTI HUSSIN | C69: 6 BIJAK | D69: BX58337 | E69: 3 | F69: 6 | G69: 9 | H69: 3 | I69: 10 | J69: 5 | K69: 7 | L69: 5 | M69: 8 | N69: Tinggi | O69: 50 | P69: Sederhana | Q69: 60 | R69: =G69*10 -> 90 | S69: =H69*10 -> 30 | T69: =I69*10 -> 100 | U69: =J69*10 -> 50 | V69: =K69*10 -> 70 | W69: =L69*10 -> 50 | X69: =M69*10 -> 80
A70: 61 | B70: NURUL SYAFIQAH ASMIDA BINTI ABDULLAH | C70: 6 BIJAK | D70: BY51821 | E70: 5 | F70: 6 | G70: 5 | H70: 6 | I70: 6 | J70: 4 | K70: 7 | L70: 9 | M70: 4 | N70: Rendah | O70: 100 | P70: Tinggi | Q70: 60 | R70: =G70*10 -> 50 | S70: =H70*10 -> 60 | T70: =I70*10 -> 60 | U70: =J70*10 -> 40 | V70: =K70*10 -> 70 | W70: =L70*10 -> 90 | X70: =M70*10 -> 40
... A74: 65 | B74: UMMU ABIHA BINTI NORHISYAM | C74: 6 BIJAK | D74: CC49011 | E74: 6 | F74: 4 | G74: 8 | H74: 8 | I74: 7 | J74: 10 | K74: 6 | L74: 5 | M74: 10 | N74: Tinggi | O74: 60 | P74: Sederhana | Q74: 90 | R74: =G74*10 -> 80 | S74: =H74*10 -> 80 | T74: =I74*10 -> 70 | U74: =J74*10 -> 100 | V74: =K74*10 -> 60 | W74: =L74*10 -> 50 | X74: =M74*10 -> 100
A75: 66 | N75: Sederhana | O75: 80 | P75: Tinggi | Q75: 60 | R75: =G75*10 -> 0 | S75: =H75*10 -> 0 | T75: =I75*10 -> 0 | U75: =J75*10 -> 0 | V75: =K75*10 -> 0 | W75: =L75*10 -> 0 | X75: =M75*10 -> 0
A76: 67 | N76: Sederhana | O76: 80 | P76: Tinggi | Q76: 60 | R76: =G76*10 -> 0 | S76: =H76*10 -> 0 | T76: =I76*10 -> 0 | U76: =J76*10 -> 0 | V76: =K76*10 -> 0 | W76: =L76*10 -> 0 | X76: =M76*10 -> 0
A77: 68 | N77: Sederhana | O77: 100 | P77: Tinggi | Q77: 90 | R77: =G77*10 -> 0 | S77: =H77*10 -> 0 | T77: =I77*10 -> 0 | U77: =J77*10 -> 0 | V77: =K77*10 -> 0 | W77: =L77*10 -> 0 | X77: =M77*10 -> 0
A78: 69 | N78: Sederhana | O78: 50 | P78: Sederhana | Q78: 80 | R78: =G78*10 -> 0 | S78: =H78*10 -> 0 | T78: =I78*10 -> 0 | U78: =J78*10 -> 0 | V78: =K78*10 -> 0 | W78: =L78*10 -> 0 | X78: =M78*10 -> 0
A79: 70 | N79: Sederhana | O79: 80 | P79: Tinggi | Q79: 100 | R79: =G79*10 -> 0 | S79: =H79*10 -> 0 | T79: =I79*10 -> 0 | U79: =J79*10 -> 0 | V79: =K79*10 -> 0 | W79: =L79*10 -> 0 | X79: =M79*10 -> 0
A80: 1 | N80: Sederhana | O80: 60 | P80: Sederhana | Q80: 50 | R80: Sederhana | S80: =H80*10 -> 0 | T80: =I80*10 -> 0 | U80: =J80*10 -> 0 | V80: =K80*10 -> 0 | W80: =L80*10 -> 0 | X80: =M80*10 -> 0
A81: 2 | N81: Tinggi | O81: 100 | P81: Tinggi | Q81: 70 | R81: Sederhana | S81: =H81*10 -> 0 | T81: =I81*10 -> 0 | U81: =J81*10 -> 0 | V81: =K81*10 -> 0 | W81: =L81*10 -> 0 | X81: =M81*10 -> 0
A82: 3 | N82: Sederhana | O82: 80 | P82: Tinggi | Q82: 70 | R82: Sederhana | S82: =H82*10 -> 0 | T82: =I82*10 -> 0 | U82: =J82*10 -> 0 | V82: =K82*10 -> 0 | W82: =L82*10 -> 0 | X82: =M82*10 -> 0
A83: 4 | N83: Rendah | O83: 10 | P83: Rendah | Q83: 70 | R83: Sederhana | S83: =H83*10 -> 0 | T83: =I83*10 -> 0 | U83: =J83*10 -> 0 | V83: =K83*10 -> 0 | W83: =L83*10 -> 0 | X83: =M83*10 -> 0
A84: 5 | N84: Rendah | O84: 80 | P84: Tinggi | Q84: 100 | R84: Tinggi | S84: =H84*10 -> 0 | T84: =I84*10 -> 0 | U84: =J84*10 -> 0 | V84: =K84*10 -> 0 | W84: =L84*10 -> 0 | X84: =M84*10 -> 0
A85: 6 | N85: Tinggi | O85: 80 | P85: Tinggi | Q85: 50 | R85: Sederhana | S85: =H85*10 -> 0 | T85: =I85*10 -> 0 | U85: =J85*10 -> 0 | V85: =K85*10 -> 0 | W85: =L85*10 -> 0 | X85: =M85*10 -> 0
A86: 7 | N86: Sederhana | O86: 80 | P86: Tinggi | Q86: 20 | R86: Rendah | S86: =H86*10 -> 0 | T86: =I86*10 -> 0 | U86: =J86*10 -> 0 | V86: =K86*10 -> 0 | W86: =L86*10 -> 0 | X86: =M86*10 -> 0
A87: 8 | N87: Sederhana | O87: 60 | P87: Sederhana | Q87: 50 | R87: Sederhana | S87: =H87*10 -> 0 | T87: =I87*10 -> 0 | U87: =J87*10 -> 0 | V87: =K87*10 -> 0 | W87: =L87*10 -> 0 | X87: =M87*10 -> 0
A88: 9 | N88: Sederhana | O88: 60 | P88: Sederhana | Q88: 80 | R88: Tinggi | S88: =H88*10 -> 0 | T88: =I88*10 -> 0 | U88: =J88*10 -> 0 | V88: =K88*10 -> 0 | W88: =L88*10 -> 0 | X88: =M88*10 -> 0
A89: 10 | N89: Tinggi | O89: 70 | P89: Sederhana | Q89: 70 | R89: Sederhana | S89: =H89*10 -> 0 | T89: =I89*10 -> 0 | U89: =J89*10 -> 0 | V89: =K89*10 -> 0 | W89: =L89*10 -> 0 | X89: =M89*10 -> 0
A90: 11 | N90: Sederhana | O90: 70 | P90: Sederhana | Q90: 70 | R90: Sederhana | S90: =H90*10 -> 0 | T90: =I90*10 -> 0 | U90: =J90*10 -> 0 | V90: =K90*10 -> 0 | W90: =L90*10 -> 0 | X90: =M90*10 -> 0
A91: 12 | N91: Tinggi | O91: 40 | P91: Rendah | Q91: 70 | R91: Sederhana | S91: =H91*10 -> 0 | T91: =I91*10 -> 0 | U91: =J91*10 -> 0 | V91: =K91*10 -> 0 | W91: =L91*10 -> 0 | X91: =M91*10 -> 0
... A114: 35 | N114: Sederhana | O114: 50 | P114: Sederhana | Q114: 50 | R114: Sederhana | S114: =H114*10 -> 0 | T114: =I114*10 -> 0 | U114: =J114*10 -> 0 | V114: =K114*10 -> 0 | W114: =L114*10 -> 0 | X114: =M114*10 -> 0
A115: 1 | N115: Sederhana | O115: 90 | P115: Tinggi | Q115: =F115*10 -> 0 | R115: =G115*10 -> 0 | S115: =H115*10 -> 0 | T115: =I115*10 -> 0 | U115: =J115*10 -> 0 | V115: =K115*10 -> 0 | W115: =L115*10 -> 0 | X115: =M115*10 -> 0
A116: 2 | N116: Tinggi | O116: 80 | P116: Tinggi | Q116: =F116*10 -> 0 | R116: =G116*10 -> 0 | S116: =H116*10 -> 0 | T116: =I116*10 -> 0 | U116: =J116*10 -> 0 | V116: =K116*10 -> 0 | W116: =L116*10 -> 0 | X116: =M116*10 -> 0
A117: 3 | N117: Rendah | O117: 40 | P117: Rendah | Q117: =F117*10 -> 0 | R117: =G117*10 -> 0 | S117: =H117*10 -> 0 | T117: =I117*10 -> 0 | U117: =J117*10 -> 0 | V117: =K117*10 -> 0 | W117: =L117*10 -> 0 | X117: =M117*10 -> 0
A118: 4 | N118: Tinggi | O118: 50 | P118: Sederhana | Q118: =F118*10 -> 0 | R118: =G118*10 -> 0 | S118: =H118*10 -> 0 | T118: =I118*10 -> 0 | U118: =J118*10 -> 0 | V118: =K118*10 -> 0 | W118: =L118*10 -> 0 | X118: =M118*10 -> 0
A119: 5 | N119: Tinggi | O119: 90 | P119: Tinggi | Q119: =F119*10 -> 0 | R119: =G119*10 -> 0 | S119: =H119*10 -> 0 | T119: =I119*10 -> 0 | U119: =J119*10 -> 0 | V119: =K119*10 -> 0 | W119: =L119*10 -> 0 | X119: =M119*10 -> 0
A120: 6 | N120: Sederhana | O120: 80 | P120: Tinggi | Q120: =F120*10 -> 0 | R120: =G120*10 -> 0 | S120: =H120*10 -> 0 | T120: =I120*10 -> 0 | U120: =J120*10 -> 0 | V120: =K120*10 -> 0 | W120: =L120*10 -> 0 | X120: =M120*10 -> 0
A121: 7 | N121: Sederhana | O121: 90 | P121: Tinggi | Q121: =F121*10 -> 0 | R121: =G121*10 -> 0 | S121: =H121*10 -> 0 | T121: =I121*10 -> 0 | U121: =J121*10 -> 0 | V121: =K121*10 -> 0 | W121: =L121*10 -> 0 | X121: =M121*10 -> 0
A122: 8 | N122: Tinggi | O122: 60 | P122: Sederhana | Q122: =F122*10 -> 0 | R122: =G122*10 -> 0 | S122: =H122*10 -> 0 | T122: =I122*10 -> 0 | U122: =J122*10 -> 0 | V122: =K122*10 -> 0 | W122: =L122*10 -> 0 | X122: =M122*10 -> 0
A123: 9 | N123: Tinggi | O123: 70 | P123: Sederhana | Q123: =F123*10 -> 0 | R123: =G123*10 -> 0 | S123: =H123*10 -> 0 | T123: =I123*10 -> 0 | U123: =J123*10 -> 0 | V123: =K123*10 -> 0 | W123: =L123*10 -> 0 | X123: =M123*10 -> 0
A124: 10 | N124: Tinggi | O124: 80 | P124: Tinggi | Q124: =F124*10 -> 0 | R124: =G124*10 -> 0 | S124: =H124*10 -> 0 | T124: =I124*10 -> 0 | U124: =J124*10 -> 0 | V124: =K124*10 -> 0 | W124: =L124*10 -> 0 | X124: =M124*10 -> 0
A125: 11 | N125: Tinggi | O125: 80 | P125: Tinggi | Q125: =F125*10 -> 0 | R125: =G125*10 -> 0 | S125: =H125*10 -> 0 | T125: =I125*10 -> 0 | U125: =J125*10 -> 0 | V125: =K125*10 -> 0 | W125: =L125*10 -> 0 | X125: =M125*10 -> 0
A126: 12 | N126: Sederhana | O126: 50 | P126: Sederhana | Q126: =F126*10 -> 0 | R126: =G126*10 -> 0 | S126: =H126*10 -> 0 | T126: =I126*10 -> 0 | U126: =J126*10 -> 0 | V126: =K126*10 -> 0 | W126: =L126*10 -> 0 | X126: =M126*10 -> 0
... A136: 22 | N136: Tinggi | O136: 30 | P136: Rendah | Q136: =F136*10 -> 0 | R136: =G136*10 -> 0 | S136: =H136*10 -> 0 | T136: =I136*10 -> 0 | U136: =J136*10 -> 0 | V136: =K136*10 -> 0 | W136: =L136*10 -> 0 | X136: =M136*10 -> 0
A137: 23 | Q137: =F137*10 -> 0 | R137: =G137*10 -> 0 | S137: =H137*10 -> 0 | T137: =I137*10 -> 0 | U137: =J137*10 -> 0 | V137: =K137*10 -> 0 | W137: =L137*10 -> 0 | X137: =M137*10 -> 0
A138: 24 | N138: Sederhana | O138: 70 | P138: Sederhana | Q138: =F138*10 -> 0 | R138: =G138*10 -> 0 | S138: =H138*10 -> 0 | T138: =I138*10 -> 0 | U138: =J138*10 -> 0 | V138: =K138*10 -> 0 | W138: =L138*10 -> 0 | X138: =M138*10 -> 0
...

Sheet DATA TRANSIT
A7: PENYATA KEPUTUSAN PENTAKSIRAN PSIKOMETRIK
A8: UJIAN APTITUD TAHUN 6
A9: IINVENTORI KECERDASAN PELBAGAI (IKeP)
A10: TAHUN 2016
B12: NAMA SEKOLAH : | D12: =DATA!C2 -> SK FELDA PALONG 5
B13: KOD SEKOLAH : | D13: =DATA!C3 -> NBA6016
B14: KELAS : | D14: =IKeP!H20 -> 6 CERDIK | M14: =COUNTIF(DATA!C10:C510,$D$14) -> 33
A17: BIL | B17: NAMA MURID | C17: KELAS | D17: NO KAD PENGENALAN | E17: VL | F17: LM | G17: INTRA | H17: VR | I17: NAT | J17: INTER | K17: KINE | L17: MUZIK | M17: EKSIS | R17: NAMA SEK | S17: KOD SEK | T17: VL% | U17: LM% | V17: INTRA% | W17: VR% | X17: NAT% | Y17: INTER% | Z17: KINE% | AA17: MUZIK% | AB17: EKSIS%
A18: 1 | B18: {=IF(ROWS(B$18:B18)<=$M$14,INDEX(DATA!B$10:B$510,SMALL(IF(DATA!$C$10:$C$510=$D$14,ROW(DATA!$B$10:$B$510)-ROW(DATA!$B$10)+1),ROWS(B$18:B18))),"")} -> ABDUL KHAIRIL IZWAN BIN ABDUL KHALID | C18: {=IF(ROWS(C$18:C18)<=$M$14,INDEX(DATA!C$10:C$510,SMALL(IF(DATA!$C$10:$C$510=$D$14,ROW(DATA!$B$10:$B$510)-ROW(DATA!$B$10)+1),ROWS(C$18:C18))),"")} -> 6 CERDIK | D18: {=IF(ROWS(D$18:D18)<=$M$14,INDEX(DATA!D$10:D$510,SMALL(IF(DATA!$C$10:$C$510=$D$14,ROW(DATA!$B$10:$B$510)-ROW(DATA!$B$10)+1),ROWS(D$18:D18))),"")} -> BY54520 | E18: {=IF(ROWS(E$18:E18)<=$M$14,INDEX(DATA!E$10:E$510,SMALL(IF(DATA!$C$10:$C$510=$D$14,ROW(DATA!$B$10:$B$510)-ROW(DATA!$B$10)+1),ROWS(E$18:E18))),"")} -> 6 | F18: {=IF(ROWS(F$18:F18)<=$M$14,INDEX(DATA!F$10:F$510,SMALL(IF(DATA!$C$10:$C$510=$D$14,ROW(DATA!$B$10:$B$510)-ROW(DATA!$B$10)+1),ROWS(F$18:F18))),"")} -> 8 | G18: {=IF(ROWS(G$18:G18)<=$M$14,INDEX(DATA!G$10:G$510,SMALL(IF(DATA!$C$10:$C$510=$D$14,ROW(DATA!$B$10:$B$510)-ROW(DATA!$B$10)+1),ROWS(G$18:G18))),"")} -> 7 | H18: {=IF(ROWS(H$18:H18)<=$M$14,INDEX(DATA!H$10:H$510,SMALL(IF(DATA!$C$10:$C$510=$D$14,ROW(DATA!$B$10:$B$510)-ROW(DATA!$B$10)+1),ROWS(H$18:H18))),"")} -> 6 | I18: {=IF(ROWS(I$18:I18)<=$M$14,INDEX(DATA!I$10:I$510,SMALL(IF(DATA!$C$10:$C$510=$D$14,ROW(DATA!$B$10:$B$510)-ROW(DATA!$B$10)+1),ROWS(I$18:I18))),"")} -> 7 | ... M18: {=IF(ROWS(M$18:M18)<=$M$14,INDEX(DATA!M$10:M$510,SMALL(IF(DATA!$C$10:$C$510=$D$14,ROW(DATA!$B$10:$B$510)-ROW(DATA!$B$10)+1),ROWS(M$18:M18))),"")} -> 9 | R18: =DATA!$C$2 -> SK FELDA PALONG 5 | S18: =DATA!$C$3 -> NBA6016 | T18: ='PROFIL KELAS'!$E18 -> 60 | U18: ='PROFIL KELAS'!$G18 -> 80 | V18: ='PROFIL KELAS'!$I18 -> 70 | W18: ='PROFIL KELAS'!$K18 -> 60 | X18: ='PROFIL KELAS'!$M18 -> 70 | Y18: ='PROFIL KELAS'!$O18 -> 70 | Z18: ='PROFIL KELAS'!$Q18 -> 70 | AA18: ='PROFIL KELAS'!$S18 -> 60 | AB18: ='PROFIL KELAS'!$U18 -> 90
A19: 2 | B19: {=IF(ROWS(B$18:B19)<=$M$14,INDEX(DATA!B$10:B$510,SMALL(IF(DATA!$C$10:$C$510=$D$14,ROW(DATA!$B$10:$B$510)-ROW(DATA!$B$10)+1),ROWS(B$18:B19))),"")} -> AMEER SUFFIAN BIN MOHD RAZUAN | C19: {=IF(ROWS(C$18:C19)<=$M$14,INDEX(DATA!C$10:C$510,SMALL(IF(DATA!$C$10:$C$510=$D$14,ROW(DATA!$B$10:$B$510)-ROW(DATA!$B$10)+1),ROWS(C$18:C19))),"")} -> 6 CERDIK | D19: {=IF(ROWS(D$18:D19)<=$M$14,INDEX(DATA!D$10:D$510,SMALL(IF(DATA!$C$10:$C$510=$D$14,ROW(DATA!$B$10:$B$510)-ROW(DATA!$B$10)+1),ROWS(D$18:D19))),"")} -> CB48425 | E19: {=IF(ROWS(E$18:E19)<=$M$14,INDEX(DATA!E$10:E$510,SMALL(IF(DATA!$C$10:$C$510=$D$14,ROW(DATA!$B$10:$B$510)-ROW(DATA!$B$10)+1),ROWS(E$18:E19))),"")} -> 1 | F19: {=IF(ROWS(F$18:F19)<=$M$14,INDEX(DATA!F$10:F$510,SMALL(IF(DATA!$C$10:$C$510=$D$14,ROW(DATA!$B$10:$B$510)-ROW(DATA!$B$10)+1),ROWS(F$18:F19))),"")} -> 8 | G19: {=IF(ROWS(G$18:G19)<=$M$14,INDEX(DATA!G$10:G$510,SMALL(IF(DATA!$C$10:$C$510=$D$14,ROW(DATA!$B$10:$B$510)-ROW(DATA!$B$10)+1),ROWS(G$18:G19))),"")} -> 5 | H19: {=IF(ROWS(H$18:H19)<=$M$14,INDEX(DATA!H$10:H$510,SMALL(IF(DATA!$C$10:$C$510=$D$14,ROW(DATA!$B$10:$B$510)-ROW(DATA!$B$10)+1),ROWS(H$18:H19))),"")} -> 4 | I19: {=IF(ROWS(I$18:I19)<=$M$14,INDEX(DATA!I$10:I$510,SMALL(IF(DATA!$C$10:$C$510=$D$14,ROW(DATA!$B$10:$B$510)-ROW(DATA!$B$10)+1),ROWS(I$18:I19))),"")} -> 6 | ... M19: {=IF(ROWS(M$18:M19)<=$M$14,INDEX(DATA!M$10:M$510,SMALL(IF(DATA!$C$10:$C$510=$D$14,ROW(DATA!$B$10:$B$510)-ROW(DATA!$B$10)+1),ROWS(M$18:M19))),"")} -> 9 | R19: =DATA!$C$2 -> SK FELDA PALONG 5 | S19: =DATA!$C$3 -> NBA6016 | T19: ='PROFIL KELAS'!$E19 -> 10 | U19: ='PROFIL KELAS'!$G19 -> 80 | V19: ='PROFIL KELAS'!$I19 -> 50 | W19: ='PROFIL KELAS'!$K19 -> 40 | X19: ='PROFIL KELAS'!$M19 -> 60 | Y19: ='PROFIL KELAS'!$O19 -> 100 | Z19: ='PROFIL KELAS'!$Q19 -> 70 | AA19: ='PROFIL KELAS'!$S19 -> 70 | AB19: ='PROFIL KELAS'!$U19 -> 90
A20: 3 | B20: {=IF(ROWS(B$18:B20)<=$M$14,INDEX(DATA!B$10:B$510,SMALL(IF(DATA!$C$10:$C$510=$D$14,ROW(DATA!$B$10:$B$510)-ROW(DATA!$B$10)+1),ROWS(B$18:B20))),"")} -> AMEERA SAFFIAH BINTI MOHD RAZUAN | C20: {=IF(ROWS(C$18:C20)<=$M$14,INDEX(DATA!C$10:C$510,SMALL(IF(DATA!$C$10:$C$510=$D$14,ROW(DATA!$B$10:$B$510)-ROW(DATA!$B$10)+1),ROWS(C$18:C20))),"")} -> 6 CERDIK | D20: {=IF(ROWS(D$18:D20)<=$M$14,INDEX(DATA!D$10:D$510,SMALL(IF(DATA!$C$10:$C$510=$D$14,ROW(DATA!$B$10:$B$510)-ROW(DATA!$B$10)+1),ROWS(D$18:D20))),"")} -> CB48424 | E20: {=IF(ROWS(E$18:E20)<=$M$14,INDEX(DATA!E$10:E$510,SMALL(IF(DATA!$C$10:$C$510=$D$14,ROW(DATA!$B$10:$B$510)-ROW(DATA!$B$10)+1),ROWS(E$18:E20))),"")} -> 3 | F20: {=IF(ROWS(F$18:F20)<=$M$14,INDEX(DATA!F$10:F$510,SMALL(IF(DATA!$C$10:$C$510=$D$14,ROW(DATA!$B$10:$B$510)-ROW(DATA!$B$10)+1),ROWS(F$18:F20))),"")} -> 6 | G20: {=IF(ROWS(G$18:G20)<=$M$14,INDEX(DATA!G$10:G$510,SMALL(IF(DATA!$C$10:$C$510=$D$14,ROW(DATA!$B$10:$B$510)-ROW(DATA!$B$10)+1),ROWS(G$18:G20))),"")} -> 9 | H20: {=IF(ROWS(H$18:H20)<=$M$14,INDEX(DATA!H$10:H$510,SMALL(IF(DATA!$C$10:$C$510=$D$14,ROW(DATA!$B$10:$B$510)-ROW(DATA!$B$10)+1),ROWS(H$18:H20))),"")} -> 8 | I20: {=IF(ROWS(I$18:I20)<=$M$14,INDEX(DATA!I$10:I$510,SMALL(IF(DATA!$C$10:$C$510=$D$14,ROW(DATA!$B$10:$B$510)-ROW(DATA!$B$10)+1),ROWS(I$18:I20))),"")} -> 8 | ... M20: {=IF(ROWS(M$18:M20)<=$M$14,INDEX(DATA!M$10:M$510,SMALL(IF(DATA!$C$10:$C$510=$D$14,ROW(DATA!$B$10:$B$510)-ROW(DATA!$B$10)+1),ROWS(M$18:M20))),"")} -> 9 | R20: =DATA!$C$2 -> SK FELDA PALONG 5 | S20: =DATA!$C$3 -> NBA6016 | T20: ='PROFIL KELAS'!$E20 -> 30 | U20: ='PROFIL KELAS'!$G20 -> 60 | V20: ='PROFIL KELAS'!$I20 -> 90 | W20: ='PROFIL KELAS'!$K20 -> 80 | X20: ='PROFIL KELAS'!$M20 -> 80 | Y20: ='PROFIL KELAS'!$O20 -> 70 | Z20: ='PROFIL KELAS'!$Q20 -> 80 | AA20: ='PROFIL KELAS'!$S20 -> 40 | AB20: ='PROFIL KELAS'!$U20 -> 90
A21: 4 | B21: {=IF(ROWS(B$18:B21)<=$M$14,INDEX(DATA!B$10:B$510,SMALL(IF(DATA!$C$10:$C$510=$D$14,ROW(DATA!$B$10:$B$510)-ROW(DATA!$B$10)+1),ROWS(B$18:B21))),"")} -> DARWISY ZULHILMI BIN SHAHIDAN | C21: {=IF(ROWS(C$18:C21)<=$M$14,INDEX(DATA!C$10:C$510,SMALL(IF(DATA!$C$10:$C$510=$D$14,ROW(DATA!$B$10:$B$510)-ROW(DATA!$B$10)+1),ROWS(C$18:C21))),"")} -> 6 CERDIK | D21: {=IF(ROWS(D$18:D21)<=$M$14,INDEX(DATA!D$10:D$510,SMALL(IF(DATA!$C$10:$C$510=$D$14,ROW(DATA!$B$10:$B$510)-ROW(DATA!$B$10)+1),ROWS(D$18:D21))),"")} -> BY54836 | E21: {=IF(ROWS(E$18:E21)<=$M$14,INDEX(DATA!E$10:E$510,SMALL(IF(DATA!$C$10:$C$510=$D$14,ROW(DATA!$B$10:$B$510)-ROW(DATA!$B$10)+1),ROWS(E$18:E21))),"")} -> 2 | F21: {=IF(ROWS(F$18:F21)<=$M$14,INDEX(DATA!F$10:F$510,SMALL(IF(DATA!$C$10:$C$510=$D$14,ROW(DATA!$B$10:$B$510)-ROW(DATA!$B$10)+1),ROWS(F$18:F21))),"")} -> 8 | G21: {=IF(ROWS(G$18:G21)<=$M$14,INDEX(DATA!G$10:G$510,SMALL(IF(DATA!$C$10:$C$510=$D$14,ROW(DATA!$B$10:$B$510)-ROW(DATA!$B$10)+1),ROWS(G$18:G21))),"")} -> 8 | H21: {=IF(ROWS(H$18:H21)<=$M$14,INDEX(DATA!H$10:H$510,SMALL(IF(DATA!$C$10:$C$510=$D$14,ROW(DATA!$B$10:$B$510)-ROW(DATA!$B$10)+1),ROWS(H$18:H21))),"")} -> 5 | I21: {=IF(ROWS(I$18:I21)<=$M$14,INDEX(DATA!I$10:I$510,SMALL(IF(DATA!$C$10:$C$510=$D$14,ROW(DATA!$B$10:$B$510)-ROW(DATA!$B$10)+1),ROWS(I$18:I21))),"")} -> 10 | ... M21: {=IF(ROWS(M$18:M21)<=$M$14,INDEX(DATA!M$10:M$510,SMALL(IF(DATA!$C$10:$C$510=$D$14,ROW(DATA!$B$10:$B$510)-ROW(DATA!$B$10)+1),ROWS(M$18:M21))),"")} -> 10 | R21: =DATA!$C$2 -> SK FELDA PALONG 5 | S21: =DATA!$C$3 -> NBA6016 | T21: ='PROFIL KELAS'!$E21 -> 20 | U21: ='PROFIL KELAS'!$G21 -> 80 | V21: ='PROFIL KELAS'!$I21 -> 80 | W21: ='PROFIL KELAS'!$K21 -> 50 | X21: ='PROFIL KELAS'!$M21 -> 100 | Y21: ='PROFIL KELAS'!$O21 -> 60 | Z21: ='PROFIL KELAS'!$Q21 -> 70 | AA21: ='PROFIL KELAS'!$S21 -> 40 | AB21: ='PROFIL KELAS'!$U21 -> 100
A22: 5 | B22: {=IF(ROWS(B$18:B22)<=$M$14,INDEX(DATA!B$10:B$510,SMALL(IF(DATA!$C$10:$C$510=$D$14,ROW(DATA!$B$10:$B$510)-ROW(DATA!$B$10)+1),ROWS(B$18:B22))),"")} -> DELISHA HANA BINTI AZMAN | C22: {=IF(ROWS(C$18:C22)<=$M$14,INDEX(DATA!C$10:C$510,SMALL(IF(DATA!$C$10:$C$510=$D$14,ROW(DATA!$B$10:$B$510)-ROW(DATA!$B$10)+1),ROWS(C$18:C22))),"")} -> 6 CERDIK | D22: {=IF(ROWS(D$18:D22)<=$M$14,INDEX(DATA!D$10:D$510,SMALL(IF(DATA!$C$10:$C$510=$D$14,ROW(DATA!$B$10:$B$510)-ROW(DATA!$B$10)+1),ROWS(D$18:D22))),"")} -> BY54529 | E22: {=IF(ROWS(E$18:E22)<=$M$14,INDEX(DATA!E$10:E$510,SMALL(IF(DATA!$C$10:$C$510=$D$14,ROW(DATA!$B$10:$B$510)-ROW(DATA!$B$10)+1),ROWS(E$18:E22))),"")} -> 10 | F22: {=IF(ROWS(F$18:F22)<=$M$14,INDEX(DATA!F$10:F$510,SMALL(IF(DATA!$C$10:$C$510=$D$14,ROW(DATA!$B$10:$B$510)-ROW(DATA!$B$10)+1),ROWS(F$18:F22))),"")} -> 10 | G22: {=IF(ROWS(G$18:G22)<=$M$14,INDEX(DATA!G$10:G$510,SMALL(IF(DATA!$C$10:$C$510=$D$14,ROW(DATA!$B$10:$B$510)-ROW(DATA!$B$10)+1),ROWS(G$18:G22))),"")} -> 10 | H22: {=IF(ROWS(H$18:H22)<=$M$14,INDEX(DATA!H$10:H$510,SMALL(IF(DATA!$C$10:$C$510=$D$14,ROW(DATA!$B$10:$B$510)-ROW(DATA!$B$10)+1),ROWS(H$18:H22))),"")} -> 9 | I22: {=IF(ROWS(I$18:I22)<=$M$14,INDEX(DATA!I$10:I$510,SMALL(IF(DATA!$C$10:$C$510=$D$14,ROW(DATA!$B$10:$B$510)-ROW(DATA!$B$10)+1),ROWS(I$18:I22))),"")} -> 10 | ... M22: {=IF(ROWS(M$18:M22)<=$M$14,INDEX(DATA!M$10:M$510,SMALL(IF(DATA!$C$10:$C$510=$D$14,ROW(DATA!$B$10:$B$510)-ROW(DATA!$B$10)+1),ROWS(M$18:M22))),"")} -> 8 | R22: =DATA!$C$2 -> SK FELDA PALONG 5 | S22: =DATA!$C$3 -> NBA6016 | T22: ='PROFIL KELAS'!$E22 -> 100 | U22: ='PROFIL KELAS'!$G22 -> 100 | V22: ='PROFIL KELAS'!$I22 -> 100 | W22: ='PROFIL KELAS'!$K22 -> 90 | X22: ='PROFIL KELAS'!$M22 -> 100 | Y22: ='PROFIL KELAS'!$O22 -> 90 | Z22: ='PROFIL KELAS'!$Q22 -> 80 | AA22: ='PROFIL KELAS'!$S22 -> 90 | AB22: ='PROFIL KELAS'!$U22 -> 80
A23: 6 | B23: {=IF(ROWS(B$18:B23)<=$M$14,INDEX(DATA!B$10:B$510,SMALL(IF(DATA!$C$10:$C$510=$D$14,ROW(DATA!$B$10:$B$510)-ROW(DATA!$B$10)+1),ROWS(B$18:B23))),"")} -> HARRAZ ZAKWAN BIN MOHD IMRANSYAH | C23: {=IF(ROWS(C$18:C23)<=$M$14,INDEX(DATA!C$10:C$510,SMALL(IF(DATA!$C$10:$C$510=$D$14,ROW(DATA!$B$10:$B$510)-ROW(DATA!$B$10)+1),ROWS(C$18:C23))),"")} -> 6 CERDIK | D23: {=IF(ROWS(D$18:D23)<=$M$14,INDEX(DATA!D$10:D$510,SMALL(IF(DATA!$C$10:$C$510=$D$14,ROW(DATA!$B$10:$B$510)-ROW(DATA!$B$10)+1),ROWS(D$18:D23))),"")} -> BX58302 | E23: {=IF(ROWS(E$18:E23)<=$M$14,INDEX(DATA!E$10:E$510,SMALL(IF(DATA!$C$10:$C$510=$D$14,ROW(DATA!$B$10:$B$510)-ROW(DATA!$B$10)+1),ROWS(E$18:E23))),"")} -> 3 | F23: {=IF(ROWS(F$18:F23)<=$M$14,INDEX(DATA!F$10:F$510,SMALL(IF(DATA!$C$10:$C$510=$D$14,ROW(DATA!$B$10:$B$510)-ROW(DATA!$B$10)+1),ROWS(F$18:F23))),"")} -> 8 | G23: {=IF(ROWS(G$18:G23)<=$M$14,INDEX(DATA!G$10:G$510,SMALL(IF(DATA!$C$10:$C$510=$D$14,ROW(DATA!$B$10:$B$510)-ROW(DATA!$B$10)+1),ROWS(G$18:G23))),"")} -> 8 | H23: {=IF(ROWS(H$18:H23)<=$M$14,INDEX(DATA!H$10:H$510,SMALL(IF(DATA!$C$10:$C$510=$D$14,ROW(DATA!$B$10:$B$510)-ROW(DATA!$B$10)+1),ROWS(H$18:H23))),"")} -> 7 | I23: {=IF(ROWS(I$18:I23)<=$M$14,INDEX(DATA!I$10:I$510,SMALL(IF(DATA!$C$10:$C$510=$D$14,ROW(DATA!$B$10:$B$510)-ROW(DATA!$B$10)+1),ROWS(I$18:I23))),"")} -> 5 | ... M23: {=IF(ROWS(M$18:M23)<=$M$14,INDEX(DATA!M$10:M$510,SMALL(IF(DATA!$C$10:$C$510=$D$14,ROW(DATA!$B$10:$B$510)-ROW(DATA!$B$10)+1),ROWS(M$18:M23))),"")} -> 9 | R23: =DATA!$C$2 -> SK FELDA PALONG 5 | S23: =DATA!$C$3 -> NBA6016 | T23: ='PROFIL KELAS'!$E23 -> 30 | U23: ='PROFIL KELAS'!$G23 -> 80 | V23: ='PROFIL KELAS'!$I23 -> 80 | W23: ='PROFIL KELAS'!$K23 -> 70 | X23: ='PROFIL KELAS'!$M23 -> 50 | Y23: ='PROFIL KELAS'!$O23 -> 70 | Z23: ='PROFIL KELAS'!$Q23 -> 50 | AA23: ='PROFIL KELAS'!$S23 -> 70 | AB23: ='PROFIL KELAS'!$U23 -> 90
A24: 7 | B24: {=IF(ROWS(B$18:B24)<=$M$14,INDEX(DATA!B$10:B$510,SMALL(IF(DATA!$C$10:$C$510=$D$14,ROW(DATA!$B$10:$B$510)-ROW(DATA!$B$10)+1),ROWS(B$18:B24))),"")} -> MOHAMAD DANISH DANIAL BIN MOHAMAD NASARUDDIN | C24: {=IF(ROWS(C$18:C24)<=$M$14,INDEX(DATA!C$10:C$510,SMALL(IF(DATA!$C$10:$C$510=$D$14,ROW(DATA!$B$10:$B$510)-ROW(DATA!$B$10)+1),ROWS(C$18:C24))),"")} -> 6 CERDIK | D24: {=IF(ROWS(D$18:D24)<=$M$14,INDEX(DATA!D$10:D$510,SMALL(IF(DATA!$C$10:$C$510=$D$14,ROW(DATA!$B$10:$B$510)-ROW(DATA!$B$10)+1),ROWS(D$18:D24))),"")} -> CA19676 | E24: {=IF(ROWS(E$18:E24)<=$M$14,INDEX(DATA!E$10:E$510,SMALL(IF(DATA!$C$10:$C$510=$D$14,ROW(DATA!$B$10:$B$510)-ROW(DATA!$B$10)+1),ROWS(E$18:E24))),"")} -> 3 | F24: {=IF(ROWS(F$18:F24)<=$M$14,INDEX(DATA!F$10:F$510,SMALL(IF(DATA!$C$10:$C$510=$D$14,ROW(DATA!$B$10:$B$510)-ROW(DATA!$B$10)+1),ROWS(F$18:F24))),"")} -> 6 | G24: {=IF(ROWS(G$18:G24)<=$M$14,INDEX(DATA!G$10:G$510,SMALL(IF(DATA!$C$10:$C$510=$D$14,ROW(DATA!$B$10:$B$510)-ROW(DATA!$B$10)+1),ROWS(G$18:G24))),"")} -> 8 | H24: {=IF(ROWS(H$18:H24)<=$M$14,INDEX(DATA!H$10:H$510,SMALL(IF(DATA!$C$10:$C$510=$D$14,ROW(DATA!$B$10:$B$510)-ROW(DATA!$B$10)+1),ROWS(H$18:H24))),"")} -> 6 | I24: {=IF(ROWS(I$18:I24)<=$M$14,INDEX(DATA!I$10:I$510,SMALL(IF(DATA!$C$10:$C$510=$D$14,ROW(DATA!$B$10:$B$510)-ROW(DATA!$B$10)+1),ROWS(I$18:I24))),"")} -> 10 | ... M24: {=IF(ROWS(M$18:M24)<=$M$14,INDEX(DATA!M$10:M$510,SMALL(IF(DATA!$C$10:$C$510=$D$14,ROW(DATA!$B$10:$B$510)-ROW(DATA!$B$10)+1),ROWS(M$18:M24))),"")} -> 9 | R24: =DATA!$C$2 -> SK FELDA PALONG 5 | S24: =DATA!$C$3 -> NBA6016 | T24: ='PROFIL KELAS'!$E24 -> 30 | U24: ='PROFIL KELAS'!$G24 -> 60 | V24: ='PROFIL KELAS'!$I24 -> 80 | W24: ='PROFIL KELAS'!$K24 -> 60 | X24: ='PROFIL KELAS'!$M24 -> 100 | Y24: ='PROFIL KELAS'!$O24 -> 70 | Z24: ='PROFIL KELAS'!$Q24 -> 60 | AA24: ='PROFIL KELAS'!$S24 -> 40 | AB24: ='PROFIL KELAS'!$U24 -> 90
A25: 8 | B25: {=IF(ROWS(B$18:B25)<=$M$14,INDEX(DATA!B$10:B$510,SMALL(IF(DATA!$C$10:$C$510=$D$14,ROW(DATA!$B$10:$B$510)-ROW(DATA!$B$10)+1),ROWS(B$18:B25))),"")} -> MOHAMAD MIKHAIL HAQIMI BIN ABDULLAH | C25: {=IF(ROWS(C$18:C25)<=$M$14,INDEX(DATA!C$10:C$510,SMALL(IF(DATA!$C$10:$C$510=$D$14,ROW(DATA!$B$10:$B$510)-ROW(DATA!$B$10)+1),ROWS(C$18:C25))),"")} -> 6 CERDIK | D25: {=IF(ROWS(D$18:D25)<=$M$14,INDEX(DATA!D$10:D$510,SMALL(IF(DATA!$C$10:$C$510=$D$14,ROW(DATA!$B$10:$B$510)-ROW(DATA!$B$10)+1),ROWS(D$18:D25))),"")} -> CC54134 | E25: {=IF(ROWS(E$18:E25)<=$M$14,INDEX(DATA!E$10:E$510,SMALL(IF(DATA!$C$10:$C$510=$D$14,ROW(DATA!$B$10:$B$510)-ROW(DATA!$B$10)+1),ROWS(E$18:E25))),"")} -> 1 | F25: {=IF(ROWS(F$18:F25)<=$M$14,INDEX(DATA!F$10:F$510,SMALL(IF(DATA!$C$10:$C$510=$D$14,ROW(DATA!$B$10:$B$510)-ROW(DATA!$B$10)+1),ROWS(F$18:F25))),"")} -> 10 | G25: {=IF(ROWS(G$18:G25)<=$M$14,INDEX(DATA!G$10:G$510,SMALL(IF(DATA!$C$10:$C$510=$D$14,ROW(DATA!$B$10:$B$510)-ROW(DATA!$B$10)+1),ROWS(G$18:G25))),"")} -> 9 | H25: {=IF(ROWS(H$18:H25)<=$M$14,INDEX(DATA!H$10:H$510,SMALL(IF(DATA!$C$10:$C$510=$D$14,ROW(DATA!$B$10:$B$510)-ROW(DATA!$B$10)+1),ROWS(H$18:H25))),"")} -> 8 | I25: {=IF(ROWS(I$18:I25)<=$M$14,INDEX(DATA!I$10:I$510,SMALL(IF(DATA!$C$10:$C$510=$D$14,ROW(DATA!$B$10:$B$510)-ROW(DATA!$B$10)+1),ROWS(I$18:I25))),"")} -> 7 | ... M25: {=IF(ROWS(M$18:M25)<=$M$14,INDEX(DATA!M$10:M$510,SMALL(IF(DATA!$C$10:$C$510=$D$14,ROW(DATA!$B$10:$B$510)-ROW(DATA!$B$10)+1),ROWS(M$18:M25))),"")} -> 10 | R25: =DATA!$C$2 -> SK FELDA PALONG 5 | S25: =DATA!$C$3 -> NBA6016 | T25: ='PROFIL KELAS'!$E25 -> 10 | U25: ='PROFIL KELAS'!$G25 -> 100 | V25: ='PROFIL KELAS'!$I25 -> 90 | W25: ='PROFIL KELAS'!$K25 -> 80 | X25: ='PROFIL KELAS'!$M25 -> 70 | Y25: ='PROFIL KELAS'!$O25 -> 80 | Z25: ='PROFIL KELAS'!$Q25 -> 90 | AA25: ='PROFIL KELAS'!$S25 -> 40 | AB25: ='PROFIL KELAS'!$U25 -> 100
A26: 9 | B26: {=IF(ROWS(B$18:B26)<=$M$14,INDEX(DATA!B$10:B$510,SMALL(IF(DATA!$C$10:$C$510=$D$14,ROW(DATA!$B$10:$B$510)-ROW(DATA!$B$10)+1),ROWS(B$18:B26))),"")} -> MUHAMMAD AMIN BIN ISKANDAR | C26: {=IF(ROWS(C$18:C26)<=$M$14,INDEX(DATA!C$10:C$510,SMALL(IF(DATA!$C$10:$C$510=$D$14,ROW(DATA!$B$10:$B$510)-ROW(DATA!$B$10)+1),ROWS(C$18:C26))),"")} -> 6 CERDIK | D26: {=IF(ROWS(D$18:D26)<=$M$14,INDEX(DATA!D$10:D$510,SMALL(IF(DATA!$C$10:$C$510=$D$14,ROW(DATA!$B$10:$B$510)-ROW(DATA!$B$10)+1),ROWS(D$18:D26))),"")} -> CA39174 | E26: {=IF(ROWS(E$18:E26)<=$M$14,INDEX(DATA!E$10:E$510,SMALL(IF(DATA!$C$10:$C$510=$D$14,ROW(DATA!$B$10:$B$510)-ROW(DATA!$B$10)+1),ROWS(E$18:E26))),"")} -> 0 | F26: {=IF(ROWS(F$18:F26)<=$M$14,INDEX(DATA!F$10:F$510,SMALL(IF(DATA!$C$10:$C$510=$D$14,ROW(DATA!$B$10:$B$510)-ROW(DATA!$B$10)+1),ROWS(F$18:F26))),"")} -> 3 | G26: {=IF(ROWS(G$18:G26)<=$M$14,INDEX(DATA!G$10:G$510,SMALL(IF(DATA!$C$10:$C$510=$D$14,ROW(DATA!$B$10:$B$510)-ROW(DATA!$B$10)+1),ROWS(G$18:G26))),"")} -> 8 | H26: {=IF(ROWS(H$18:H26)<=$M$14,INDEX(DATA!H$10:H$510,SMALL(IF(DATA!$C$10:$C$510=$D$14,ROW(DATA!$B$10:$B$510)-ROW(DATA!$B$10)+1),ROWS(H$18:H26))),"")} -> 3 | I26: {=IF(ROWS(I$18:I26)<=$M$14,INDEX(DATA!I$10:I$510,SMALL(IF(DATA!$C$10:$C$510=$D$14,ROW(DATA!$B$10:$B$510)-ROW(DATA!$B$10)+1),ROWS(I$18:I26))),"")} -> 4 | ... M26: {=IF(ROWS(M$18:M26)<=$M$14,INDEX(DATA!M$10:M$510,SMALL(IF(DATA!$C$10:$C$510=$D$14,ROW(DATA!$B$10:$B$510)-ROW(DATA!$B$10)+1),ROWS(M$18:M26))),"")} -> 8 | R26: =DATA!$C$2 -> SK FELDA PALONG 5 | S26: =DATA!$C$3 -> NBA6016 | T26: ='PROFIL KELAS'!$E26 -> 0 | U26: ='PROFIL KELAS'!$G26 -> 30 | V26: ='PROFIL KELAS'!$I26 -> 80 | W26: ='PROFIL KELAS'!$K26 -> 30 | X26: ='PROFIL KELAS'!$M26 -> 40 | Y26: ='PROFIL KELAS'!$O26 -> 70 | Z26: ='PROFIL KELAS'!$Q26 -> 40 | AA26: ='PROFIL KELAS'!$S26 -> 30 | AB26: ='PROFIL KELAS'!$U26 -> 80
A27: 10 | B27: {=IF(ROWS(B$18:B27)<=$M$14,INDEX(DATA!B$10:B$510,SMALL(IF(DATA!$C$10:$C$510=$D$14,ROW(DATA!$B$10:$B$510)-ROW(DATA!$B$10)+1),ROWS(B$18:B27))),"")} -> MUHAMMAD AMIRUL IMAN BIN ADAM | C27: {=IF(ROWS(C$18:C27)<=$M$14,INDEX(DATA!C$10:C$510,SMALL(IF(DATA!$C$10:$C$510=$D$14,ROW(DATA!$B$10:$B$510)-ROW(DATA!$B$10)+1),ROWS(C$18:C27))),"")} -> 6 CERDIK | D27: {=IF(ROWS(D$18:D27)<=$M$14,INDEX(DATA!D$10:D$510,SMALL(IF(DATA!$C$10:$C$510=$D$14,ROW(DATA!$B$10:$B$510)-ROW(DATA!$B$10)+1),ROWS(D$18:D27))),"")} -> BC59535 | E27: {=IF(ROWS(E$18:E27)<=$M$14,INDEX(DATA!E$10:E$510,SMALL(IF(DATA!$C$10:$C$510=$D$14,ROW(DATA!$B$10:$B$510)-ROW(DATA!$B$10)+1),ROWS(E$18:E27))),"")} -> 2 | F27: {=IF(ROWS(F$18:F27)<=$M$14,INDEX(DATA!F$10:F$510,SMALL(IF(DATA!$C$10:$C$510=$D$14,ROW(DATA!$B$10:$B$510)-ROW(DATA!$B$10)+1),ROWS(F$18:F27))),"")} -> 4 | G27: {=IF(ROWS(G$18:G27)<=$M$14,INDEX(DATA!G$10:G$510,SMALL(IF(DATA!$C$10:$C$510=$D$14,ROW(DATA!$B$10:$B$510)-ROW(DATA!$B$10)+1),ROWS(G$18:G27))),"")} -> 7 | H27: {=IF(ROWS(H$18:H27)<=$M$14,INDEX(DATA!H$10:H$510,SMALL(IF(DATA!$C$10:$C$510=$D$14,ROW(DATA!$B$10:$B$510)-ROW(DATA!$B$10)+1),ROWS(H$18:H27))),"")} -> 4 | I27: {=IF(ROWS(I$18:I27)<=$M$14,INDEX(DATA!I$10:I$510,SMALL(IF(DATA!$C$10:$C$510=$D$14,ROW(DATA!$B$10:$B$510)-ROW(DATA!$B$10)+1),ROWS(I$18:I27))),"")} -> 2 | ... M27: {=IF(ROWS(M$18:M27)<=$M$14,INDEX(DATA!M$10:M$510,SMALL(IF(DATA!$C$10:$C$510=$D$14,ROW(DATA!$B$10:$B$510)-ROW(DATA!$B$10)+1),ROWS(M$18:M27))),"")} -> 4 | R27: =DATA!$C$2 -> SK FELDA PALONG 5 | S27: =DATA!$C$3 -> NBA6016 | T27: ='PROFIL KELAS'!$E27 -> 20 | U27: ='PROFIL KELAS'!$G27 -> 40 | V27: ='PROFIL KELAS'!$I27 -> 70 | W27: ='PROFIL KELAS'!$K27 -> 40 | X27: ='PROFIL KELAS'!$M27 -> 20 | Y27: ='PROFIL KELAS'!$O27 -> 60 | Z27: ='PROFIL KELAS'!$Q27 -> 60 | AA27: ='PROFIL KELAS'!$S27 -> 40 | AB27: ='PROFIL KELAS'!$U27 -> 40
A28: 11 | B28: {=IF(ROWS(B$18:B28)<=$M$14,INDEX(DATA!B$10:B$510,SMALL(IF(DATA!$C$10:$C$510=$D$14,ROW(DATA!$B$10:$B$510)-ROW(DATA!$B$10)+1),ROWS(B$18:B28))),"")} -> MUHAMMAD DANIEL ASHRAF BIN ABDULLAH | C28: {=IF(ROWS(C$18:C28)<=$M$14,INDEX(DATA!C$10:C$510,SMALL(IF(DATA!$C$10:$C$510=$D$14,ROW(DATA!$B$10:$B$510)-ROW(DATA!$B$10)+1),ROWS(C$18:C28))),"")} -> 6 CERDIK | D28: {=IF(ROWS(D$18:D28)<=$M$14,INDEX(DATA!D$10:D$510,SMALL(IF(DATA!$C$10:$C$510=$D$14,ROW(DATA!$B$10:$B$510)-ROW(DATA!$B$10)+1),ROWS(D$18:D28))),"")} -> BY53034 | E28: {=IF(ROWS(E$18:E28)<=$M$14,INDEX(DATA!E$10:E$510,SMALL(IF(DATA!$C$10:$C$510=$D$14,ROW(DATA!$B$10:$B$510)-ROW(DATA!$B$10)+1),ROWS(E$18:E28))),"")} -> 5 | F28: {=IF(ROWS(F$18:F28)<=$M$14,INDEX(DATA!F$10:F$510,SMALL(IF(DATA!$C$10:$C$510=$D$14,ROW(DATA!$B$10:$B$510)-ROW(DATA!$B$10)+1),ROWS(F$18:F28))),"")} -> 8 | G28: {=IF(ROWS(G$18:G28)<=$M$14,INDEX(DATA!G$10:G$510,SMALL(IF(DATA!$C$10:$C$510=$D$14,ROW(DATA!$B$10:$B$510)-ROW(DATA!$B$10)+1),ROWS(G$18:G28))),"")} -> 7 | H28: {=IF(ROWS(H$18:H28)<=$M$14,INDEX(DATA!H$10:H$510,SMALL(IF(DATA!$C$10:$C$510=$D$14,ROW(DATA!$B$10:$B$510)-ROW(DATA!$B$10)+1),ROWS(H$18:H28))),"")} -> 8 | I28: {=IF(ROWS(I$18:I28)<=$M$14,INDEX(DATA!I$10:I$510,SMALL(IF(DATA!$C$10:$C$510=$D$14,ROW(DATA!$B$10:$B$510)-ROW(DATA!$B$10)+1),ROWS(I$18:I28))),"")} -> 8 | ... M28: {=IF(ROWS(M$18:M28)<=$M$14,INDEX(DATA!M$10:M$510,SMALL(IF(DATA!$C$10:$C$510=$D$14,ROW(DATA!$B$10:$B$510)-ROW(DATA!$B$10)+1),ROWS(M$18:M28))),"")} -> 9 | R28: =DATA!$C$2 -> SK FELDA PALONG 5 | S28: =DATA!$C$3 -> NBA6016 | T28: ='PROFIL KELAS'!$E28 -> 50 | U28: ='PROFIL KELAS'!$G28 -> 80 | V28: ='PROFIL KELAS'!$I28 -> 70 | W28: ='PROFIL KELAS'!$K28 -> 80 | X28: ='PROFIL KELAS'!$M28 -> 80 | Y28: ='PROFIL KELAS'!$O28 -> 80 | Z28: ='PROFIL KELAS'!$Q28 -> 70 | AA28: ='PROFIL KELAS'!$S28 -> 40 | AB28: ='PROFIL KELAS'!$U28 -> 90
A29: 12 | B29: {=IF(ROWS(B$18:B29)<=$M$14,INDEX(DATA!B$10:B$510,SMALL(IF(DATA!$C$10:$C$510=$D$14,ROW(DATA!$B$10:$B$510)-ROW(DATA!$B$10)+1),ROWS(B$18:B29))),"")} -> MUHAMMAD DENISH RIFQIE BIN ABD RAHMAN | C29: {=IF(ROWS(C$18:C29)<=$M$14,INDEX(DATA!C$10:C$510,SMALL(IF(DATA!$C$10:$C$510=$D$14,ROW(DATA!$B$10:$B$510)-ROW(DATA!$B$10)+1),ROWS(C$18:C29))),"")} -> 6 CERDIK | D29: {=IF(ROWS(D$18:D29)<=$M$14,INDEX(DATA!D$10:D$510,SMALL(IF(DATA!$C$10:$C$510=$D$14,ROW(DATA!$B$10:$B$510)-ROW(DATA!$B$10)+1),ROWS(D$18:D29))),"")} -> BY55932 | E29: {=IF(ROWS(E$18:E29)<=$M$14,INDEX(DATA!E$10:E$510,SMALL(IF(DATA!$C$10:$C$510=$D$14,ROW(DATA!$B$10:$B$510)-ROW(DATA!$B$10)+1),ROWS(E$18:E29))),"")} -> 2 | F29: {=IF(ROWS(F$18:F29)<=$M$14,INDEX(DATA!F$10:F$510,SMALL(IF(DATA!$C$10:$C$510=$D$14,ROW(DATA!$B$10:$B$510)-ROW(DATA!$B$10)+1),ROWS(F$18:F29))),"")} -> 7 | G29: {=IF(ROWS(G$18:G29)<=$M$14,INDEX(DATA!G$10:G$510,SMALL(IF(DATA!$C$10:$C$510=$D$14,ROW(DATA!$B$10:$B$510)-ROW(DATA!$B$10)+1),ROWS(G$18:G29))),"")} -> 5 | H29: {=IF(ROWS(H$18:H29)<=$M$14,INDEX(DATA!H$10:H$510,SMALL(IF(DATA!$C$10:$C$510=$D$14,ROW(DATA!$B$10:$B$510)-ROW(DATA!$B$10)+1),ROWS(H$18:H29))),"")} -> 6 | I29: {=IF(ROWS(I$18:I29)<=$M$14,INDEX(DATA!I$10:I$510,SMALL(IF(DATA!$C$10:$C$510=$D$14,ROW(DATA!$B$10:$B$510)-ROW(DATA!$B$10)+1),ROWS(I$18:I29))),"")} -> 10 | ... M29: {=IF(ROWS(M$18:M29)<=$M$14,INDEX(DATA!M$10:M$510,SMALL(IF(DATA!$C$10:$C$510=$D$14,ROW(DATA!$B$10:$B$510)-ROW(DATA!$B$10)+1),ROWS(M$18:M29))),"")} -> 8 | R29: =DATA!$C$2 -> SK FELDA PALONG 5 | S29: =DATA!$C$3 -> NBA6016 | T29: ='PROFIL KELAS'!$E29 -> 20 | U29: ='PROFIL KELAS'!$G29 -> 70 | V29: ='PROFIL KELAS'!$I29 -> 50 | W29: ='PROFIL KELAS'!$K29 -> 60 | X29: ='PROFIL KELAS'!$M29 -> 100 | Y29: ='PROFIL KELAS'!$O29 -> 50 | Z29: ='PROFIL KELAS'!$Q29 -> 50 | AA29: ='PROFIL KELAS'!$S29 -> 10 | AB29: ='PROFIL KELAS'!$U29 -> 80
... A74: 57 | B74: {=IF(ROWS(B$18:B74)<=$M$14,INDEX(DATA!B$10:B$510,SMALL(IF(DATA!$C$10:$C$510=$D$14,ROW(DATA!$B$10:$B$510)-ROW(DATA!$B$10)+1),ROWS(B$18:B74))),"")} | C74: {=IF(ROWS(C$18:C74)<=$M$14,INDEX(DATA!C$10:C$510,SMALL(IF(DATA!$C$10:$C$510=$D$14,ROW(DATA!$B$10:$B$510)-ROW(DATA!$B$10)+1),ROWS(C$18:C74))),"")} | D74: {=IF(ROWS(D$18:D74)<=$M$14,INDEX(DATA!D$10:D$510,SMALL(IF(DATA!$C$10:$C$510=$D$14,ROW(DATA!$B$10:$B$510)-ROW(DATA!$B$10)+1),ROWS(D$18:D74))),"")} | E74: {=IF(ROWS(E$18:E74)<=$M$14,INDEX(DATA!E$10:E$510,SMALL(IF(DATA!$C$10:$C$510=$D$14,ROW(DATA!$B$10:$B$510)-ROW(DATA!$B$10)+1),ROWS(E$18:E74))),"")} | F74: {=IF(ROWS(F$18:F74)<=$M$14,INDEX(DATA!F$10:F$510,SMALL(IF(DATA!$C$10:$C$510=$D$14,ROW(DATA!$B$10:$B$510)-ROW(DATA!$B$10)+1),ROWS(F$18:F74))),"")} | G74: {=IF(ROWS(G$18:G74)<=$M$14,INDEX(DATA!G$10:G$510,SMALL(IF(DATA!$C$10:$C$510=$D$14,ROW(DATA!$B$10:$B$510)-ROW(DATA!$B$10)+1),ROWS(G$18:G74))),"")} | H74: {=IF(ROWS(H$18:H74)<=$M$14,INDEX(DATA!H$10:H$510,SMALL(IF(DATA!$C$10:$C$510=$D$14,ROW(DATA!$B$10:$B$510)-ROW(DATA!$B$10)+1),ROWS(H$18:H74))),"")} | I74: {=IF(ROWS(I$18:I74)<=$M$14,INDEX(DATA!I$10:I$510,SMALL(IF(DATA!$C$10:$C$510=$D$14,ROW(DATA!$B$10:$B$510)-ROW(DATA!$B$10)+1),ROWS(I$18:I74))),"")} | ... M74: {=IF(ROWS(M$18:M74)<=$M$14,INDEX(DATA!M$10:M$510,SMALL(IF(DATA!$C$10:$C$510=$D$14,ROW(DATA!$B$10:$B$510)-ROW(DATA!$B$10)+1),ROWS(M$18:M74))),"")} | R74: =DATA!$C$2 -> SK FELDA PALONG 5 | S74: =DATA!$C$3 -> NBA6016 | T74: ='PROFIL KELAS'!$E74 | U74: ='PROFIL KELAS'!$G74 | V74: ='PROFIL KELAS'!$I74 | W74: ='PROFIL KELAS'!$K74 | X74: ='PROFIL KELAS'!$M74 | Y74: ='PROFIL KELAS'!$O74 | Z74: ='PROFIL KELAS'!$Q74 | AA74: ='PROFIL KELAS'!$S74 | AB74: ='PROFIL KELAS'!$U74
A75: 58 | B75: {=IF(ROWS(B$18:B75)<=$M$14,INDEX(DATA!B$10:B$510,SMALL(IF(DATA!$C$10:$C$510=$D$14,ROW(DATA!$B$10:$B$510)-ROW(DATA!$B$10)+1),ROWS(B$18:B75))),"")} | C75: {=IF(ROWS(C$18:C75)<=$M$14,INDEX(DATA!C$10:C$510,SMALL(IF(DATA!$C$10:$C$510=$D$14,ROW(DATA!$B$10:$B$510)-ROW(DATA!$B$10)+1),ROWS(C$18:C75))),"")} | D75: {=IF(ROWS(D$18:D75)<=$M$14,INDEX(DATA!D$10:D$510,SMALL(IF(DATA!$C$10:$C$510=$D$14,ROW(DATA!$B$10:$B$510)-ROW(DATA!$B$10)+1),ROWS(D$18:D75))),"")} | E75: {=IF(ROWS(E$18:E75)<=$M$14,INDEX(DATA!E$10:E$510,SMALL(IF(DATA!$C$10:$C$510=$D$14,ROW(DATA!$B$10:$B$510)-ROW(DATA!$B$10)+1),ROWS(E$18:E75))),"")} | F75: {=IF(ROWS(F$18:F75)<=$M$14,INDEX(DATA!F$10:F$510,SMALL(IF(DATA!$C$10:$C$510=$D$14,ROW(DATA!$B$10:$B$510)-ROW(DATA!$B$10)+1),ROWS(F$18:F75))),"")} | G75: {=IF(ROWS(G$18:G75)<=$M$14,INDEX(DATA!G$10:G$510,SMALL(IF(DATA!$C$10:$C$510=$D$14,ROW(DATA!$B$10:$B$510)-ROW(DATA!$B$10)+1),ROWS(G$18:G75))),"")} | H75: {=IF(ROWS(H$18:H75)<=$M$14,INDEX(DATA!H$10:H$510,SMALL(IF(DATA!$C$10:$C$510=$D$14,ROW(DATA!$B$10:$B$510)-ROW(DATA!$B$10)+1),ROWS(H$18:H75))),"")} | I75: {=IF(ROWS(I$18:I75)<=$M$14,INDEX(DATA!I$10:I$510,SMALL(IF(DATA!$C$10:$C$510=$D$14,ROW(DATA!$B$10:$B$510)-ROW(DATA!$B$10)+1),ROWS(I$18:I75))),"")} | ... L75: {=IF(ROWS(L$18:L75)<=$M$14,INDEX(DATA!L$10:L$510,SMALL(IF(DATA!$C$10:$C$510=$D$14,ROW(DATA!$B$10:$B$510)-ROW(DATA!$B$10)+1),ROWS(L$18:L75))),"")} | M75: =IF(ROWS(M$18:M75)<=$M$14,INDEX(DATA!M$10:M$510,SMALL(IF(DATA!$C$10:$C$510=$D$14,ROW(DATA!$B$10:$B$510)-ROW(DATA!$B$10)+1),ROWS(M$18:M75))),"") | R75: =DATA!$C$2 -> SK FELDA PALONG 5 | S75: =DATA!$C$3 -> NBA6016 | T75: ='PROFIL KELAS'!$E75 | U75: ='PROFIL KELAS'!$G75 | V75: ='PROFIL KELAS'!$I75 | W75: ='PROFIL KELAS'!$K75 | X75: ='PROFIL KELAS'!$M75 | Y75: ='PROFIL KELAS'!$O75 | Z75: ='PROFIL KELAS'!$Q75 | AA75: ='PROFIL KELAS'!$S75 | AB75: ='PROFIL KELAS'!$U75
A76: 59 | B76: {=IF(ROWS(B$18:B76)<=$M$14,INDEX(DATA!B$10:B$510,SMALL(IF(DATA!$C$10:$C$510=$D$14,ROW(DATA!$B$10:$B$510)-ROW(DATA!$B$10)+1),ROWS(B$18:B76))),"")} | C76: {=IF(ROWS(C$18:C76)<=$M$14,INDEX(DATA!C$10:C$510,SMALL(IF(DATA!$C$10:$C$510=$D$14,ROW(DATA!$B$10:$B$510)-ROW(DATA!$B$10)+1),ROWS(C$18:C76))),"")} | D76: {=IF(ROWS(D$18:D76)<=$M$14,INDEX(DATA!D$10:D$510,SMALL(IF(DATA!$C$10:$C$510=$D$14,ROW(DATA!$B$10:$B$510)-ROW(DATA!$B$10)+1),ROWS(D$18:D76))),"")} | E76: {=IF(ROWS(E$18:E76)<=$M$14,INDEX(DATA!E$10:E$510,SMALL(IF(DATA!$C$10:$C$510=$D$14,ROW(DATA!$B$10:$B$510)-ROW(DATA!$B$10)+1),ROWS(E$18:E76))),"")} | F76: {=IF(ROWS(F$18:F76)<=$M$14,INDEX(DATA!F$10:F$510,SMALL(IF(DATA!$C$10:$C$510=$D$14,ROW(DATA!$B$10:$B$510)-ROW(DATA!$B$10)+1),ROWS(F$18:F76))),"")} | G76: {=IF(ROWS(G$18:G76)<=$M$14,INDEX(DATA!G$10:G$510,SMALL(IF(DATA!$C$10:$C$510=$D$14,ROW(DATA!$B$10:$B$510)-ROW(DATA!$B$10)+1),ROWS(G$18:G76))),"")} | H76: {=IF(ROWS(H$18:H76)<=$M$14,INDEX(DATA!H$10:H$510,SMALL(IF(DATA!$C$10:$C$510=$D$14,ROW(DATA!$B$10:$B$510)-ROW(DATA!$B$10)+1),ROWS(H$18:H76))),"")} | I76: {=IF(ROWS(I$18:I76)<=$M$14,INDEX(DATA!I$10:I$510,SMALL(IF(DATA!$C$10:$C$510=$D$14,ROW(DATA!$B$10:$B$510)-ROW(DATA!$B$10)+1),ROWS(I$18:I76))),"")} | ... M76: {=IF(ROWS(M$18:M76)<=$M$14,INDEX(DATA!M$10:M$510,SMALL(IF(DATA!$C$10:$C$510=$D$14,ROW(DATA!$B$10:$B$510)-ROW(DATA!$B$10)+1),ROWS(M$18:M76))),"")} | R76: =DATA!$C$2 -> SK FELDA PALONG 5 | S76: =DATA!$C$3 -> NBA6016 | T76: ='PROFIL KELAS'!$E76 | U76: ='PROFIL KELAS'!$G76 | V76: ='PROFIL KELAS'!$I76 | W76: ='PROFIL KELAS'!$K76 | X76: ='PROFIL KELAS'!$M76 | Y76: ='PROFIL KELAS'!$O76 | Z76: ='PROFIL KELAS'!$Q76 | AA76: ='PROFIL KELAS'!$S76 | AB76: ='PROFIL KELAS'!$U76
A77: 60 | B77: {=IF(ROWS(B$18:B77)<=$M$14,INDEX(DATA!B$10:B$510,SMALL(IF(DATA!$C$10:$C$510=$D$14,ROW(DATA!$B$10:$B$510)-ROW(DATA!$B$10)+1),ROWS(B$18:B77))),"")} | C77: {=IF(ROWS(C$18:C77)<=$M$14,INDEX(DATA!C$10:C$510,SMALL(IF(DATA!$C$10:$C$510=$D$14,ROW(DATA!$B$10:$B$510)-ROW(DATA!$B$10)+1),ROWS(C$18:C77))),"")} | D77: {=IF(ROWS(D$18:D77)<=$M$14,INDEX(DATA!D$10:D$510,SMALL(IF(DATA!$C$10:$C$510=$D$14,ROW(DATA!$B$10:$B$510)-ROW(DATA!$B$10)+1),ROWS(D$18:D77))),"")} | E77: {=IF(ROWS(E$18:E77)<=$M$14,INDEX(DATA!E$10:E$510,SMALL(IF(DATA!$C$10:$C$510=$D$14,ROW(DATA!$B$10:$B$510)-ROW(DATA!$B$10)+1),ROWS(E$18:E77))),"")} | F77: {=IF(ROWS(F$18:F77)<=$M$14,INDEX(DATA!F$10:F$510,SMALL(IF(DATA!$C$10:$C$510=$D$14,ROW(DATA!$B$10:$B$510)-ROW(DATA!$B$10)+1),ROWS(F$18:F77))),"")} | G77: {=IF(ROWS(G$18:G77)<=$M$14,INDEX(DATA!G$10:G$510,SMALL(IF(DATA!$C$10:$C$510=$D$14,ROW(DATA!$B$10:$B$510)-ROW(DATA!$B$10)+1),ROWS(G$18:G77))),"")} | H77: {=IF(ROWS(H$18:H77)<=$M$14,INDEX(DATA!H$10:H$510,SMALL(IF(DATA!$C$10:$C$510=$D$14,ROW(DATA!$B$10:$B$510)-ROW(DATA!$B$10)+1),ROWS(H$18:H77))),"")} | I77: {=IF(ROWS(I$18:I77)<=$M$14,INDEX(DATA!I$10:I$510,SMALL(IF(DATA!$C$10:$C$510=$D$14,ROW(DATA!$B$10:$B$510)-ROW(DATA!$B$10)+1),ROWS(I$18:I77))),"")} | ... M77: {=IF(ROWS(M$18:M77)<=$M$14,INDEX(DATA!M$10:M$510,SMALL(IF(DATA!$C$10:$C$510=$D$14,ROW(DATA!$B$10:$B$510)-ROW(DATA!$B$10)+1),ROWS(M$18:M77))),"")} | R77: =DATA!$C$2 -> SK FELDA PALONG 5 | S77: =DATA!$C$3 -> NBA6016 | T77: ='PROFIL KELAS'!$E77 | U77: ='PROFIL KELAS'!$G77 | V77: ='PROFIL KELAS'!$I77 | W77: ='PROFIL KELAS'!$K77 | X77: ='PROFIL KELAS'!$M77 | Y77: ='PROFIL KELAS'!$O77 | Z77: ='PROFIL KELAS'!$Q77 | AA77: ='PROFIL KELAS'!$S77 | AB77: ='PROFIL KELAS'!$U77
B79: MARKAH | D79: GRED | E79: VL | F79: LM | G79: INTRA | H79: VR | I79: NAT | J79: INTER | K79: KINE | L79: MUZIK | M79: EKSIS
B80: 0 | D80: R | E80: =COUNTIF($E$18:$E$77,D80) -> 0 | F80: =COUNTIF($F$18:$F77,D80) -> 0 | G80: =COUNTIF($G$18:$G$77,D80) -> 0 | H80: =COUNTIF($H$18:$H$77,D80) -> 0 | I80: =COUNTIF($I$18:$I$77,D80) -> 0 | J80: =COUNTIF($J$18:$J$77,D80) -> 0 | K80: =COUNTIF($K$18:$K$77,D80) -> 0 | L80: =COUNTIF($L$18:$L$77,D80) -> 0 | M80: =COUNTIF($M$18:$M$77,D80) -> 0
B81: 50 | D81: S | E81: =COUNTIF($E$18:$E$77,D81) -> 0 | F81: =COUNTIF($F$18:$F78,D81) -> 0 | G81: =COUNTIF($G$18:$G$77,D81) -> 0 | H81: =COUNTIF($H$18:$H$77,D81) -> 0 | I81: =COUNTIF($I$18:$I$77,D81) -> 0 | J81: =COUNTIF($J$18:$J$77,D81) -> 0 | K81: =COUNTIF($K$18:$K$77,D81) -> 0 | L81: =COUNTIF($L$18:$L$77,D81) -> 0 | M81: =COUNTIF($M$18:$M$77,D81) -> 0
B82: 75 | D82: T | E82: =COUNTIF($E$18:$E$77,D82) -> 0 | F82: =COUNTIF($F$18:$F79,D82) -> 0 | G82: =COUNTIF($G$18:$G$77,D82) -> 0 | H82: =COUNTIF($H$18:$H$77,D82) -> 0 | I82: =COUNTIF($I$18:$I$77,D82) -> 0 | J82: =COUNTIF($J$18:$J$77,D82) -> 0 | K82: =COUNTIF($K$18:$K$77,D82) -> 0 | L82: =COUNTIF($L$18:$L$77,D82) -> 0 | M82: =COUNTIF($M$18:$M$77,D82) -> 0
D83: JUMLAH | E83: =SUM(E80:E82) -> 0 | F83: =SUM(F80:F82) -> 0 | G83: =SUM(G80:G82) -> 0 | H83: =SUM(H80:H82) -> 0 | I83: =SUM(I80:I82) -> 0 | J83: =SUM(J80:J82) -> 0 | K83: =SUM(K80:K82) -> 0 | L83: =SUM(L80:L82) -> 0 | M83: =SUM(M80:M82) -> 0
A85: Disediakan oleh,
A88: Tandatangan:
A89: Nama Guru:
A91: Tarikh:

Sheet PROFIL KELAS
A7: PELAPORAN PENTAKSIRAN PSIKOMETRIK
A8: UJIAN APTITUD TAHUN 6
A9: IINVENTORI KECERDASAN PELBAGAI (IKeP)
A10: TAHUN 2016
B12: NAMA SEKOLAH | D12: =DATA!C2 -> SK FELDA PALONG 5
B13: KOD SEKOLAH | D13: =DATA!C3 -> NBA6016
B14: KELAS | D14: ='DATA TRANSIT'!D14 -> 6 CERDIK | Q14: JUMLAH MURID | T14: : | U14: =COUNTIF(DATA!C10:C409,$D$14) -> 33
A17: BIL | B17: NAMA MURID | C17: KELAS | D17: NO KAD PENGENALAN | E17: VL% | F17: GRED | G17: LM% | H17: GRED | I17: INTRA % | J17: GRED | K17: VR % | L17: GRED | M17: NAT % | N17: GRED | O17: INTER% | P17: GRED | Q17: KINE% | R17: GRED | S17: MUZIK% | T17: GRED | U17: EKSIS% | V17: GRED
A18: 1 | B18: ='DATA TRANSIT'!B18 -> ABDUL KHAIRIL IZWAN BIN ABDUL KHALID | C18: ='DATA TRANSIT'!C18 -> 6 CERDIK | D18: ='DATA TRANSIT'!D18 -> BY54520 | E18: =IFERROR(SUM('DATA TRANSIT'!E18/10*100),"") -> 60 | F18: =IFERROR(VLOOKUP(E18,GRED1,3,TRUE),"") -> S | G18: =IFERROR(SUM('DATA TRANSIT'!F18/10*100),"") -> 80 | H18: =IFERROR(VLOOKUP(G18,GRED1,3,TRUE),"") -> T | I18: =IFERROR(SUM('DATA TRANSIT'!G18/10*100),"") -> 70 | J18: =IFERROR(VLOOKUP(I18,GRED1,3,TRUE),"") -> S | K18: =IFERROR(SUM('DATA TRANSIT'!H18/10*100),"") -> 60 | L18: =IFERROR(VLOOKUP(K18,GRED1,3,TRUE),"") -> S | M18: =IFERROR(SUM('DATA TRANSIT'!I18/10*100),"") -> 70 | N18: =IFERROR(VLOOKUP(M18,GRED1,3,TRUE),"") -> S | O18: =IFERROR(SUM('DATA TRANSIT'!J18/10*100),"") -> 70 | P18: =IFERROR(VLOOKUP(O18,GRED1,3,TRUE),"") -> S | Q18: =IFERROR(SUM('DATA TRANSIT'!K18/10*100),"") -> 70 | R18: =IFERROR(VLOOKUP(Q18,GRED1,3,TRUE),"") -> S | S18: =IFERROR(SUM('DATA TRANSIT'!L18/10*100),"") -> 60 | T18: =IFERROR(VLOOKUP(S18,GRED1,3,TRUE),"") -> S | U18: =IFERROR(SUM('DATA TRANSIT'!M18/10*100),"") -> 90 | V18: =IFERROR(VLOOKUP(U18,GRED1,3,TRUE),"") -> T
A19: 2 | B19: ='DATA TRANSIT'!B19 -> AMEER SUFFIAN BIN MOHD RAZUAN | C19: ='DATA TRANSIT'!C19 -> 6 CERDIK | D19: ='DATA TRANSIT'!D19 -> CB48425 | E19: =IFERROR(SUM('DATA TRANSIT'!E19/10*100),"") -> 10 | F19: =IFERROR(VLOOKUP(E19,GRED1,3,TRUE),"") -> R | G19: =IFERROR(SUM('DATA TRANSIT'!F19/10*100),"") -> 80 | H19: =IFERROR(VLOOKUP(G19,GRED1,3,TRUE),"") -> T | I19: =IFERROR(SUM('DATA TRANSIT'!G19/10*100),"") -> 50 | J19: =IFERROR(VLOOKUP(I19,GRED1,3,TRUE),"") -> S | K19: =IFERROR(SUM('DATA TRANSIT'!H19/10*100),"") -> 40 | L19: =IFERROR(VLOOKUP(K19,GRED1,3,TRUE),"") -> R | M19: =IFERROR(SUM('DATA TRANSIT'!I19/10*100),"") -> 60 | N19: =IFERROR(VLOOKUP(M19,GRED1,3,TRUE),"") -> S | O19: =IFERROR(SUM('DATA TRANSIT'!J19/10*100),"") -> 100 | P19: =IFERROR(VLOOKUP(O19,GRED1,3,TRUE),"") -> T | Q19: =IFERROR(SUM('DATA TRANSIT'!K19/10*100),"") -> 70 | R19: =IFERROR(VLOOKUP(Q19,GRED1,3,TRUE),"") -> S | S19: =IFERROR(SUM('DATA TRANSIT'!L19/10*100),"") -> 70 | T19: =IFERROR(VLOOKUP(S19,GRED1,3,TRUE),"") -> S | U19: =IFERROR(SUM('DATA TRANSIT'!M19/10*100),"") -> 90 | V19: =IFERROR(VLOOKUP(U19,GRED1,3,TRUE),"") -> T
A20: 3 | B20: ='DATA TRANSIT'!B20 -> AMEERA SAFFIAH BINTI MOHD RAZUAN | C20: ='DATA TRANSIT'!C20 -> 6 CERDIK | D20: ='DATA TRANSIT'!D20 -> CB48424 | E20: =IFERROR(SUM('DATA TRANSIT'!E20/10*100),"") -> 30 | F20: =IFERROR(VLOOKUP(E20,GRED1,3,TRUE),"") -> R | G20: =IFERROR(SUM('DATA TRANSIT'!F20/10*100),"") -> 60 | H20: =IFERROR(VLOOKUP(G20,GRED1,3,TRUE),"") -> S | I20: =IFERROR(SUM('DATA TRANSIT'!G20/10*100),"") -> 90 | J20: =IFERROR(VLOOKUP(I20,GRED1,3,TRUE),"") -> T | K20: =IFERROR(SUM('DATA TRANSIT'!H20/10*100),"") -> 80 | L20: =IFERROR(VLOOKUP(K20,GRED1,3,TRUE),"") -> T | M20: =IFERROR(SUM('DATA TRANSIT'!I20/10*100),"") -> 80 | N20: =IFERROR(VLOOKUP(M20,GRED1,3,TRUE),"") -> T | O20: =IFERROR(SUM('DATA TRANSIT'!J20/10*100),"") -> 70 | P20: =IFERROR(VLOOKUP(O20,GRED1,3,TRUE),"") -> S | Q20: =IFERROR(SUM('DATA TRANSIT'!K20/10*100),"") -> 80 | R20: =IFERROR(VLOOKUP(Q20,GRED1,3,TRUE),"") -> T | S20: =IFERROR(SUM('DATA TRANSIT'!L20/10*100),"") -> 40 | T20: =IFERROR(VLOOKUP(S20,GRED1,3,TRUE),"") -> R | U20: =IFERROR(SUM('DATA TRANSIT'!M20/10*100),"") -> 90 | V20: =IFERROR(VLOOKUP(U20,GRED1,3,TRUE),"") -> T
A21: 4 | B21: ='DATA TRANSIT'!B21 -> DARWISY ZULHILMI BIN SHAHIDAN | C21: ='DATA TRANSIT'!C21 -> 6 CERDIK | D21: ='DATA TRANSIT'!D21 -> BY54836 | E21: =IFERROR(SUM('DATA TRANSIT'!E21/10*100),"") -> 20 | F21: =IFERROR(VLOOKUP(E21,GRED1,3,TRUE),"") -> R | G21: =IFERROR(SUM('DATA TRANSIT'!F21/10*100),"") -> 80 | H21: =IFERROR(VLOOKUP(G21,GRED1,3,TRUE),"") -> T | I21: =IFERROR(SUM('DATA TRANSIT'!G21/10*100),"") -> 80 | J21: =IFERROR(VLOOKUP(I21,GRED1,3,TRUE),"") -> T | K21: =IFERROR(SUM('DATA TRANSIT'!H21/10*100),"") -> 50 | L21: =IFERROR(VLOOKUP(K21,GRED1,3,TRUE),"") -> S | M21: =IFERROR(SUM('DATA TRANSIT'!I21/10*100),"") -> 100 | N21: =IFERROR(VLOOKUP(M21,GRED1,3,TRUE),"") -> T | O21: =IFERROR(SUM('DATA TRANSIT'!J21/10*100),"") -> 60 | P21: =IFERROR(VLOOKUP(O21,GRED1,3,TRUE),"") -> S | Q21: =IFERROR(SUM('DATA TRANSIT'!K21/10*100),"") -> 70 | R21: =IFERROR(VLOOKUP(Q21,GRED1,3,TRUE),"") -> S | S21: =IFERROR(SUM('DATA TRANSIT'!L21/10*100),"") -> 40 | T21: =IFERROR(VLOOKUP(S21,GRED1,3,TRUE),"") -> R | U21: =IFERROR(SUM('DATA TRANSIT'!M21/10*100),"") -> 100 | V21: =IFERROR(VLOOKUP(U21,GRED1,3,TRUE),"") -> T
A22: 5 | B22: ='DATA TRANSIT'!B22 -> DELISHA HANA BINTI AZMAN | C22: ='DATA TRANSIT'!C22 -> 6 CERDIK | D22: ='DATA TRANSIT'!D22 -> BY54529 | E22: =IFERROR(SUM('DATA TRANSIT'!E22/10*100),"") -> 100 | F22: =IFERROR(VLOOKUP(E22,GRED1,3,TRUE),"") -> T | G22: =IFERROR(SUM('DATA TRANSIT'!F22/10*100),"") -> 100 | H22: =IFERROR(VLOOKUP(G22,GRED1,3,TRUE),"") -> T | I22: =IFERROR(SUM('DATA TRANSIT'!G22/10*100),"") -> 100 | J22: =IFERROR(VLOOKUP(I22,GRED1,3,TRUE),"") -> T | K22: =IFERROR(SUM('DATA TRANSIT'!H22/10*100),"") -> 90 | L22: =IFERROR(VLOOKUP(K22,GRED1,3,TRUE),"") -> T | M22: =IFERROR(SUM('DATA TRANSIT'!I22/10*100),"") -> 100 | N22: =IFERROR(VLOOKUP(M22,GRED1,3,TRUE),"") -> T | O22: =IFERROR(SUM('DATA TRANSIT'!J22/10*100),"") -> 90 | P22: =IFERROR(VLOOKUP(O22,GRED1,3,TRUE),"") -> T | Q22: =IFERROR(SUM('DATA TRANSIT'!K22/10*100),"") -> 80 | R22: =IFERROR(VLOOKUP(Q22,GRED1,3,TRUE),"") -> T | S22: =IFERROR(SUM('DATA TRANSIT'!L22/10*100),"") -> 90 | T22: =IFERROR(VLOOKUP(S22,GRED1,3,TRUE),"") -> T | U22: =IFERROR(SUM('DATA TRANSIT'!M22/10*100),"") -> 80 | V22: =IFERROR(VLOOKUP(U22,GRED1,3,TRUE),"") -> T
A23: 6 | B23: ='DATA TRANSIT'!B23 -> HARRAZ ZAKWAN BIN MOHD IMRANSYAH | C23: ='DATA TRANSIT'!C23 -> 6 CERDIK | D23: ='DATA TRANSIT'!D23 -> BX58302 | E23: =IFERROR(SUM('DATA TRANSIT'!E23/10*100),"") -> 30 | F23: =IFERROR(VLOOKUP(E23,GRED1,3,TRUE),"") -> R | G23: =IFERROR(SUM('DATA TRANSIT'!F23/10*100),"") -> 80 | H23: =IFERROR(VLOOKUP(G23,GRED1,3,TRUE),"") -> T | I23: =IFERROR(SUM('DATA TRANSIT'!G23/10*100),"") -> 80 | J23: =IFERROR(VLOOKUP(I23,GRED1,3,TRUE),"") -> T | K23: =IFERROR(SUM('DATA TRANSIT'!H23/10*100),"") -> 70 | L23: =IFERROR(VLOOKUP(K23,GRED1,3,TRUE),"") -> S | M23: =IFERROR(SUM('DATA TRANSIT'!I23/10*100),"") -> 50 | N23: =IFERROR(VLOOKUP(M23,GRED1,3,TRUE),"") -> S | O23: =IFERROR(SUM('DATA TRANSIT'!J23/10*100),"") -> 70 | P23: =IFERROR(VLOOKUP(O23,GRED1,3,TRUE),"") -> S | Q23: =IFERROR(SUM('DATA TRANSIT'!K23/10*100),"") -> 50 | R23: =IFERROR(VLOOKUP(Q23,GRED1,3,TRUE),"") -> S | S23: =IFERROR(SUM('DATA TRANSIT'!L23/10*100),"") -> 70 | T23: =IFERROR(VLOOKUP(S23,GRED1,3,TRUE),"") -> S | U23: =IFERROR(SUM('DATA TRANSIT'!M23/10*100),"") -> 90 | V23: =IFERROR(VLOOKUP(U23,GRED1,3,TRUE),"") -> T
A24: 7 | B24: ='DATA TRANSIT'!B24 -> MOHAMAD DANISH DANIAL BIN MOHAMAD NASARUDDIN | C24: ='DATA TRANSIT'!C24 -> 6 CERDIK | D24: ='DATA TRANSIT'!D24 -> CA19676 | E24: =IFERROR(SUM('DATA TRANSIT'!E24/10*100),"") -> 30 | F24: =IFERROR(VLOOKUP(E24,GRED1,3,TRUE),"") -> R | G24: =IFERROR(SUM('DATA TRANSIT'!F24/10*100),"") -> 60 | H24: =IFERROR(VLOOKUP(G24,GRED1,3,TRUE),"") -> S | I24: =IFERROR(SUM('DATA TRANSIT'!G24/10*100),"") -> 80 | J24: =IFERROR(VLOOKUP(I24,GRED1,3,TRUE),"") -> T | K24: =IFERROR(SUM('DATA TRANSIT'!H24/10*100),"") -> 60 | L24: =IFERROR(VLOOKUP(K24,GRED1,3,TRUE),"") -> S | M24: =IFERROR(SUM('DATA TRANSIT'!I24/10*100),"") -> 100 | N24: =IFERROR(VLOOKUP(M24,GRED1,3,TRUE),"") -> T | O24: =IFERROR(SUM('DATA TRANSIT'!J24/10*100),"") -> 70 | P24: =IFERROR(VLOOKUP(O24,GRED1,3,TRUE),"") -> S | Q24: =IFERROR(SUM('DATA TRANSIT'!K24/10*100),"") -> 60 | R24: =IFERROR(VLOOKUP(Q24,GRED1,3,TRUE),"") -> S | S24: =IFERROR(SUM('DATA TRANSIT'!L24/10*100),"") -> 40 | T24: =IFERROR(VLOOKUP(S24,GRED1,3,TRUE),"") -> R | U24: =IFERROR(SUM('DATA TRANSIT'!M24/10*100),"") -> 90 | V24: =IFERROR(VLOOKUP(U24,GRED1,3,TRUE),"") -> T
A25: 8 | B25: ='DATA TRANSIT'!B25 -> MOHAMAD MIKHAIL HAQIMI BIN ABDULLAH | C25: ='DATA TRANSIT'!C25 -> 6 CERDIK | D25: ='DATA TRANSIT'!D25 -> CC54134 | E25: =IFERROR(SUM('DATA TRANSIT'!E25/10*100),"") -> 10 | F25: =IFERROR(VLOOKUP(E25,GRED1,3,TRUE),"") -> R | G25: =IFERROR(SUM('DATA TRANSIT'!F25/10*100),"") -> 100 | H25: =IFERROR(VLOOKUP(G25,GRED1,3,TRUE),"") -> T | I25: =IFERROR(SUM('DATA TRANSIT'!G25/10*100),"") -> 90 | J25: =IFERROR(VLOOKUP(I25,GRED1,3,TRUE),"") -> T | K25: =IFERROR(SUM('DATA TRANSIT'!H25/10*100),"") -> 80 | L25: =IFERROR(VLOOKUP(K25,GRED1,3,TRUE),"") -> T | M25: =IFERROR(SUM('DATA TRANSIT'!I25/10*100),"") -> 70 | N25: =IFERROR(VLOOKUP(M25,GRED1,3,TRUE),"") -> S | O25: =IFERROR(SUM('DATA TRANSIT'!J25/10*100),"") -> 80 | P25: =IFERROR(VLOOKUP(O25,GRED1,3,TRUE),"") -> T | Q25: =IFERROR(SUM('DATA TRANSIT'!K25/10*100),"") -> 90 | R25: =IFERROR(VLOOKUP(Q25,GRED1,3,TRUE),"") -> T | S25: =IFERROR(SUM('DATA TRANSIT'!L25/10*100),"") -> 40 | T25: =IFERROR(VLOOKUP(S25,GRED1,3,TRUE),"") -> R | U25: =IFERROR(SUM('DATA TRANSIT'!M25/10*100),"") -> 100 | V25: =IFERROR(VLOOKUP(U25,GRED1,3,TRUE),"") -> T
A26: 9 | B26: ='DATA TRANSIT'!B26 -> MUHAMMAD AMIN BIN ISKANDAR | C26: ='DATA TRANSIT'!C26 -> 6 CERDIK | D26: ='DATA TRANSIT'!D26 -> CA39174 | E26: =IFERROR(SUM('DATA TRANSIT'!E26/10*100),"") -> 0 | F26: =IFERROR(VLOOKUP(E26,GRED1,3,TRUE),"") -> R | G26: =IFERROR(SUM('DATA TRANSIT'!F26/10*100),"") -> 30 | H26: =IFERROR(VLOOKUP(G26,GRED1,3,TRUE),"") -> R | I26: =IFERROR(SUM('DATA TRANSIT'!G26/10*100),"") -> 80 | J26: =IFERROR(VLOOKUP(I26,GRED1,3,TRUE),"") -> T | K26: =IFERROR(SUM('DATA TRANSIT'!H26/10*100),"") -> 30 | L26: =IFERROR(VLOOKUP(K26,GRED1,3,TRUE),"") -> R | M26: =IFERROR(SUM('DATA TRANSIT'!I26/10*100),"") -> 40 | N26: =IFERROR(VLOOKUP(M26,GRED1,3,TRUE),"") -> R | O26: =IFERROR(SUM('DATA TRANSIT'!J26/10*100),"") -> 70 | P26: =IFERROR(VLOOKUP(O26,GRED1,3,TRUE),"") -> S | Q26: =IFERROR(SUM('DATA TRANSIT'!K26/10*100),"") -> 40 | R26: =IFERROR(VLOOKUP(Q26,GRED1,3,TRUE),"") -> R | S26: =IFERROR(SUM('DATA TRANSIT'!L26/10*100),"") -> 30 | T26: =IFERROR(VLOOKUP(S26,GRED1,3,TRUE),"") -> R | U26: =IFERROR(SUM('DATA TRANSIT'!M26/10*100),"") -> 80 | V26: =IFERROR(VLOOKUP(U26,GRED1,3,TRUE),"") -> T
A27: 10 | B27: ='DATA TRANSIT'!B27 -> MUHAMMAD AMIRUL IMAN BIN ADAM | C27: ='DATA TRANSIT'!C27 -> 6 CERDIK | D27: ='DATA TRANSIT'!D27 -> BC59535 | E27: =IFERROR(SUM('DATA TRANSIT'!E27/10*100),"") -> 20 | F27: =IFERROR(VLOOKUP(E27,GRED1,3,TRUE),"") -> R | G27: =IFERROR(SUM('DATA TRANSIT'!F27/10*100),"") -> 40 | H27: =IFERROR(VLOOKUP(G27,GRED1,3,TRUE),"") -> R | I27: =IFERROR(SUM('DATA TRANSIT'!G27/10*100),"") -> 70 | J27: =IFERROR(VLOOKUP(I27,GRED1,3,TRUE),"") -> S | K27: =IFERROR(SUM('DATA TRANSIT'!H27/10*100),"") -> 40 | L27: =IFERROR(VLOOKUP(K27,GRED1,3,TRUE),"") -> R | M27: =IFERROR(SUM('DATA TRANSIT'!I27/10*100),"") -> 20 | N27: =IFERROR(VLOOKUP(M27,GRED1,3,TRUE),"") -> R | O27: =IFERROR(SUM('DATA TRANSIT'!J27/10*100),"") -> 60 | P27: =IFERROR(VLOOKUP(O27,GRED1,3,TRUE),"") -> S | Q27: =IFERROR(SUM('DATA TRANSIT'!K27/10*100),"") -> 60 | R27: =IFERROR(VLOOKUP(Q27,GRED1,3,TRUE),"") -> S | S27: =IFERROR(SUM('DATA TRANSIT'!L27/10*100),"") -> 40 | T27: =IFERROR(VLOOKUP(S27,GRED1,3,TRUE),"") -> R | U27: =IFERROR(SUM('DATA TRANSIT'!M27/10*100),"") -> 40 | V27: =IFERROR(VLOOKUP(U27,GRED1,3,TRUE),"") -> R
A28: 11 | B28: ='DATA TRANSIT'!B28 -> MUHAMMAD DANIEL ASHRAF BIN ABDULLAH | C28: ='DATA TRANSIT'!C28 -> 6 CERDIK | D28: ='DATA TRANSIT'!D28 -> BY53034 | E28: =IFERROR(SUM('DATA TRANSIT'!E28/10*100),"") -> 50 | F28: =IFERROR(VLOOKUP(E28,GRED1,3,TRUE),"") -> S | G28: =IFERROR(SUM('DATA TRANSIT'!F28/10*100),"") -> 80 | H28: =IFERROR(VLOOKUP(G28,GRED1,3,TRUE),"") -> T | I28: =IFERROR(SUM('DATA TRANSIT'!G28/10*100),"") -> 70 | J28: =IFERROR(VLOOKUP(I28,GRED1,3,TRUE),"") -> S | K28: =IFERROR(SUM('DATA TRANSIT'!H28/10*100),"") -> 80 | L28: =IFERROR(VLOOKUP(K28,GRED1,3,TRUE),"") -> T | M28: =IFERROR(SUM('DATA TRANSIT'!I28/10*100),"") -> 80 | N28: =IFERROR(VLOOKUP(M28,GRED1,3,TRUE),"") -> T | O28: =IFERROR(SUM('DATA TRANSIT'!J28/10*100),"") -> 80 | P28: =IFERROR(VLOOKUP(O28,GRED1,3,TRUE),"") -> T | Q28: =IFERROR(SUM('DATA TRANSIT'!K28/10*100),"") -> 70 | R28: =IFERROR(VLOOKUP(Q28,GRED1,3,TRUE),"") -> S | S28: =IFERROR(SUM('DATA TRANSIT'!L28/10*100),"") -> 40 | T28: =IFERROR(VLOOKUP(S28,GRED1,3,TRUE),"") -> R | U28: =IFERROR(SUM('DATA TRANSIT'!M28/10*100),"") -> 90 | V28: =IFERROR(VLOOKUP(U28,GRED1,3,TRUE),"") -> T
A29: 12 | B29: ='DATA TRANSIT'!B29 -> MUHAMMAD DENISH RIFQIE BIN ABD RAHMAN | C29: ='DATA TRANSIT'!C29 -> 6 CERDIK | D29: ='DATA TRANSIT'!D29 -> BY55932 | E29: =IFERROR(SUM('DATA TRANSIT'!E29/10*100),"") -> 20 | F29: =IFERROR(VLOOKUP(E29,GRED1,3,TRUE),"") -> R | G29: =IFERROR(SUM('DATA TRANSIT'!F29/10*100),"") -> 70 | H29: =IFERROR(VLOOKUP(G29,GRED1,3,TRUE),"") -> S | I29: =IFERROR(SUM('DATA TRANSIT'!G29/10*100),"") -> 50 | J29: =IFERROR(VLOOKUP(I29,GRED1,3,TRUE),"") -> S | K29: =IFERROR(SUM('DATA TRANSIT'!H29/10*100),"") -> 60 | L29: =IFERROR(VLOOKUP(K29,GRED1,3,TRUE),"") -> S | M29: =IFERROR(SUM('DATA TRANSIT'!I29/10*100),"") -> 100 | N29: =IFERROR(VLOOKUP(M29,GRED1,3,TRUE),"") -> T | O29: =IFERROR(SUM('DATA TRANSIT'!J29/10*100),"") -> 50 | P29: =IFERROR(VLOOKUP(O29,GRED1,3,TRUE),"") -> S | Q29: =IFERROR(SUM('DATA TRANSIT'!K29/10*100),"") -> 50 | R29: =IFERROR(VLOOKUP(Q29,GRED1,3,TRUE),"") -> S | S29: =IFERROR(SUM('DATA TRANSIT'!L29/10*100),"") -> 10 | T29: =IFERROR(VLOOKUP(S29,GRED1,3,TRUE),"") -> R | U29: =IFERROR(SUM('DATA TRANSIT'!M29/10*100),"") -> 80 | V29: =IFERROR(VLOOKUP(U29,GRED1,3,TRUE),"") -> T
... A77: 60 | B77: ='DATA TRANSIT'!B77 | C77: ='DATA TRANSIT'!C77 | D77: ='DATA TRANSIT'!D77 | E77: =IFERROR(SUM('DATA TRANSIT'!E77/10*100),"") | F77: =IFERROR(VLOOKUP(E77,GRED1,3,TRUE),"") | G77: =IFERROR(SUM('DATA TRANSIT'!F77/10*100),"") | H77: =IFERROR(VLOOKUP(G77,GRED1,3,TRUE),"") | I77: =IFERROR(SUM('DATA TRANSIT'!G77/10*100),"") | J77: =IFERROR(VLOOKUP(I77,GRED1,3,TRUE),"") | K77: =IFERROR(SUM('DATA TRANSIT'!H77/10*100),"") | L77: =IFERROR(VLOOKUP(K77,GRED1,3,TRUE),"") | M77: =IFERROR(SUM('DATA TRANSIT'!I77/10*100),"") | N77: =IFERROR(VLOOKUP(M77,GRED1,3,TRUE),"") | O77: =IFERROR(SUM('DATA TRANSIT'!J77/10*100),"") | P77: =IFERROR(VLOOKUP(O77,GRED1,3,TRUE),"") | Q77: =IFERROR(SUM('DATA TRANSIT'!K77/10*100),"") | R77: =IFERROR(VLOOKUP(Q77,GRED1,3,TRUE),"") | S77: =IFERROR(SUM('DATA TRANSIT'!L77/10*100),"") | T77: =IFERROR(VLOOKUP(S77,GRED1,3,TRUE),"") | U77: =IFERROR(SUM('DATA TRANSIT'!M77/10*100),"") | V77: =IFERROR(VLOOKUP(U77,GRED1,3,TRUE),"")
B79: MARKAH | D79: GRED | E79: VL | F79: LM | G79: INTRA | H79: VR | I79: NAT | J79: INTER | K79: KINE | L79: MUZIK | M79: EKSIS
B80: 0 | D80: R | E80: =COUNTIF($F$18:$F$77,D80) -> 20 | F80: =COUNTIF($H$18:$H$77,D80) -> 5 | G80: =COUNTIF($J$18:$J$77,D80) -> 0 | H80: =COUNTIF($L$18:$L$77,D80) -> 7 | I80: =COUNTIF($N$18:$N$77,D80) -> 5 | J80: =COUNTIF($P$18:$P$77,D80) -> 1 | K80: =COUNTIF($R$18:$R$77,D80) -> 3 | L80: =COUNTIF($T$18:$T$77,D80) -> 20 | M80: =COUNTIF($V$18:$V$77,D80) -> 1
B81: 50 | D81: S | E81: =COUNTIF($F$18:$F$77,D81) -> 11 | F81: =COUNTIF($H$18:$H$77,D81) -> 16 | G81: =COUNTIF($J$18:$J$77,D81) -> 8 | H81: =COUNTIF($L$18:$L$77,D81) -> 17 | I81: =COUNTIF($N$18:$N$77,D81) -> 7 | J81: =COUNTIF($P$18:$P$77,D81) -> 16 | K81: =COUNTIF($R$18:$R$77,D81) -> 18 | L81: =COUNTIF($T$18:$T$77,D81) -> 8 | M81: =COUNTIF($V$18:$V$77,D81) -> 5
B82: 75 | D82: T | E82: =COUNTIF($F$18:$F$77,D82) -> 2 | F82: =COUNTIF($H$18:$H$77,D82) -> 12 | G82: =COUNTIF($J$18:$J$77,D82) -> 25 | H82: =COUNTIF($L$18:$L$77,D82) -> 9 | I82: =COUNTIF($N$18:$N$77,D82) -> 21 | J82: =COUNTIF($P$18:$P$77,D82) -> 16 | K82: =COUNTIF($R$18:$R$77,D82) -> 12 | L82: =COUNTIF($T$18:$T$77,D82) -> 5 | M82: =COUNTIF($V$18:$V$77,D82) -> 27
D83: JUMLAH | E83: =SUM(E80:E82) -> 33 | F83: =SUM(F80:F82) -> 33 | G83: =SUM(G80:G82) -> 33 | H83: =SUM(H80:H82) -> 33 | I83: =SUM(I80:I82) -> 33 | J83: =SUM(J80:J82) -> 33 | K83: =SUM(K80:K82) -> 33 | L83: =SUM(L80:L82) -> 33 | M83: =SUM(M80:M82) -> 33
B85: Disediakan oleh,
B86: (GBK)
B88: Tandatangan:
B89: Nama Guru: | D89: =IKeP!H22 -> HARYANTI BINTI ABD. KADIR
B91: Tarikh:

Sheet ANALISIS
A7: PELAPORAN PENTAKSIRAN PSIKOMETRIK
A8: UJIAN APTITUD TAHUN 6
A9: INVENTORI KECERDASAN PELBAGAI (IKeP)
A10: TAHUN 2016
B12: NAMA SEKOLAH | D12: : | E12: =DATA!C2 -> SK FELDA PALONG 5
B13: KOD SEKOLAH | D13: : | E13: =DATA!C3 -> NBA6016
B14: KELAS | D14: : | E14: ='PROFIL KELAS'!D14 -> 6 CERDIK
B40: Petunjuk:
B42: KECERDASAN PELBAGAI
B44: VL | C44: Verbal Linguistik | F44: SKOR
B45: LM | C45: Logik Matematik | G45: RENDAH
B46: INTRA | C46: Intrapersonal | G46: SEDERHANA
B47: VR | C47: Visual Ruang | G47: TINGGI
B48: NAT | C48: Naturalis
B49: INTER | C49: Interpersonal
B50: KINE | C50: Kinestatik
B51: EKSIS | C51: Eksistensial
H56: ……………………………………………
H57: ( | J57: )
H59: Nama dan Cap
H60: Guru Besar
G63: Tarikh:

Sheet VL
A7: PELAPORAN PENTAKSIRAN PSIKOMETRIK
A8: UJIAN APTITUD TAHUN 6
A9: INVENTORI KECERDASAN PELBAGAI (IKeP)
A10: TAHUN 2016
B12: NAMA SEKOLAH : | C12: =DATA!C2 -> SK FELDA PALONG 5
B13: KOD SEKOLAH : | C13: =DATA!C3 -> NBA6016
B14: KELAS : | C14: ='PROFIL KELAS'!D14 -> 6 CERDIK
B16: KECERDASAN : | C16: VERBAL LINGUISTIK
A18: BIL | B18: NAMA MURID | C18: KELAS | D18: BC/IC | E18: VERBAL LINGUISTIK | F18: CATATAN
A19: 1 | B19: ='PROFIL KELAS'!B18 -> ABDUL KHAIRIL IZWAN BIN ABDUL KHALID | C19: ='PROFIL KELAS'!C18 -> 6 CERDIK | D19: ='PROFIL KELAS'!D18 -> BY54520 | E19: ='PROFIL KELAS'!E18 -> 60 | F19: =VLOOKUP(E19,GRED4,3,TRUE) -> 0
A20: 2 | B20: ='PROFIL KELAS'!B19 -> AMEER SUFFIAN BIN MOHD RAZUAN | C20: ='PROFIL KELAS'!C19 -> 6 CERDIK | D20: ='PROFIL KELAS'!D19 -> CB48425 | E20: ='PROFIL KELAS'!E19 -> 10 | F20: =VLOOKUP(E20,GRED4,3,TRUE) -> 0
A21: 3 | B21: ='PROFIL KELAS'!B20 -> AMEERA SAFFIAH BINTI MOHD RAZUAN | C21: ='PROFIL KELAS'!C20 -> 6 CERDIK | D21: ='PROFIL KELAS'!D20 -> CB48424 | E21: ='PROFIL KELAS'!E20 -> 30 | F21: =VLOOKUP(E21,GRED4,3,TRUE) -> 0
A22: 4 | B22: ='PROFIL KELAS'!B21 -> DARWISY ZULHILMI BIN SHAHIDAN | C22: ='PROFIL KELAS'!C21 -> 6 CERDIK | D22: ='PROFIL KELAS'!D21 -> BY54836 | E22: ='PROFIL KELAS'!E21 -> 20 | F22: =VLOOKUP(E22,GRED4,3,TRUE) -> 0
A23: 5 | B23: ='PROFIL KELAS'!B22 -> DELISHA HANA BINTI AZMAN | C23: ='PROFIL KELAS'!C22 -> 6 CERDIK | D23: ='PROFIL KELAS'!D22 -> BY54529 | E23: ='PROFIL KELAS'!E22 -> 100 | F23: =VLOOKUP(E23,GRED4,3,TRUE) -> 0
A24: 6 | B24: ='PROFIL KELAS'!B23 -> HARRAZ ZAKWAN BIN MOHD IMRANSYAH | C24: ='PROFIL KELAS'!C23 -> 6 CERDIK | D24: ='PROFIL KELAS'!D23 -> BX58302 | E24: ='PROFIL KELAS'!E23 -> 30 | F24: =VLOOKUP(E24,GRED4,3,TRUE) -> 0
A25: 7 | B25: ='PROFIL KELAS'!B24 -> MOHAMAD DANISH DANIAL BIN MOHAMAD NASARUDDIN | C25: ='PROFIL KELAS'!C24 -> 6 CERDIK | D25: ='PROFIL KELAS'!D24 -> CA19676 | E25: ='PROFIL KELAS'!E24 -> 30 | F25: =VLOOKUP(E25,GRED4,3,TRUE) -> 0
A26: 8 | B26: ='PROFIL KELAS'!B25 -> MOHAMAD MIKHAIL HAQIMI BIN ABDULLAH | C26: ='PROFIL KELAS'!C25 -> 6 CERDIK | D26: ='PROFIL KELAS'!D25 -> CC54134 | E26: ='PROFIL KELAS'!E25 -> 10 | F26: =VLOOKUP(E26,GRED4,3,TRUE) -> 0
A27: 9 | B27: ='PROFIL KELAS'!B26 -> MUHAMMAD AMIN BIN ISKANDAR | C27: ='PROFIL KELAS'!C26 -> 6 CERDIK | D27: ='PROFIL KELAS'!D26 -> CA39174 | E27: ='PROFIL KELAS'!E26 -> 0 | F27: =VLOOKUP(E27,GRED4,3,TRUE) -> 0
A28: 10 | B28: ='PROFIL KELAS'!B27 -> MUHAMMAD AMIRUL IMAN BIN ADAM | C28: ='PROFIL KELAS'!C27 -> 6 CERDIK | D28: ='PROFIL KELAS'!D27 -> BC59535 | E28: ='PROFIL KELAS'!E27 -> 20 | F28: =VLOOKUP(E28,GRED4,3,TRUE) -> 0
A29: 11 | B29: ='PROFIL KELAS'!B28 -> MUHAMMAD DANIEL ASHRAF BIN ABDULLAH | C29: ='PROFIL KELAS'!C28 -> 6 CERDIK | D29: ='PROFIL KELAS'!D28 -> BY53034 | E29: ='PROFIL KELAS'!E28 -> 50 | F29: =VLOOKUP(E29,GRED4,3,TRUE) -> 0
A30: 12 | B30: ='PROFIL KELAS'!B29 -> MUHAMMAD DENISH RIFQIE BIN ABD RAHMAN | C30: ='PROFIL KELAS'!C29 -> 6 CERDIK | D30: ='PROFIL KELAS'!D29 -> BY55932 | E30: ='PROFIL KELAS'!E29 -> 20 | F30: =VLOOKUP(E30,GRED4,3,TRUE) -> 0
... A68: 50 | B68: ='PROFIL KELAS'!B67 | C68: ='PROFIL KELAS'!C67 | D68: ='PROFIL KELAS'!D67 | E68: ='PROFIL KELAS'!E67 | F68: =VLOOKUP(E68,GRED4,3,TRUE) -> #N/A
E72: ……………………………………………………………
E73: ( | F73: )
E74: Nama dan Cap
E75: Guru Besar
D77: Tarikh:

Sheet LM
A7: PELAPORAN PENTAKSIRAN PSIKOMETRIK
A8: UJIAN APTITUD TAHUN 6
A9: INVENTORI KECERDASAN PELBAGAI (IKeP)
A10: TAHUN 2016
B12: NAMA SEKOLAH : | C12: =DATA!C2 -> SK FELDA PALONG 5
B13: KOD SEKOLAH : | C13: =DATA!C3 -> NBA6016
B14: KELAS : | C14: ='PROFIL KELAS'!D14 -> 6 CERDIK
B16: KECERDASAN | C16: LOGIK MATEMATIK
A18: BIL | B18: NAMA MURID | C18: KELAS | D18: BC/IC | E18: LOGIK MATEMATIK | F18: CATATAN
A19: 1 | B19: ='PROFIL KELAS'!B18 -> ABDUL KHAIRIL IZWAN BIN ABDUL KHALID | C19: ='PROFIL KELAS'!C18 -> 6 CERDIK | D19: ='PROFIL KELAS'!D18 -> BY54520 | E19: ='PROFIL KELAS'!G18 -> 80 | F19: =VLOOKUP(E19,GRED4,3,TRUE) -> 0
A20: 2 | B20: ='PROFIL KELAS'!B19 -> AMEER SUFFIAN BIN MOHD RAZUAN | C20: ='PROFIL KELAS'!C19 -> 6 CERDIK | D20: ='PROFIL KELAS'!D19 -> CB48425 | E20: ='PROFIL KELAS'!G19 -> 80 | F20: =VLOOKUP(E20,GRED4,3,TRUE) -> 0
A21: 3 | B21: ='PROFIL KELAS'!B20 -> AMEERA SAFFIAH BINTI MOHD RAZUAN | C21: ='PROFIL KELAS'!C20 -> 6 CERDIK | D21: ='PROFIL KELAS'!D20 -> CB48424 | E21: ='PROFIL KELAS'!G20 -> 60 | F21: =VLOOKUP(E21,GRED4,3,TRUE) -> 0
A22: 4 | B22: ='PROFIL KELAS'!B21 -> DARWISY ZULHILMI BIN SHAHIDAN | C22: ='PROFIL KELAS'!C21 -> 6 CERDIK | D22: ='PROFIL KELAS'!D21 -> BY54836 | E22: ='PROFIL KELAS'!G21 -> 80 | F22: =VLOOKUP(E22,GRED4,3,TRUE) -> 0
A23: 5 | B23: ='PROFIL KELAS'!B22 -> DELISHA HANA BINTI AZMAN | C23: ='PROFIL KELAS'!C22 -> 6 CERDIK | D23: ='PROFIL KELAS'!D22 -> BY54529 | E23: ='PROFIL KELAS'!G22 -> 100 | F23: =VLOOKUP(E23,GRED4,3,TRUE) -> 0
A24: 6 | B24: ='PROFIL KELAS'!B23 -> HARRAZ ZAKWAN BIN MOHD IMRANSYAH | C24: ='PROFIL KELAS'!C23 -> 6 CERDIK | D24: ='PROFIL KELAS'!D23 -> BX58302 | E24: ='PROFIL KELAS'!G23 -> 80 | F24: =VLOOKUP(E24,GRED4,3,TRUE) -> 0
A25: 7 | B25: ='PROFIL KELAS'!B24 -> MOHAMAD DANISH DANIAL BIN MOHAMAD NASARUDDIN | C25: ='PROFIL KELAS'!C24 -> 6 CERDIK | D25: ='PROFIL KELAS'!D24 -> CA19676 | E25: ='PROFIL KELAS'!G24 -> 60 | F25: =VLOOKUP(E25,GRED4,3,TRUE) -> 0
A26: 8 | B26: ='PROFIL KELAS'!B25 -> MOHAMAD MIKHAIL HAQIMI BIN ABDULLAH | C26: ='PROFIL KELAS'!C25 -> 6 CERDIK | D26: ='PROFIL KELAS'!D25 -> CC54134 | E26: ='PROFIL KELAS'!G25 -> 100 | F26: =VLOOKUP(E26,GRED4,3,TRUE) -> 0
A27: 9 | B27: ='PROFIL KELAS'!B26 -> MUHAMMAD AMIN BIN ISKANDAR | C27: ='PROFIL KELAS'!C26 -> 6 CERDIK | D27: ='PROFIL KELAS'!D26 -> CA39174 | E27: ='PROFIL KELAS'!G26 -> 30 | F27: =VLOOKUP(E27,GRED4,3,TRUE) -> 0
A28: 10 | B28: ='PROFIL KELAS'!B27 -> MUHAMMAD AMIRUL IMAN BIN ADAM | C28: ='PROFIL KELAS'!C27 -> 6 CERDIK | D28: ='PROFIL KELAS'!D27 -> BC59535 | E28: ='PROFIL KELAS'!G27 -> 40 | F28: =VLOOKUP(E28,GRED4,3,TRUE) -> 0
A29: 11 | B29: ='PROFIL KELAS'!B28 -> MUHAMMAD DANIEL ASHRAF BIN ABDULLAH | C29: ='PROFIL KELAS'!C28 -> 6 CERDIK | D29: ='PROFIL KELAS'!D28 -> BY53034 | E29: ='PROFIL KELAS'!G28 -> 80 | F29: =VLOOKUP(E29,GRED4,3,TRUE) -> 0
A30: 12 | B30: ='PROFIL KELAS'!B29 -> MUHAMMAD DENISH RIFQIE BIN ABD RAHMAN | C30: ='PROFIL KELAS'!C29 -> 6 CERDIK | D30: ='PROFIL KELAS'!D29 -> BY55932 | E30: ='PROFIL KELAS'!G29 -> 70 | F30: =VLOOKUP(E30,GRED4,3,TRUE) -> 0
... A68: 50 | B68: ='PROFIL KELAS'!B67 | C68: ='PROFIL KELAS'!C67 | D68: ='PROFIL KELAS'!D67 | E68: ='PROFIL KELAS'!G67 | F68: =VLOOKUP(E68,GRED4,3,TRUE) -> #N/A
E72: …………………………………………………………………..
E73: ( | F73: )
E74: Nama dan Cap
E75: Guru Besar
D77: Tarikh:

Sheet INTRA
A7: PELAPORAN PENTAKSIRAN PSIKOMETRIK
A8: UJIAN APTITUD TAHUN 6
A9: INVENTORI KECERDASAN PELBAGAI (IKeP)
A10: TAHUN 2017
B12: NAMA SEKOLAH : | C12: =DATA!C2 -> SK FELDA PALONG 5
B13: KOD SEKOLAH : | C13: =DATA!C3 -> NBA6016
B14: KELAS : | C14: ='PROFIL KELAS'!D14 -> 6 CERDIK
B16: KECERDASAN | C16: INTRAPERSONAL
A18: BIL | B18: NAMA MURID | C18: KELAS | D18: BC/IC | E18: INTRAPERSONAL | F18: CATATAN
A19: 1 | B19: ='PROFIL KELAS'!B18 -> ABDUL KHAIRIL IZWAN BIN ABDUL KHALID | C19: ='PROFIL KELAS'!C18 -> 6 CERDIK | D19: ='PROFIL KELAS'!D18 -> BY54520 | E19: ='PROFIL KELAS'!I18 -> 70 | F19: =VLOOKUP(E19,GRED4,3,TRUE) -> 0
A20: 2 | B20: ='PROFIL KELAS'!B19 -> AMEER SUFFIAN BIN MOHD RAZUAN | C20: ='PROFIL KELAS'!C19 -> 6 CERDIK | D20: ='PROFIL KELAS'!D19 -> CB48425 | E20: ='PROFIL KELAS'!I19 -> 50 | F20: =VLOOKUP(E20,GRED4,3,TRUE) -> 0
A21: 3 | B21: ='PROFIL KELAS'!B20 -> AMEERA SAFFIAH BINTI MOHD RAZUAN | C21: ='PROFIL KELAS'!C20 -> 6 CERDIK | D21: ='PROFIL KELAS'!D20 -> CB48424 | E21: ='PROFIL KELAS'!I20 -> 90 | F21: =VLOOKUP(E21,GRED4,3,TRUE) -> 0
A22: 4 | B22: ='PROFIL KELAS'!B21 -> DARWISY ZULHILMI BIN SHAHIDAN | C22: ='PROFIL KELAS'!C21 -> 6 CERDIK | D22: ='PROFIL KELAS'!D21 -> BY54836 | E22: ='PROFIL KELAS'!I21 -> 80 | F22: =VLOOKUP(E22,GRED4,3,TRUE) -> 0
A23: 5 | B23: ='PROFIL KELAS'!B22 -> DELISHA HANA BINTI AZMAN | C23: ='PROFIL KELAS'!C22 -> 6 CERDIK | D23: ='PROFIL KELAS'!D22 -> BY54529 | E23: ='PROFIL KELAS'!I22 -> 100 | F23: =VLOOKUP(E23,GRED4,3,TRUE) -> 0
A24: 6 | B24: ='PROFIL KELAS'!B23 -> HARRAZ ZAKWAN BIN MOHD IMRANSYAH | C24: ='PROFIL KELAS'!C23 -> 6 CERDIK | D24: ='PROFIL KELAS'!D23 -> BX58302 | E24: ='PROFIL KELAS'!I23 -> 80 | F24: =VLOOKUP(E24,GRED4,3,TRUE) -> 0
A25: 7 | B25: ='PROFIL KELAS'!B24 -> MOHAMAD DANISH DANIAL BIN MOHAMAD NASARUDDIN | C25: ='PROFIL KELAS'!C24 -> 6 CERDIK | D25: ='PROFIL KELAS'!D24 -> CA19676 | E25: ='PROFIL KELAS'!I24 -> 80 | F25: =VLOOKUP(E25,GRED4,3,TRUE) -> 0
A26: 8 | B26: ='PROFIL KELAS'!B25 -> MOHAMAD MIKHAIL HAQIMI BIN ABDULLAH | C26: ='PROFIL KELAS'!C25 -> 6 CERDIK | D26: ='PROFIL KELAS'!D25 -> CC54134 | E26: ='PROFIL KELAS'!I25 -> 90 | F26: =VLOOKUP(E26,GRED4,3,TRUE) -> 0
A27: 9 | B27: ='PROFIL KELAS'!B26 -> MUHAMMAD AMIN BIN ISKANDAR | C27: ='PROFIL KELAS'!C26 -> 6 CERDIK | D27: ='PROFIL KELAS'!D26 -> CA39174 | E27: ='PROFIL KELAS'!I26 -> 80 | F27: =VLOOKUP(E27,GRED4,3,TRUE) -> 0
A28: 10 | B28: ='PROFIL KELAS'!B27 -> MUHAMMAD AMIRUL IMAN BIN ADAM | C28: ='PROFIL KELAS'!C27 -> 6 CERDIK | D28: ='PROFIL KELAS'!D27 -> BC59535 | E28: ='PROFIL KELAS'!I27 -> 70 | F28: =VLOOKUP(E28,GRED4,3,TRUE) -> 0
A29: 11 | B29: ='PROFIL KELAS'!B28 -> MUHAMMAD DANIEL ASHRAF BIN ABDULLAH | C29: ='PROFIL KELAS'!C28 -> 6 CERDIK | D29: ='PROFIL KELAS'!D28 -> BY53034 | E29: ='PROFIL KELAS'!I28 -> 70 | F29: =VLOOKUP(E29,GRED4,3,TRUE) -> 0
A30: 12 | B30: ='PROFIL KELAS'!B29 -> MUHAMMAD DENISH RIFQIE BIN ABD RAHMAN | C30: ='PROFIL KELAS'!C29 -> 6 CERDIK | D30: ='PROFIL KELAS'!D29 -> BY55932 | E30: ='PROFIL KELAS'!I29 -> 50 | F30: =VLOOKUP(E30,GRED4,3,TRUE) -> 0
... A68: 50 | B68: ='PROFIL KELAS'!B67 | C68: ='PROFIL KELAS'!C67 | D68: ='PROFIL KELAS'!D67 | E68: ='PROFIL KELAS'!I67 | F68: =VLOOKUP(E68,GRED4,3,TRUE) -> #N/A
E72: ……………………………………………………………
E73: ( | F73: )
E74: Nama dan Cap
E75: Guru Besar
D77: Tarikh:

Sheet VR
A7: PELAPORAN PENTAKSIRAN PSIKOMETRIK
A8: UJIAN APTITUD TAHUN 6
A9: INVENTORI KECERDASAN PELBAGAI (IKeP)
A10: TAHUN 2016
B12: NAMA SEKOLAH : | C12: =DATA!C2 -> SK FELDA PALONG 5
B13: KOD SEKOLAH : | C13: =DATA!C3 -> NBA6016
B14: KELAS : | C14: ='PROFIL KELAS'!D14 -> 6 CERDIK
B16: KECERDASAN | C16: VISUAL RUANG
A18: BIL | B18: NAMA MURID | C18: KELAS | D18: BC/IC | E18: VISUAL RUANG | F18: CATATAN
A19: 1 | B19: ='PROFIL KELAS'!B18 -> ABDUL KHAIRIL IZWAN BIN ABDUL KHALID | C19: ='PROFIL KELAS'!C18 -> 6 CERDIK | D19: ='PROFIL KELAS'!D18 -> BY54520 | E19: ='PROFIL KELAS'!K18 -> 60 | F19: =VLOOKUP(E19,GRED4,3,TRUE) -> 0
A20: 2 | B20: ='PROFIL KELAS'!B19 -> AMEER SUFFIAN BIN MOHD RAZUAN | C20: ='PROFIL KELAS'!C19 -> 6 CERDIK | D20: ='PROFIL KELAS'!D19 -> CB48425 | E20: ='PROFIL KELAS'!K19 -> 40 | F20: =VLOOKUP(E20,GRED4,3,TRUE) -> 0
A21: 3 | B21: ='PROFIL KELAS'!B20 -> AMEERA SAFFIAH BINTI MOHD RAZUAN | C21: ='PROFIL KELAS'!C20 -> 6 CERDIK | D21: ='PROFIL KELAS'!D20 -> CB48424 | E21: ='PROFIL KELAS'!K20 -> 80 | F21: =VLOOKUP(E21,GRED4,3,TRUE) -> 0
A22: 4 | B22: ='PROFIL KELAS'!B21 -> DARWISY ZULHILMI BIN SHAHIDAN | C22: ='PROFIL KELAS'!C21 -> 6 CERDIK | D22: ='PROFIL KELAS'!D21 -> BY54836 | E22: ='PROFIL KELAS'!K21 -> 50 | F22: =VLOOKUP(E22,GRED4,3,TRUE) -> 0
A23: 5 | B23: ='PROFIL KELAS'!B22 -> DELISHA HANA BINTI AZMAN | C23: ='PROFIL KELAS'!C22 -> 6 CERDIK | D23: ='PROFIL KELAS'!D22 -> BY54529 | E23: ='PROFIL KELAS'!K22 -> 90 | F23: =VLOOKUP(E23,GRED4,3,TRUE) -> 0
A24: 6 | B24: ='PROFIL KELAS'!B23 -> HARRAZ ZAKWAN BIN MOHD IMRANSYAH | C24: ='PROFIL KELAS'!C23 -> 6 CERDIK | D24: ='PROFIL KELAS'!D23 -> BX58302 | E24: ='PROFIL KELAS'!K23 -> 70 | F24: =VLOOKUP(E24,GRED4,3,TRUE) -> 0
A25: 7 | B25: ='PROFIL KELAS'!B24 -> MOHAMAD DANISH DANIAL BIN MOHAMAD NASARUDDIN | C25: ='PROFIL KELAS'!C24 -> 6 CERDIK | D25: ='PROFIL KELAS'!D24 -> CA19676 | E25: ='PROFIL KELAS'!K24 -> 60 | F25: =VLOOKUP(E25,GRED4,3,TRUE) -> 0
A26: 8 | B26: ='PROFIL KELAS'!B25 -> MOHAMAD MIKHAIL HAQIMI BIN ABDULLAH | C26: ='PROFIL KELAS'!C25 -> 6 CERDIK | D26: ='PROFIL KELAS'!D25 -> CC54134 | E26: ='PROFIL KELAS'!K25 -> 80 | F26: =VLOOKUP(E26,GRED4,3,TRUE) -> 0
A27: 9 | B27: ='PROFIL KELAS'!B26 -> MUHAMMAD AMIN BIN ISKANDAR | C27: ='PROFIL KELAS'!C26 -> 6 CERDIK | D27: ='PROFIL KELAS'!D26 -> CA39174 | E27: ='PROFIL KELAS'!K26 -> 30 | F27: =VLOOKUP(E27,GRED4,3,TRUE) -> 0
A28: 10 | B28: ='PROFIL KELAS'!B27 -> MUHAMMAD AMIRUL IMAN BIN ADAM | C28: ='PROFIL KELAS'!C27 -> 6 CERDIK | D28: ='PROFIL KELAS'!D27 -> BC59535 | E28: ='PROFIL KELAS'!K27 -> 40 | F28: =VLOOKUP(E28,GRED4,3,TRUE) -> 0
A29: 11 | B29: ='PROFIL KELAS'!B28 -> MUHAMMAD DANIEL ASHRAF BIN ABDULLAH | C29: ='PROFIL KELAS'!C28 -> 6 CERDIK | D29: ='PROFIL KELAS'!D28 -> BY53034 | E29: ='PROFIL KELAS'!K28 -> 80 | F29: =VLOOKUP(E29,GRED4,3,TRUE) -> 0
A30: 12 | B30: ='PROFIL KELAS'!B29 -> MUHAMMAD DENISH RIFQIE BIN ABD RAHMAN | C30: ='PROFIL KELAS'!C29 -> 6 CERDIK | D30: ='PROFIL KELAS'!D29 -> BY55932 | E30: ='PROFIL KELAS'!K29 -> 60 | F30: =VLOOKUP(E30,GRED4,3,TRUE) -> 0
... A68: 50 | B68: ='PROFIL KELAS'!B67 | C68: ='PROFIL KELAS'!C67 | D68: ='PROFIL KELAS'!D67 | E68: ='PROFIL KELAS'!K67 | F68: =VLOOKUP(E68,GRED4,3,TRUE) -> #N/A
E72: ……………………………………………………………
E73: ( | F73: )
E74: Nama dan Cap
E75: Guru Besar
D77: Tarikh:

Sheet NAT
A7: PELAPORAN PENTAKSIRAN PSIKOMETRIK
A8: UJIAN APTITUD TAHUN 6
A9: INVENTORI KECERDASAN PELBAGAI (IKeP)
A10: TAHUN 2016
B12: NAMA SEKOLAH : | C12: =DATA!C2 -> SK FELDA PALONG 5
B13: KOD SEKOLAH : | C13: =DATA!C3 -> NBA6016
B14: KELAS : | C14: ='PROFIL KELAS'!D14 -> 6 CERDIK
B16: KECERDASAN | C16: NATURALIS
A18: BIL | B18: NAMA MURID | C18: KELAS | D18: BC/IC | E18: NATURALIS | F18: CATATAN
A19: 1 | B19: ='PROFIL KELAS'!B18 -> ABDUL KHAIRIL IZWAN BIN ABDUL KHALID | C19: ='PROFIL KELAS'!C18 -> 6 CERDIK | D19: ='PROFIL KELAS'!D18 -> BY54520 | E19: ='PROFIL KELAS'!M18 -> 70 | F19: =VLOOKUP(E19,GRED4,3,TRUE) -> 0
A20: 2 | B20: ='PROFIL KELAS'!B19 -> AMEER SUFFIAN BIN MOHD RAZUAN | C20: ='PROFIL KELAS'!C19 -> 6 CERDIK | D20: ='PROFIL KELAS'!D19 -> CB48425 | E20: ='PROFIL KELAS'!M19 -> 60 | F20: =VLOOKUP(E20,GRED4,3,TRUE) -> 0
A21: 3 | B21: ='PROFIL KELAS'!B20 -> AMEERA SAFFIAH BINTI MOHD RAZUAN | C21: ='PROFIL KELAS'!C20 -> 6 CERDIK | D21: ='PROFIL KELAS'!D20 -> CB48424 | E21: ='PROFIL KELAS'!M20 -> 80 | F21: =VLOOKUP(E21,GRED4,3,TRUE) -> 0
A22: 4 | B22: ='PROFIL KELAS'!B21 -> DARWISY ZULHILMI BIN SHAHIDAN | C22: ='PROFIL KELAS'!C21 -> 6 CERDIK | D22: ='PROFIL KELAS'!D21 -> BY54836 | E22: ='PROFIL KELAS'!M21 -> 100 | F22: =VLOOKUP(E22,GRED4,3,TRUE) -> 0
A23: 5 | B23: ='PROFIL KELAS'!B22 -> DELISHA HANA BINTI AZMAN | C23: ='PROFIL KELAS'!C22 -> 6 CERDIK | D23: ='PROFIL KELAS'!D22 -> BY54529 | E23: ='PROFIL KELAS'!M22 -> 100 | F23: =VLOOKUP(E23,GRED4,3,TRUE) -> 0
A24: 6 | B24: ='PROFIL KELAS'!B23 -> HARRAZ ZAKWAN BIN MOHD IMRANSYAH | C24: ='PROFIL KELAS'!C23 -> 6 CERDIK | D24: ='PROFIL KELAS'!D23 -> BX58302 | E24: ='PROFIL KELAS'!M23 -> 50 | F24: =VLOOKUP(E24,GRED4,3,TRUE) -> 0
A25: 7 | B25: ='PROFIL KELAS'!B24 -> MOHAMAD DANISH DANIAL BIN MOHAMAD NASARUDDIN | C25: ='PROFIL KELAS'!C24 -> 6 CERDIK | D25: ='PROFIL KELAS'!D24 -> CA19676 | E25: ='PROFIL KELAS'!M24 -> 100 | F25: =VLOOKUP(E25,GRED4,3,TRUE) -> 0
A26: 8 | B26: ='PROFIL KELAS'!B25 -> MOHAMAD MIKHAIL HAQIMI BIN ABDULLAH | C26: ='PROFIL KELAS'!C25 -> 6 CERDIK | D26: ='PROFIL KELAS'!D25 -> CC54134 | E26: ='PROFIL KELAS'!M25 -> 70 | F26: =VLOOKUP(E26,GRED4,3,TRUE) -> 0
A27: 9 | B27: ='PROFIL KELAS'!B26 -> MUHAMMAD AMIN BIN ISKANDAR | C27: ='PROFIL KELAS'!C26 -> 6 CERDIK | D27: ='PROFIL KELAS'!D26 -> CA39174 | E27: ='PROFIL KELAS'!M26 -> 40 | F27: =VLOOKUP(E27,GRED4,3,TRUE) -> 0
A28: 10 | B28: ='PROFIL KELAS'!B27 -> MUHAMMAD AMIRUL IMAN BIN ADAM | C28: ='PROFIL KELAS'!C27 -> 6 CERDIK | D28: ='PROFIL KELAS'!D27 -> BC59535 | E28: ='PROFIL KELAS'!M27 -> 20 | F28: =VLOOKUP(E28,GRED4,3,TRUE) -> 0
A29: 11 | B29: ='PROFIL KELAS'!B28 -> MUHAMMAD DANIEL ASHRAF BIN ABDULLAH | C29: ='PROFIL KELAS'!C28 -> 6 CERDIK | D29: ='PROFIL KELAS'!D28 -> BY53034 | E29: ='PROFIL KELAS'!M28 -> 80 | F29: =VLOOKUP(E29,GRED4,3,TRUE) -> 0
A30: 12 | B30: ='PROFIL KELAS'!B29 -> MUHAMMAD DENISH RIFQIE BIN ABD RAHMAN | C30: ='PROFIL KELAS'!C29 -> 6 CERDIK | D30: ='PROFIL KELAS'!D29 -> BY55932 | E30: ='PROFIL KELAS'!M29 -> 100 | F30: =VLOOKUP(E30,GRED4,3,TRUE) -> 0
... A68: 50 | B68: ='PROFIL KELAS'!B67 | C68: ='PROFIL KELAS'!C67 | D68: ='PROFIL KELAS'!D67 | E68: ='PROFIL KELAS'!M67 | F68: =VLOOKUP(E68,GRED4,3,TRUE) -> #N/A
E72: …………………………………………………………..
E73: ( | F73: )
E74: Nama dan Cap
E75: Guru Besar
D77: Tarikh:

Sheet INTER
A7: PELAPORAN PENTAKSIRAN PSIKOMETRIK
A8: UJIAN APTITUD TAHUN 6
A9: INVENTORI KECERDASAN PELBAGAI (IKeP)
A10: TAHUN 2016
B12: NAMA SEKOLAH : | C12: =DATA!C2 -> SK FELDA PALONG 5
B13: KOD SEKOLAH : | C13: =DATA!C3 -> NBA6016
B14: KELAS : | C14: ='PROFIL KELAS'!D14 -> 6 CERDIK
B16: KECERDASAN | C16: INTERPERSONAL
A18: BIL | B18: NAMA MURID | C18: KELAS | D18: BC/IC | E18: INTERPERSONAL | F18: CATATAN
A19: 1 | B19: ='PROFIL KELAS'!B18 -> ABDUL KHAIRIL IZWAN BIN ABDUL KHALID | C19: ='PROFIL KELAS'!C18 -> 6 CERDIK | D19: ='PROFIL KELAS'!D18 -> BY54520 | E19: ='PROFIL KELAS'!O18 -> 70 | F19: =VLOOKUP(E19,GRED4,3,TRUE) -> 0
A20: 2 | B20: ='PROFIL KELAS'!B19 -> AMEER SUFFIAN BIN MOHD RAZUAN | C20: ='PROFIL KELAS'!C19 -> 6 CERDIK | D20: ='PROFIL KELAS'!D19 -> CB48425 | E20: ='PROFIL KELAS'!O19 -> 100 | F20: =VLOOKUP(E20,GRED4,3,TRUE) -> 0
A21: 3 | B21: ='PROFIL KELAS'!B20 -> AMEERA SAFFIAH BINTI MOHD RAZUAN | C21: ='PROFIL KELAS'!C20 -> 6 CERDIK | D21: ='PROFIL KELAS'!D20 -> CB48424 | E21: ='PROFIL KELAS'!O20 -> 70 | F21: =VLOOKUP(E21,GRED4,3,TRUE) -> 0
A22: 4 | B22: ='PROFIL KELAS'!B21 -> DARWISY ZULHILMI BIN SHAHIDAN | C22: ='PROFIL KELAS'!C21 -> 6 CERDIK | D22: ='PROFIL KELAS'!D21 -> BY54836 | E22: ='PROFIL KELAS'!O21 -> 60 | F22: =VLOOKUP(E22,GRED4,3,TRUE) -> 0
A23: 5 | B23: ='PROFIL KELAS'!B22 -> DELISHA HANA BINTI AZMAN | C23: ='PROFIL KELAS'!C22 -> 6 CERDIK | D23: ='PROFIL KELAS'!D22 -> BY54529 | E23: ='PROFIL KELAS'!O22 -> 90 | F23: =VLOOKUP(E23,GRED4,3,TRUE) -> 0
A24: 6 | B24: ='PROFIL KELAS'!B23 -> HARRAZ ZAKWAN BIN MOHD IMRANSYAH | C24: ='PROFIL KELAS'!C23 -> 6 CERDIK | D24: ='PROFIL KELAS'!D23 -> BX58302 | E24: ='PROFIL KELAS'!O23 -> 70 | F24: =VLOOKUP(E24,GRED4,3,TRUE) -> 0
A25: 7 | B25: ='PROFIL KELAS'!B24 -> MOHAMAD DANISH DANIAL BIN MOHAMAD NASARUDDIN | C25: ='PROFIL KELAS'!C24 -> 6 CERDIK | D25: ='PROFIL KELAS'!D24 -> CA19676 | E25: ='PROFIL KELAS'!O24 -> 70 | F25: =VLOOKUP(E25,GRED4,3,TRUE) -> 0
A26: 8 | B26: ='PROFIL KELAS'!B25 -> MOHAMAD MIKHAIL HAQIMI BIN ABDULLAH | C26: ='PROFIL KELAS'!C25 -> 6 CERDIK | D26: ='PROFIL KELAS'!D25 -> CC54134 | E26: ='PROFIL KELAS'!O25 -> 80 | F26: =VLOOKUP(E26,GRED4,3,TRUE) -> 0
A27: 9 | B27: ='PROFIL KELAS'!B26 -> MUHAMMAD AMIN BIN ISKANDAR | C27: ='PROFIL KELAS'!C26 -> 6 CERDIK | D27: ='PROFIL KELAS'!D26 -> CA39174 | E27: ='PROFIL KELAS'!O26 -> 70 | F27: =VLOOKUP(E27,GRED4,3,TRUE) -> 0
A28: 10 | B28: ='PROFIL KELAS'!B27 -> MUHAMMAD AMIRUL IMAN BIN ADAM | C28: ='PROFIL KELAS'!C27 -> 6 CERDIK | D28: ='PROFIL KELAS'!D27 -> BC59535 | E28: ='PROFIL KELAS'!O27 -> 60 | F28: =VLOOKUP(E28,GRED4,3,TRUE) -> 0
A29: 11 | B29: ='PROFIL KELAS'!B28 -> MUHAMMAD DANIEL ASHRAF BIN ABDULLAH | C29: ='PROFIL KELAS'!C28 -> 6 CERDIK | D29: ='PROFIL KELAS'!D28 -> BY53034 | E29: ='PROFIL KELAS'!O28 -> 80 | F29: =VLOOKUP(E29,GRED4,3,TRUE) -> 0
A30: 12 | B30: ='PROFIL KELAS'!B29 -> MUHAMMAD DENISH RIFQIE BIN ABD RAHMAN | C30: ='PROFIL KELAS'!C29 -> 6 CERDIK | D30: ='PROFIL KELAS'!D29 -> BY55932 | E30: ='PROFIL KELAS'!O29 -> 50 | F30: =VLOOKUP(E30,GRED4,3,TRUE) -> 0
... A68: 50 | B68: ='PROFIL KELAS'!B67 | C68: ='PROFIL KELAS'!C67 | D68: ='PROFIL KELAS'!D67 | E68: ='PROFIL KELAS'!O67 | F68: =VLOOKUP(E68,GRED4,3,TRUE) -> #N/A
E72: ……………………………………………………………
E73: ( | F73: )
E74: Nama dan Cap
E75: Guru Besar
D77: Tarikh:

Sheet KINE
A6: PELAPORAN PENTAKSIRAN PSIKOMETRIK
A7: UJIAN APTITUD TAHUN 6
A8: INVENTORI KECERDASAN PELBAGAI (IKeP)
A10: TAHUN 2016
B12: NAMA SEKOLAH : | C12: =DATA!C2 -> SK FELDA PALONG 5
B13: KOD SEKOLAH : | C13: =DATA!C3 -> NBA6016
B14: KELAS : | C14: ='PROFIL KELAS'!D14 -> 6 CERDIK
B16: KECERDASAN | C16: KINESTATIK
A18: BIL | B18: NAMA MURID | C18: KELAS | D18: BC/IC | E18: KINESTATIK | F18: CATATAN
A19: 1 | B19: ='PROFIL KELAS'!B18 -> ABDUL KHAIRIL IZWAN BIN ABDUL KHALID | C19: ='PROFIL KELAS'!C18 -> 6 CERDIK | D19: ='PROFIL KELAS'!D18 -> BY54520 | E19: ='PROFIL KELAS'!Q18 -> 70 | F19: =VLOOKUP(E19,GRED4,3,TRUE) -> 0
A20: 2 | B20: ='PROFIL KELAS'!B19 -> AMEER SUFFIAN BIN MOHD RAZUAN | C20: ='PROFIL KELAS'!C19 -> 6 CERDIK | D20: ='PROFIL KELAS'!D19 -> CB48425 | E20: ='PROFIL KELAS'!Q19 -> 70 | F20: =VLOOKUP(E20,GRED4,3,TRUE) -> 0
A21: 3 | B21: ='PROFIL KELAS'!B20 -> AMEERA SAFFIAH BINTI MOHD RAZUAN | C21: ='PROFIL KELAS'!C20 -> 6 CERDIK | D21: ='PROFIL KELAS'!D20 -> CB48424 | E21: ='PROFIL KELAS'!Q20 -> 80 | F21: =VLOOKUP(E21,GRED4,3,TRUE) -> 0
A22: 4 | B22: ='PROFIL KELAS'!B21 -> DARWISY ZULHILMI BIN SHAHIDAN | C22: ='PROFIL KELAS'!C21 -> 6 CERDIK | D22: ='PROFIL KELAS'!D21 -> BY54836 | E22: ='PROFIL KELAS'!Q21 -> 70 | F22: =VLOOKUP(E22,GRED4,3,TRUE) -> 0
A23: 5 | B23: ='PROFIL KELAS'!B22 -> DELISHA HANA BINTI AZMAN | C23: ='PROFIL KELAS'!C22 -> 6 CERDIK | D23: ='PROFIL KELAS'!D22 -> BY54529 | E23: ='PROFIL KELAS'!Q22 -> 80 | F23: =VLOOKUP(E23,GRED4,3,TRUE) -> 0
A24: 6 | B24: ='PROFIL KELAS'!B23 -> HARRAZ ZAKWAN BIN MOHD IMRANSYAH | C24: ='PROFIL KELAS'!C23 -> 6 CERDIK | D24: ='PROFIL KELAS'!D23 -> BX58302 | E24: ='PROFIL KELAS'!Q23 -> 50 | F24: =VLOOKUP(E24,GRED4,3,TRUE) -> 0
A25: 7 | B25: ='PROFIL KELAS'!B24 -> MOHAMAD DANISH DANIAL BIN MOHAMAD NASARUDDIN | C25: ='PROFIL KELAS'!C24 -> 6 CERDIK | D25: ='PROFIL KELAS'!D24 -> CA19676 | E25: ='PROFIL KELAS'!Q24 -> 60 | F25: =VLOOKUP(E25,GRED4,3,TRUE) -> 0
A26: 8 | B26: ='PROFIL KELAS'!B25 -> MOHAMAD MIKHAIL HAQIMI BIN ABDULLAH | C26: ='PROFIL KELAS'!C25 -> 6 CERDIK | D26: ='PROFIL KELAS'!D25 -> CC54134 | E26: ='PROFIL KELAS'!Q25 -> 90 | F26: =VLOOKUP(E26,GRED4,3,TRUE) -> 0
A27: 9 | B27: ='PROFIL KELAS'!B26 -> MUHAMMAD AMIN BIN ISKANDAR | C27: ='PROFIL KELAS'!C26 -> 6 CERDIK | D27: ='PROFIL KELAS'!D26 -> CA39174 | E27: ='PROFIL KELAS'!Q26 -> 40 | F27: =VLOOKUP(E27,GRED4,3,TRUE) -> 0
A28: 10 | B28: ='PROFIL KELAS'!B27 -> MUHAMMAD AMIRUL IMAN BIN ADAM | C28: ='PROFIL KELAS'!C27 -> 6 CERDIK | D28: ='PROFIL KELAS'!D27 -> BC59535 | E28: ='PROFIL KELAS'!Q27 -> 60 | F28: =VLOOKUP(E28,GRED4,3,TRUE) -> 0
A29: 11 | B29: ='PROFIL KELAS'!B28 -> MUHAMMAD DANIEL ASHRAF BIN ABDULLAH | C29: ='PROFIL KELAS'!C28 -> 6 CERDIK | D29: ='PROFIL KELAS'!D28 -> BY53034 | E29: ='PROFIL KELAS'!Q28 -> 70 | F29: =VLOOKUP(E29,GRED4,3,TRUE) -> 0
A30: 12 | B30: ='PROFIL KELAS'!B29 -> MUHAMMAD DENISH RIFQIE BIN ABD RAHMAN | C30: ='PROFIL KELAS'!C29 -> 6 CERDIK | D30: ='PROFIL KELAS'!D29 -> BY55932 | E30: ='PROFIL KELAS'!Q29 -> 50 | F30: =VLOOKUP(E30,GRED4,3,TRUE) -> 0
... A68: 50 | B68: ='PROFIL KELAS'!B67 | C68: ='PROFIL KELAS'!C67 | D68: ='PROFIL KELAS'!D67 | E68: ='PROFIL KELAS'!Q67 | F68: =VLOOKUP(E68,GRED4,3,TRUE) -> #N/A
E72: ……………………………………………………………
E73: ( | F73: )
E74: Nama dan Cap
E75: Guru Besar
D77: Tarikh:

Sheet MUZIK
A6: PELAPORAN PENTAKSIRAN PSIKOMETRIK
A7: UJIAN APTITUD TAHUN 6
A8: INVENTORI KECERDASAN PELBAGAI (IKeP)
A9: TAHUN 2016
B12: NAMA SEKOLAH : | C12: =DATA!C2 -> SK FELDA PALONG 5
B13: KOD SEKOLAH : | C13: =DATA!C3 -> NBA6016
B14: KELAS : | C14: ='PROFIL KELAS'!D14 -> 6 CERDIK
B16: KECERDASAN | C16: MUZIK
A18: BIL | B18: NAMA MURID | C18: KELAS | D18: BC/IC | E18: MUZIK | F18: CATATAN
A19: 1 | B19: ='PROFIL KELAS'!B18 -> ABDUL KHAIRIL IZWAN BIN ABDUL KHALID | C19: ='PROFIL KELAS'!C18 -> 6 CERDIK | D19: ='PROFIL KELAS'!D18 -> BY54520 | E19: ='PROFIL KELAS'!S18 -> 60 | F19: =VLOOKUP(E19,GRED4,3,TRUE) -> 0
A20: 2 | B20: ='PROFIL KELAS'!B19 -> AMEER SUFFIAN BIN MOHD RAZUAN | C20: ='PROFIL KELAS'!C19 -> 6 CERDIK | D20: ='PROFIL KELAS'!D19 -> CB48425 | E20: ='PROFIL KELAS'!S19 -> 70 | F20: =VLOOKUP(E20,GRED4,3,TRUE) -> 0
A21: 3 | B21: ='PROFIL KELAS'!B20 -> AMEERA SAFFIAH BINTI MOHD RAZUAN | C21: ='PROFIL KELAS'!C20 -> 6 CERDIK | D21: ='PROFIL KELAS'!D20 -> CB48424 | E21: ='PROFIL KELAS'!S20 -> 40 | F21: =VLOOKUP(E21,GRED4,3,TRUE) -> 0
A22: 4 | B22: ='PROFIL KELAS'!B21 -> DARWISY ZULHILMI BIN SHAHIDAN | C22: ='PROFIL KELAS'!C21 -> 6 CERDIK | D22: ='PROFIL KELAS'!D21 -> BY54836 | E22: ='PROFIL KELAS'!S21 -> 40 | F22: =VLOOKUP(E22,GRED4,3,TRUE) -> 0
A23: 5 | B23: ='PROFIL KELAS'!B22 -> DELISHA HANA BINTI AZMAN | C23: ='PROFIL KELAS'!C22 -> 6 CERDIK | D23: ='PROFIL KELAS'!D22 -> BY54529 | E23: ='PROFIL KELAS'!S22 -> 90 | F23: =VLOOKUP(E23,GRED4,3,TRUE) -> 0
A24: 6 | B24: ='PROFIL KELAS'!B23 -> HARRAZ ZAKWAN BIN MOHD IMRANSYAH | C24: ='PROFIL KELAS'!C23 -> 6 CERDIK | D24: ='PROFIL KELAS'!D23 -> BX58302 | E24: ='PROFIL KELAS'!S23 -> 70 | F24: =VLOOKUP(E24,GRED4,3,TRUE) -> 0
A25: 7 | B25: ='PROFIL KELAS'!B24 -> MOHAMAD DANISH DANIAL BIN MOHAMAD NASARUDDIN | C25: ='PROFIL KELAS'!C24 -> 6 CERDIK | D25: ='PROFIL KELAS'!D24 -> CA19676 | E25: ='PROFIL KELAS'!S24 -> 40 | F25: =VLOOKUP(E25,GRED4,3,TRUE) -> 0
A26: 8 | B26: ='PROFIL KELAS'!B25 -> MOHAMAD MIKHAIL HAQIMI BIN ABDULLAH | C26: ='PROFIL KELAS'!C25 -> 6 CERDIK | D26: ='PROFIL KELAS'!D25 -> CC54134 | E26: ='PROFIL KELAS'!S25 -> 40 | F26: =VLOOKUP(E26,GRED4,3,TRUE) -> 0
A27: 9 | B27: ='PROFIL KELAS'!B26 -> MUHAMMAD AMIN BIN ISKANDAR | C27: ='PROFIL KELAS'!C26 -> 6 CERDIK | D27: ='PROFIL KELAS'!D26 -> CA39174 | E27: ='PROFIL KELAS'!S26 -> 30 | F27: =VLOOKUP(E27,GRED4,3,TRUE) -> 0
A28: 10 | B28: ='PROFIL KELAS'!B27 -> MUHAMMAD AMIRUL IMAN BIN ADAM | C28: ='PROFIL KELAS'!C27 -> 6 CERDIK | D28: ='PROFIL KELAS'!D27 -> BC59535 | E28: ='PROFIL KELAS'!S27 -> 40 | F28: =VLOOKUP(E28,GRED4,3,TRUE) -> 0
A29: 11 | B29: ='PROFIL KELAS'!B28 -> MUHAMMAD DANIEL ASHRAF BIN ABDULLAH | C29: ='PROFIL KELAS'!C28 -> 6 CERDIK | D29: ='PROFIL KELAS'!D28 -> BY53034 | E29: ='PROFIL KELAS'!S28 -> 40 | F29: =VLOOKUP(E29,GRED4,3,TRUE) -> 0
A30: 12 | B30: ='PROFIL KELAS'!B29 -> MUHAMMAD DENISH RIFQIE BIN ABD RAHMAN | C30: ='PROFIL KELAS'!C29 -> 6 CERDIK | D30: ='PROFIL KELAS'!D29 -> BY55932 | E30: ='PROFIL KELAS'!S29 -> 10 | F30: =VLOOKUP(E30,GRED4,3,TRUE) -> 0
... A68: 50 | B68: ='PROFIL KELAS'!B67 | C68: ='PROFIL KELAS'!C67 | D68: ='PROFIL KELAS'!D67 | E68: ='PROFIL KELAS'!S67 | F68: =VLOOKUP(E68,GRED4,3,TRUE) -> #N/A
E72: …………………………………………………………..
E73: ( | F73: )
E74: Nama dan Cap
E75: Guru Besar
D77: Tarikh:

Sheet EKSIS
A7: PELAPORAN PENTAKSIRAN PSIKOMETRIK
A8: UJIAN APTITUD TAHUN 6
A9: INVENTORI KECERDASAN PELBAGAI (IKeP)
A10: TAHUN 2016
B12: NAMA SEKOLAH : | C12: =DATA!C2 -> SK FELDA PALONG 5
B13: KOD SEKOLAH : | C13: =DATA!C3 -> NBA6016
B14: KELAS : | C14: ='PROFIL KELAS'!D14 -> 6 CERDIK
B16: KECERDASAN | C16: EKSISTENSIAL
A18: BIL | B18: NAMA MURID | C18: KELAS | D18: BC/IC | E18: EKSISTENSIAL | F18: CATATAN
A19: 1 | B19: ='PROFIL KELAS'!B18 -> ABDUL KHAIRIL IZWAN BIN ABDUL KHALID | C19: ='PROFIL KELAS'!C18 -> 6 CERDIK | D19: ='PROFIL KELAS'!D18 -> BY54520 | E19: ='PROFIL KELAS'!U18 -> 90 | F19: =VLOOKUP(E19,GRED4,3,TRUE) -> 0
A20: 2 | B20: ='PROFIL KELAS'!B19 -> AMEER SUFFIAN BIN MOHD RAZUAN | C20: ='PROFIL KELAS'!C19 -> 6 CERDIK | D20: ='PROFIL KELAS'!D19 -> CB48425 | E20: ='PROFIL KELAS'!U19 -> 90 | F20: =VLOOKUP(E20,GRED4,3,TRUE) -> 0
A21: 3 | B21: ='PROFIL KELAS'!B20 -> AMEERA SAFFIAH BINTI MOHD RAZUAN | C21: ='PROFIL KELAS'!C20 -> 6 CERDIK | D21: ='PROFIL KELAS'!D20 -> CB48424 | E21: ='PROFIL KELAS'!U20 -> 90 | F21: =VLOOKUP(E21,GRED4,3,TRUE) -> 0
A22: 4 | B22: ='PROFIL KELAS'!B21 -> DARWISY ZULHILMI BIN SHAHIDAN | C22: ='PROFIL KELAS'!C21 -> 6 CERDIK | D22: ='PROFIL KELAS'!D21 -> BY54836 | E22: ='PROFIL KELAS'!U21 -> 100 | F22: =VLOOKUP(E22,GRED4,3,TRUE) -> 0
A23: 5 | B23: ='PROFIL KELAS'!B22 -> DELISHA HANA BINTI AZMAN | C23: ='PROFIL KELAS'!C22 -> 6 CERDIK | D23: ='PROFIL KELAS'!D22 -> BY54529 | E23: ='PROFIL KELAS'!U22 -> 80 | F23: =VLOOKUP(E23,GRED4,3,TRUE) -> 0
A24: 6 | B24: ='PROFIL KELAS'!B23 -> HARRAZ ZAKWAN BIN MOHD IMRANSYAH | C24: ='PROFIL KELAS'!C23 -> 6 CERDIK | D24: ='PROFIL KELAS'!D23 -> BX58302 | E24: ='PROFIL KELAS'!U23 -> 90 | F24: =VLOOKUP(E24,GRED4,3,TRUE) -> 0
A25: 7 | B25: ='PROFIL KELAS'!B24 -> MOHAMAD DANISH DANIAL BIN MOHAMAD NASARUDDIN | C25: ='PROFIL KELAS'!C24 -> 6 CERDIK | D25: ='PROFIL KELAS'!D24 -> CA19676 | E25: ='PROFIL KELAS'!U24 -> 90 | F25: =VLOOKUP(E25,GRED4,3,TRUE) -> 0
A26: 8 | B26: ='PROFIL KELAS'!B25 -> MOHAMAD MIKHAIL HAQIMI BIN ABDULLAH | C26: ='PROFIL KELAS'!C25 -> 6 CERDIK | D26: ='PROFIL KELAS'!D25 -> CC54134 | E26: ='PROFIL KELAS'!U25 -> 100 | F26: =VLOOKUP(E26,GRED4,3,TRUE) -> 0
A27: 9 | B27: ='PROFIL KELAS'!B26 -> MUHAMMAD AMIN BIN ISKANDAR | C27: ='PROFIL KELAS'!C26 -> 6 CERDIK | D27: ='PROFIL KELAS'!D26 -> CA39174 | E27: ='PROFIL KELAS'!U26 -> 80 | F27: =VLOOKUP(E27,GRED4,3,TRUE) -> 0
A28: 10 | B28: ='PROFIL KELAS'!B27 -> MUHAMMAD AMIRUL IMAN BIN ADAM | C28: ='PROFIL KELAS'!C27 -> 6 CERDIK | D28: ='PROFIL KELAS'!D27 -> BC59535 | E28: ='PROFIL KELAS'!U27 -> 40 | F28: =VLOOKUP(E28,GRED4,3,TRUE) -> 0
A29: 11 | B29: ='PROFIL KELAS'!B28 -> MUHAMMAD DANIEL ASHRAF BIN ABDULLAH | C29: ='PROFIL KELAS'!C28 -> 6 CERDIK | D29: ='PROFIL KELAS'!D28 -> BY53034 | E29: ='PROFIL KELAS'!U28 -> 90 | F29: =VLOOKUP(E29,GRED4,3,TRUE) -> 0
A30: 12 | B30: ='PROFIL KELAS'!B29 -> MUHAMMAD DENISH RIFQIE BIN ABD RAHMAN | C30: ='PROFIL KELAS'!C29 -> 6 CERDIK | D30: ='PROFIL KELAS'!D29 -> BY55932 | E30: ='PROFIL KELAS'!U29 -> 80 | F30: =VLOOKUP(E30,GRED4,3,TRUE) -> 0
... A68: 50 | B68: ='PROFIL KELAS'!B67 | C68: ='PROFIL KELAS'!C67 | D68: ='PROFIL KELAS'!D67 | E68: ='PROFIL KELAS'!U67 | F68: =VLOOKUP(E68,GRED4,3,TRUE) -> #N/A
E72: ……………………………………………………………
E73: ( | F73: )
E74: Nama dan Cap
E75: Guru Besar
D77: Tarikh:

Sheet PROFIL IND
A7: PELAPORAN PENTAKSIRAN PSIKOMETRIK
A8: UJIAN APTITUD TAHUN 6
A9: INVENTORI KECERDASAN PELBAGAI (IKeP)
A10: TAHUN 2020
C12: NAMA SEKOLAH | F12: : | G12: =DATA!C2 -> SK FELDA PALONG 5
C13: KOD SEKOLAH | F13: : | G13: =DATA!C3 -> NBA6016
C14: NAMA MURID | F14: : | G14: AMEER SUFFIAN BIN MOHD RAZUAN
C15: NO PENGENALAN DIRI | F15: : | G15: =VLOOKUP($G$14,PROFIL_DATA,3,0) -> CB48425
C16: TAHUN | F16: : | G16: =VLOOKUP(G14,PROFIL_DATA,2,0) -> 6 CERDIK
C18: BIL | E18: KONSTRUK | J18: SKOR | L18: %
C19: 1 | D19: VERBAL LINGUISTIK | J19: =L19/10 -> 1 | L19: =VLOOKUP($G$14,PROFIL_DATA,4,0) -> 10
C20: 2 | D20: LOGIK MATEMATIK | J20: =L20/10 -> 8 | L20: =VLOOKUP($G$14,PROFIL_DATA,6,0) -> 80
C21: 3 | D21: INTRAPERSONAL | J21: =L21/10 -> 5 | L21: =VLOOKUP($G$14,PROFIL_DATA,8,0) -> 50
C22: 4 | D22: VISUAL RUANG | J22: =L22/10 -> 4 | L22: =VLOOKUP($G$14,PROFIL_DATA,10,0) -> 40
C23: 5 | D23: NATURALIS | J23: =L23/10 -> 6 | L23: =VLOOKUP($G$14,PROFIL_DATA,12,0) -> 60
C24: 6 | D24: INTERPERSONAL | J24: =L24/10 -> 10 | L24: =VLOOKUP($G$14,PROFIL_DATA,14,0) -> 100
C25: 7 | D25: KINESTETIK | J25: =L25/10 -> 7 | L25: =VLOOKUP($G$14,PROFIL_DATA,16,0) -> 70
C26: 8 | D26: MUZIK | J26: =L26/10 -> 7 | L26: =VLOOKUP($G$14,PROFIL_DATA,18,0) -> 70
C27: 9 | D27: EKSISTENSIAL | J27: =L27/10 -> 9 | L27: =VLOOKUP($G$14,PROFIL_DATA,20,0) -> 90
F30: Interpretasi :
F31: 75%-100% | I31: Tinggi
F32: 50%-74% | I32: Sederhana
F33: 0%-49% | I33: Rendah
A36: PENERANGAN INVENTORI KECERDASAN PELBAGAI (IKeP)
B38: KONSTRUK | F38: PENERANGAN
B39: VERBAL LINGUISTIK | F39: Keupayaan seseorang individu menggunakan bahasa, memahami maklumat
F40: dan memberi respon dalam pelbagai bentuk set komunikasi
B41: LOGIK MATEMATIK | F41: Keupayaan seseorang menggunakan nombor dalam kehidupan seharian untuk
F42: membuat penyelesaian secara logikal.
B43: VISUAL RUANG | F43: Keupayaan individu mengguna, menganggar dan menginterpretasi ruang.
B45: MUZIK | F45: Keupayaan individu menghargai, menghayati dan menggubah muzik.
B47: NATURALIS | F47: Keupayaan individu mengenalpasti, menghargai alam semulajadi.
B49: INTRAPERSONAL | F49: Keupayaan individu memahami dan menilai kekuatan, kelemahan, bakat dan
F50: minat kendiri.
B51: INTERPERSONAL | F51: Keupayaan individu berkomunikasi, berinteraksi dan bekerjasama dengan
F52: orang lain.
B53: KINESTETIK | F53: Keupayaan individu melakukan aktiviti yang melibatkan anggota tubuh badan
F54: dalam menyelesaikan masalah.
B55: EKSISTENSIAL | F55: Keupayaan individu memahami kewujudan fitrah manusia serta alam lain.
J64: TARIKH | K64: :
