Workbook
Name BC_IC: DATA!#REF!
Name BI1_: DATA!#REF!
Name BI1_: DATA!#REF!
Name BI1_: DATA!#REF!
Name BI2_: DATA!$I$10:$I$59
Name BI3_: DATA!$J$10:$J$59
Name BIL: DATA!$A$10:$A$59
Name BM1_: DATA!$E$10:$E$59
Name BM2_: DATA!$F$10:$F$59
Name BM3_: DATA!#REF!
Name BM3_: DATA!#REF!
Name BM3_: DATA!#REF!
Name CATATAN: DATA!#REF!
Name CATATAN: DATA!#REF!
Name CATATAN: DATA!#REF!
Name DATA: DATA!$B$9:$O$59
Name DATA: DATA!$B$9:$O$59
Name DYDVList: '[1](1023an)'!$E$4:INDEX('[1](1023an)'!$E$4:$E$10,'[1](1023an)'!$E$2)
Name GRED: DATA!#REF!
Name GRED: DATA!#REF!
Name GRED: DATA!#REF!
Name GRED1: 'DATA TRANSIT'!$B$79:$D$82
Name GRED1: 'PROFIL KELAS'!$B$79:$D$82
Name GRED1: 'DATA TRANSIT'!$B$79:$D$82
Name GRED2: DATA!$B$45:$D$74
Name GRED2: DATA!$B$45:$D$74
Name GRED3: DATA!$B$520:$C$523
Name GRED4: DATA!$B$518:$D$520
Name KELAS: DATA!$D$10:$D$44
Name LISTKELAS_DROPMENU: DATA!$Z$12:INDEX(DATA!$Z$12:$Z$31,DATA!$Z$10)
Name M1_: DATA!$K$10:$K$59
Name M2_: DATA!$L$10:$L$59
Name M3_: DATA!$M$10:$M$59
Name MAIL_MERGE: 'DATA TRANSIT'!$B$17:$AB$77
Name MARKAH: DATA!#REF!
Name MARKAH: DATA!#REF!
Name MARKAH: DATA!#REF!
Name NAMA_MURID: DATA!$B$10:$B$44
Name NAMA_MURID_PROFIL: 'PROFIL KELAS'!$B$18:$B$77
Name PROFIL_DATA: 'PROFIL KELAS'!$B$18:$V$77
Name VL: 'PROFIL KELAS'!$E$18:$E$67
Name VL: 'DATA TRANSIT'!$E$18:$E$67

Sheet IKeP
H15: SK FELDA PALONG 5
H17: NBA6016
H20: 6 CERDIK
H22: HARYANTI BINTI ABD. KADIR
H24: HAMINUDIN BIN BOHARI

Sheet DATA
B2: NAMA SEKOLAH | C2: =IKeP!H15 -> SK FELDA PALONG 5
B3: KOD SEKOLAH | C3: =IKeP!H17 -> NBA6016
B6: NAMA GURU BIMBINGAN DAN KAUNSELING | C6: =IKeP!H22 -> HARYANTI BINTI ABD. KADIR
E8: SKOR INVENTORI KECERDASAN PELBAGAI
A9: BIL | B9: NAMA MURID | C9: KELAS | D9: NO. KAD PENGENALAN / NO. SURAT BERANAK | E9: VL | F9: LM | G9: INTRA | H9: VR | I9: NAT | J9: INTER | K9: KINE | L9: MUZIK | M9: EKSIS | N9: NAMA SEKOLAH | O9: KOD SEKOLAH | P9: VL% | Q9: lm% | R9: INTRA% | S9: VR% | T9: NAT% | U9: INTER% | V9: KINE% | W9: MUZIK% | X9: EKSIS% | Z9: Unique Count | AA9: Column1 | AB9: Formula For Defined Name For DV List: | CC9: N/A
A10: 1 | B10: ABDUL KHAIRIL IZWAN BIN ABDUL KHALID | C10: 6 CERDIK | D10: BY54520 | E10: 6 | F10: 8 | G10: 7 | H10: 6 | I10: 7 | J10: 7 | K10: 7 | L10: 6 | M10: 9 | N10: Sederhana | O10: 70 | P10: Sederhana | Q10: 0 | S10: 30 | T10: Rendah | U10: 100 | V10: =K10*10 -> 70 | W10: =L10*10 -> 60 | X10: =M10*10 -> 90 | Z10: {=SUM(IF(FREQUENCY(IF($C$10:$C$510<>"",MATCH($C$10:$C$510,$C$10:$C$510,0)),ROW($C$10:$C$510)-ROW($D$10)+1),1))} -> 2 | AB10: {=$Z$12:INDEX($Z$12:$Z$31,$Z$10)} -> 6 CERDIK | CC10: 0
A11: 2 | B11: AMEER SUFFIAN BIN MOHD RAZUAN | C11: 6 CERDIK | D11: CB48425 | E11: 1 | F11: 8 | G11: 5 | H11: 4 | I11: 6 | J11: 10 | K11: 7 | L11: 7 | M11: 9 | N11: Sederhana | O11: 80 | P11: Tinggi | Q11: 60 | R11: Sederhana | S11: 10 | T11: Rendah | U11: 80 | V11: =K11*10 -> 70 | W11: =L11*10 -> 70 | X11: =M11*10 -> 90 | Z11: Return Unique Items | CC11: 1
A12: 3 | B12: AMEERA SAFFIAH BINTI MOHD RAZUAN | C12: 6 CERDIK | D12: CB48424 | E12: 3 | F12: 6 | G12: 9 | H12: 8 | I12: 8 | J12: 7 | K12: 8 | L12: 4 | M12: 9 | N12: Sederhana | O12: 90 | P12: Tinggi | Q12: 100 | R12: Tinggi | S12: 40 | T12: Rendah | U12: 90 | V12: =K12*10 -> 80 | W12: =L12*10 -> 40 | X12: =M12*10 -> 90 | Z12: {=IF(ROWS(Z$12:Z12)>$Z$10,"",INDEX($C$10:$C$510,SMALL(IF(FREQUENCY(IF($C$10:$C$510<>"",MATCH($C$10:$C$510,$C$10:$C$510,0)),ROW($C$10:$C$510)-ROW($D$10)+1),ROW($C$10:$C$510)-ROW($D$10)+1),ROWS(Z$12:Z12))))} -> 6 CERDIK | AB12: Select From Drop-down: | CC12: 2
A13: 4 | B13: DARWISY ZULHILMI BIN SHAHIDAN | C13: 6 CERDIK | D13: BY54836 | E13: 2 | F13: 8 | G13: 8 | H13: 5 | I13: 10 | J13: 6 | K13: 7 | L13: 4 | M13: 10 | N13: Sederhana | O13: 80 | P13: Tinggi | Q13: 80 | R13: Tinggi | S13: 70 | T13: Sederhana | U13: 60 | V13: =K13*10 -> 70 | W13: =L13*10 -> 40 | X13: =M13*10 -> 100 | Z13: {=IF(ROWS(Z$12:Z13)>$Z$10,"",INDEX($C$10:$C$510,SMALL(IF(FREQUENCY(IF($C$10:$C$510<>"",MATCH($C$10:$C$510,$C$10:$C$510,0)),ROW($C$10:$C$510)-ROW($D$10)+1),ROW($C$10:$C$510)-ROW($D$10)+1),ROWS(Z$12:Z13))))} -> 6 BIJAK | CC13: 3
A14: 5 | B14: DELISHA HANA BINTI AZMAN | C14: 6 CERDIK | D14: BY54529 | E14: 10 | F14: 10 | G14: 10 | H14: 9 | I14: 10 | J14: 9 | K14: 8 | L14: 9 | M14: 8 | N14: Tinggi | O14: 50 | P14: Sederhana | Q14: 70 | R14: Sederhana | S14: 40 | T14: Rendah | U14: 70 | V14: =K14*10 -> 80 | W14: =L14*10 -> 90 | X14: =M14*10 -> 80 | Z14: {=IF(ROWS(Z$12:Z14)>$Z$10,"",INDEX($C$10:$C$510,SMALL(IF(FREQUENCY(IF($C$10:$C$510<>"",MATCH($C$10:$C$510,$C$10:$C$510,0)),ROW($C$10:$C$510)-ROW($D$10)+1),ROW($C$10:$C$510)-ROW($D$10)+1),ROWS(Z$12:Z14))))} | CC14: 4
A15: 6 | B15: HARRAZ ZAKWAN BIN MOHD IMRANSYAH | C15: 6 CERDIK | D15: BX58302 | E15: 3 | F15: 8 | G15: 8 | H15: 7 | I15: 5 | J15: 7 | K15: 5 | L15: 7 | M15: 9 | N15: Tinggi | O15: 90 | P15: Tinggi | Q15: 50 | R15: Sederhana | S15: 70 | T15: Sederhana | U15: 80 | V15: =K15*10 -> 50 | W15: =L15*10 -> 70 | X15: =M15*10 -> 90 | Z15: {=IF(ROWS(Z$12:Z15)>$Z$10,"",INDEX($C$10:$C$510,SMALL(IF(FREQUENCY(IF($C$10:$C$510<>"",MATCH($C$10:$C$510,$C$10:$C$510,0)),ROW($C$10:$C$510)-ROW($D$10)+1),ROW($C$10:$C$510)-ROW($D$10)+1),ROWS(Z$12:Z15))))} | CC15: 5
A16: 7 | B16: MOHAMAD DANISH DANIAL BIN MOHAMAD NASARUDDIN | C16: 6 CERDIK | D16: CA19676 | E16: 3 | F16: 6 | G16: 8 | H16: 6 | I16: 10 | J16: 7 | K16: 6 | L16: 4 | M16: 9 | N16: Tinggi | O16: 80 | P16: Tinggi | Q16: 100 | R16: Tinggi | S16: 50 | T16: Sederhana | U16: 90 | V16: =K16*10 -> 60 | W16: =L16*10 -> 40 | X16: =M16*10 -> 90 | Z16: {=IF(ROWS(Z$12:Z16)>$Z$10,"",INDEX($C$10:$C$510,SMALL(IF(FREQUENCY(IF($C$10:$C$510<>"",MATCH($C$10:$C$510,$C$10:$C$510,0)),ROW($C$10:$C$510)-ROW($D$10)+1),ROW($C$10:$C$510)-ROW($D$10)+1),ROWS(Z$12:Z16))))} | CC16: 6
A17: 8 | B17: MOHAMAD MIKHAIL HAQIMI BIN ABDULLAH | C17: 6 CERDIK | D17: CC54134 | E17: 1 | F17: 10 | G17: 9 | H17: 8 | I17: 7 | J17: 8 | K17: 9 | L17: 4 | M17: 10 | N17: Tinggi | O17: 70 | P17: Sederhana | Q17: 70 | R17: Sederhana | S17: 50 | T17: Sederhana | U17: 100 | V17: =K17*10 -> 90 | W17: =L17*10 -> 40 | X17: =M17*10 -> 100 | Z17: {=IF(ROWS(Z$12:Z17)>$Z$10,"",INDEX($C$10:$C$510,SMALL(IF(FREQUENCY(IF($C$10:$C$510<>"",MATCH($C$10:$C$510,$C$10:$C$510,0)),ROW($C$10:$C$510)-ROW($D$10)+1),ROW($C$10:$C$510)-ROW($D$10)+1),ROWS(Z$12:Z17))))} | CC17: 7
A18: 9 | B18: MUHAMMAD AMIN BIN ISKANDAR | C18: 6 CERDIK | D18: CA39174 | E18: 0 | F18: 3 | G18: 8 | H18: 3 | I18: 4 | J18: 7 | K18: 4 | L18: 3 | M18: 8 | N18: Sederhana | O18: 100 | P18: Tinggi | Q18: 40 | R18: Rendah | S18: 30 | T18: Rendah | U18: 50 | V18: =K18*10 -> 40 | W18: =L18*10 -> 30 | X18: =M18*10 -> 80 | Z18: {=IF(ROWS(Z$12:Z18)>$Z$10,"",INDEX($C$10:$C$510,SMALL(IF(FREQUENCY(IF($C$10:$C$510<>"",MATCH($C$10:$C$510,$C$10:$C$510,0)),ROW($C$10:$C$510)-ROW($D$10)+1),ROW($C$10:$C$510)-ROW($D$10)+1),ROWS(Z$12:Z18))))} | CC18: 8
A19: 10 | B19: MUHAMMAD AMIRUL IMAN BIN ADAM | C19: 6 CERDIK | D19: BC59535 | E19: 2 | F19: 4 | G19: 7 | H19: 4 | I19: 2 | J19: 6 | K19: 6 | L19: 4 | M19: 4 | N19: Tinggi | O19: 100 | P19: Tinggi | Q19: 100 | R19: Tinggi | S19: 60 | T19: Sederhana | U19: 90 | V19: =K19*10 -> 60 | W19: =L19*10 -> 40 | X19: =M19*10 -> 40 | Z19: {=IF(ROWS(Z$12:Z19)>$Z$10,"",INDEX($C$10:$C$510,SMALL(IF(FREQUENCY(IF($C$10:$C$510<>"",MATCH($C$10:$C$510,$C$10:$C$510,0)),ROW($C$10:$C$510)-ROW($D$10)+1),ROW($C$10:$C$510)-ROW($D$10)+1),ROWS(Z$12:Z19))))} | CC19: 9
A20: 11 | B20: MUHAMMAD DANIEL ASHRAF BIN ABDULLAH | C20: 6 CERDIK | D20: BY53034 | E20: 5 | F20: 8 | G20: 7 | H20: 8 | I20: 8 | J20: 8 | K20: 7 | L20: 4 | M20: 9 | N20: Sederhana | O20: 90 | P20: Tinggi | Q20: 90 | R20: Tinggi | S20: 100 | T20: Tinggi | U20: 100 | V20: =K20*10 -> 70 | W20: =L20*10 -> 40 | X20: =M20*10 -> 90 | Z20: {=IF(ROWS(Z$12:Z20)>$Z$10,"",INDEX($C$10:$C$510,SMALL(IF(FREQUENCY(IF($C$10:$C$510<>"",MATCH($C$10:$C$510,$C$10:$C$510,0)),ROW($C$10:$C$510)-ROW($D$10)+1),ROW($C$10:$C$510)-ROW($D$10)+1),ROWS(Z$12:Z20))))} | CC20: 10
A21: 12 | B21: MUHAMMAD DENISH RIFQIE BIN ABD RAHMAN | C21: 6 CERDIK | D21: BY55932 | E21: 2 | F21: 7 | G21: 5 | H21: 6 | I21: 10 | J21: 5 | K21: 5 | L21: 1 | M21: 8 | N21: Sederhana | O21: 80 | P21: Tinggi | Q21: 70 | R21: Sederhana | S21: 0 | U21: 60 | V21: =K21*10 -> 50 | W21: =L21*10 -> 10 | X21: =M21*10 -> 80 | Z21: {=IF(ROWS(Z$12:Z21)>$Z$10,"",INDEX($C$10:$C$510,SMALL(IF(FREQUENCY(IF($C$10:$C$510<>"",MATCH($C$10:$C$510,$C$10:$C$510,0)),ROW($C$10:$C$510)-ROW($D$10)+1),ROW($C$10:$C$510)-ROW($D$10)+1),ROWS(Z$12:Z21))))}
A22: 13 | B22: MUHAMMAD DENNY IQWAN BIN ABDULLAH | C22: 6 CERDIK | D22: CA98972 | E22: 6 | F22: 9 | G22: 8 | H22: 6 | I22: 10 | J22: 8 | K22: 7 | L22: 5 | M22: 7 | N22: Rendah | O22: 20 | P22: Rendah | Q22: 50 | R22: Sederhana | S22: 30 | T22: Rendah | U22: 30 | V22: =K22*10 -> 70 | W22: =L22*10 -> 50 | X22: =M22*10 -> 70 | Z22: {=IF(ROWS(Z$12:Z22)>$Z$10,"",INDEX($C$10:$C$510,SMALL(IF(FREQUENCY(IF($C$10:$C$510<>"",MATCH($C$10:$C$510,$C$10:$C$510,0)),ROW($C$10:$C$510)-ROW($D$10)+1),ROW($C$10:$C$510)-ROW($D$10)+1),ROWS(Z$12:Z22))))}
A23: 14 | B23: MUHAMMAD FARHAN BIN ABDULLAH | C23: 6 CERDIK | D23: BZ57821 | E23: 2 | F23: 3 | G23: 8 | H23: 5 | I23: 3 | J23: 7 | K23: 8 | L23: 6 | M23: 8 | N23: Tinggi | O23: 60 | P23: Sederhana | Q23: 70 | R23: Sederhana | S23: 50 | T23: Sederhana | U23: 80 | V23: =K23*10 -> 80 | W23: =L23*10 -> 60 | X23: =M23*10 -> 80 | Z23: {=IF(ROWS(Z$12:Z23)>$Z$10,"",INDEX($C$10:$C$510,SMALL(IF(FREQUENCY(IF($C$10:$C$510<>"",MATCH($C$10:$C$510,$C$10:$C$510,0)),ROW($C$10:$C$510)-ROW($D$10)+1),ROW($C$10:$C$510)-ROW($D$10)+1),ROWS(Z$12:Z23))))}
A24: 15 | B24: MUHAMMAD ILMAN IZHAM MUSTAFA | C24: 6 CERDIK | D24: BX60716 | E24: 5 | F24: 6 | G24: 9 | H24: 9 | I24: 3 | J24: 9 | K24: 10 | L24: 8 | M24: 9 | N24: Tinggi | O24: 100 | P24: Tinggi | Q24: 50 | R24: Sederhana | S24: 20 | T24: Rendah | U24: 80 | V24: =K24*10 -> 100 | W24: =L24*10 -> 80 | X24: =M24*10 -> 90 | Z24: {=IF(ROWS(Z$12:Z24)>$Z$10,"",INDEX($C$10:$C$510,SMALL(IF(FREQUENCY(IF($C$10:$C$510<>"",MATCH($C$10:$C$510,$C$10:$C$510,0)),ROW($C$10:$C$510)-ROW($D$10)+1),ROW($C$10:$C$510)-ROW($D$10)+1),ROWS(Z$12:Z24))))}
A25: 16 | B25: MUHAMMAD MIFZAL AQEEF BIN MOHD MAHFUZ | C25: 6 CERDIK | D25: CB94105 | E25: 2 | F25: 5 | G25: 8 | H25: 4 | I25: 8 | J25: 10 | K25: 9 | L25: 3 | M25: 8 | N25: Tinggi | O25: 80 | P25: Tinggi | Q25: 90 | R25: Tinggi | S25: 100 | T25: Tinggi | U25: 90 | V25: =K25*10 -> 90 | W25: =L25*10 -> 30 | X25: =M25*10 -> 80 | Z25: {=IF(ROWS(Z$12:Z25)>$Z$10,"",INDEX($C$10:$C$510,SMALL(IF(FREQUENCY(IF($C$10:$C$510<>"",MATCH($C$10:$C$510,$C$10:$C$510,0)),ROW($C$10:$C$510)-ROW($D$10)+1),ROW($C$10:$C$510)-ROW($D$10)+1),ROWS(Z$12:Z25))))}
A26: 17 | B26: MUHAMMAD NAZRUL IKHWAN BIN KAMARUDIN | C26: 6 CERDIK | D26: BX58344 | E26: 2 | F26: 9 | G26: 9 | H26: 7 | I26: 8 | J26: 7 | K26: 8 | L26: 2 | M26: 10 | N26: Sederhana | O26: 100 | P26: Tinggi | Q26: 90 | R26: Tinggi | S26: 50 | T26: Sederhana | U26: 90 | V26: =K26*10 -> 80 | W26: =L26*10 -> 20 | X26: =M26*10 -> 100 | Z26: {=IF(ROWS(Z$12:Z26)>$Z$10,"",INDEX($C$10:$C$510,SMALL(IF(FREQUENCY(IF($C$10:$C$510<>"",MATCH($C$10:$C$510,$C$10:$C$510,0)),ROW($C$10:$C$510)-ROW($D$10)+1),ROW($C$10:$C$510)-ROW($D$10)+1),ROWS(Z$12:Z26))))}
A27: 18 | B27: MUHAMMAD SYAWAL BIN MUHAMAD RASDI | C27: 6 CERDIK | D27: BY54904 | E27: 4 | F27: 9 | G27: 9 | H27: 8 | I27: 10 | J27: 9 | K27: 8 | L27: 4 | M27: 10 | N27: Sederhana | O27: 60 | P27: Sederhana | Q27: 90 | R27: Tinggi | S27: 20 | T27: Rendah | U27: 70 | V27: =K27*10 -> 80 | W27: =L27*10 -> 40 | X27: =M27*10 -> 100 | Z27: {=IF(ROWS(Z$12:Z27)>$Z$10,"",INDEX($C$10:$C$510,SMALL(IF(FREQUENCY(IF($C$10:$C$510<>"",MATCH($C$10:$C$510,$C$10:$C$510,0)),ROW($C$10:$C$510)-ROW($D$10)+1),ROW($C$10:$C$510)-ROW($D$10)+1),ROWS(Z$12:Z27))))}
A28: 19 | B28: NUR AFIQAH SYUHADAH BINTI RIZAL | C28: 6 CERDIK | D28: CA36570 | E28: 4 | F28: 6 | G28: 7 | H28: 5 | I28: 9 | J28: 7 | K28: 6 | L28: 0 | M28: 9 | N28: Tinggi | O28: 100 | P28: Tinggi | Q28: 90 | R28: Tinggi | S28: 60 | T28: Sederhana | U28: 80 | V28: =K28*10 -> 60 | W28: =L28*10 -> 0 | X28: =M28*10 -> 90 | Z28: {=IF(ROWS(Z$12:Z28)>$Z$10,"",INDEX($C$10:$C$510,SMALL(IF(FREQUENCY(IF($C$10:$C$510<>"",MATCH($C$10:$C$510,$C$10:$C$510,0)),ROW($C$10:$C$510)-ROW($D$10)+1),ROW($C$10:$C$510)-ROW($D$10)+1),ROWS(Z$12:Z28))))}
A29: 20 | B29: NUR AIMUNI FATIYAH BINTI AFZANIZAM | C29: 6 CERDIK | D29: BY54611 | E29: 3 | F29: 7 | G29: 8 | H29: 6 | I29: 9 | J29: 9 | K29: 2 | L29: 3 | M29: 7 | N29: Sederhana | O29: 80 | P29: Tinggi | Q29: 90 | R29: Tinggi | S29: 20 | T29: Rendah | U29: 60 | V29: =K29*10 -> 20 | W29: =L29*10 -> 30 | X29: =M29*10 -> 70 | Z29: {=IF(ROWS(Z$12:Z29)>$Z$10,"",INDEX($C$10:$C$510,SMALL(IF(FREQUENCY(IF($C$10:$C$510<>"",MATCH($C$10:$C$510,$C$10:$C$510,0)),ROW($C$10:$C$510)-ROW($D$10)+1),ROW($C$10:$C$510)-ROW($D$10)+1),ROWS(Z$12:Z29))))}
A30: 21 | B30: NUR AISYAH RAUDAH BINTI RAMLAN | C30: 6 CERDIK | D30: BY56853 | E30: 7 | F30: 7 | G30: 10 | H30: 10 | I30: 9 | J30: 10 | K30: 10 | L30: 10 | M30: 10 | N30: Tinggi | O30: 70 | P30: Sederhana | Q30: 90 | R30: Tinggi | S30: 40 | T30: Rendah | U30: 80 | V30: =K30*10 -> 100 | W30: =L30*10 -> 100 | X30: =M30*10 -> 100 | Z30: {=IF(ROWS(Z$12:Z30)>$Z$10,"",INDEX($C$10:$C$510,SMALL(IF(FREQUENCY(IF($C$10:$C$510<>"",MATCH($C$10:$C$510,$C$10:$C$510,0)),ROW($C$10:$C$510)-ROW($D$10)+1),ROW($C$10:$C$510)-ROW($D$10)+1),ROWS(Z$12:Z30))))}
A31: 22 | B31: NUR ALYA NAJWA BINTI SABARUDIN | C31: 6 CERDIK | D31: CB48440 | E31: 4 | F31: 6 | G31: 9 | H31: 3 | I31: 2 | J31: 10 | K31: 5 | L31: 2 | M31: 8 | N31: Rendah | O31: 80 | P31: Tinggi | Q31: 50 | R31: Sederhana | S31: 100 | T31: Tinggi | U31: 80 | V31: =K31*10 -> 50 | W31: =L31*10 -> 20 | X31: =M31*10 -> 80 | Z31: {=IF(ROWS(Z$12:Z31)>$Z$10,"",INDEX($C$10:$C$510,SMALL(IF(FREQUENCY(IF($C$10:$C$510<>"",MATCH($C$10:$C$510,$C$10:$C$510,0)),ROW($C$10:$C$510)-ROW($D$10)+1),ROW($C$10:$C$510)-ROW($D$10)+1),ROWS(Z$12:Z31))))}
A32: 23 | B32: NUR ATIQAH BALQIS BINTI MARUDDIN | C32: 6 CERDIK | D32: BW04040 | E32: 4 | F32: 6 | G32: 9 | H32: 3 | I32: 9 | J32: 8 | K32: 3 | L32: 4 | M32: 10 | N32: Tinggi | O32: 90 | P32: Tinggi | Q32: 50 | R32: Sederhana | S32: 40 | T32: Rendah | U32: 100 | V32: =K32*10 -> 30 | W32: =L32*10 -> 40 | X32: =M32*10 -> 100
A33: 24 | B33: NUR DAMIA NAJWA BINTI MOHAMAD NIZAM | C33: 6 CERDIK | D33: BY56713 | E33: 4 | F33: 5 | G33: 10 | H33: 5 | I33: 9 | J33: 5 | K33: 6 | L33: 4 | M33: 10 | N33: Sederhana | O33: 100 | P33: Tinggi | Q33: 90 | R33: Tinggi | S33: 20 | T33: Rendah | U33: 80 | V33: =K33*10 -> 60 | W33: =L33*10 -> 40 | X33: =M33*10 -> 100
A34: 25 | B34: NUR HAZURA IZATIE BINTI NOR SHAHFUDIN | C34: 6 CERDIK | D34: CB47713 | E34: 4 | F34: 5 | G34: 8 | H34: 6 | I34: 7 | J34: 4 | K34: 7 | L34: 4 | M34: 9 | N34: Tinggi | O34: 100 | P34: Tinggi | Q34: 70 | R34: Sederhana | S34: 20 | T34: Rendah | U34: 100 | V34: =K34*10 -> 70 | W34: =L34*10 -> 40 | X34: =M34*10 -> 90
A35: 26 | B35: NUR SYAFFIAHTUL HANIS BINTI MOHD ZAINIZAM | C35: 6 CERDIK | D35: BX63361 | E35: 6 | F35: 8 | G35: 7 | H35: 6 | I35: 10 | J35: 7 | K35: 5 | L35: 2 | M35: 6 | N35: Tinggi | O35: 100 | P35: Tinggi | Q35: 90 | R35: Tinggi | S35: 60 | T35: Sederhana | U35: 100 | V35: =K35*10 -> 50 | W35: =L35*10 -> 20 | X35: =M35*10 -> 60
A36: 27 | B36: NURIN KHAIRA BINTI ABDULLAH | C36: 6 CERDIK | D36: BY56722 | E36: 3 | F36: 5 | G36: 9 | H36: 8 | I36: 10 | J36: 9 | K36: 6 | L36: 7 | M36: 9 | N36: Tinggi | O36: 100 | P36: Tinggi | Q36: 100 | R36: Tinggi | S36: 40 | T36: Rendah | U36: 90 | V36: =K36*10 -> 60 | W36: =L36*10 -> 70 | X36: =M36*10 -> 90
A37: 28 | B37: NURMIZA SOFIA BINTI HELMYZAN | C37: 6 CERDIK | D37: BY43841 | E37: 5 | F37: 5 | G37: 8 | H37: 7 | I37: 5 | J37: 8 | K37: 9 | L37: 10 | M37: 6 | N37: Sederhana | O37: 80 | P37: Tinggi | Q37: 30 | R37: Rendah | S37: 20 | T37: Rendah | U37: 50 | V37: =K37*10 -> 90 | W37: =L37*10 -> 100 | X37: =M37*10 -> 60
A38: 29 | B38: NURUL QISTINA BINTI MAHDHIR | C38: 6 CERDIK | D38: CA92823 | E38: 6 | F38: 4 | G38: 5 | H38: 3 | I38: 9 | J38: 7 | K38: 7 | L38: 3 | M38: 6 | N38: Sederhana | O38: 90 | P38: Tinggi | Q38: 90 | R38: Tinggi | S38: 70 | T38: Sederhana | U38: 90 | V38: =K38*10 -> 70 | W38: =L38*10 -> 30 | X38: =M38*10 -> 60
A39: 30 | B39: PUTERI NUR SYAHADAH BINTI MUHAMMAD HANAFI KEW | C39: 6 CERDIK | D39: BY52766 | E39: 5 | F39: 4 | G39: 8 | H39: 6 | I39: 6 | J39: 10 | K39: 6 | L39: 6 | M39: 8 | N39: Tinggi | O39: 80 | P39: Tinggi | Q39: 60 | R39: Sederhana | S39: 40 | T39: Rendah | U39: 70 | V39: =K39*10 -> 60 | W39: =L39*10 -> 60 | X39: =M39*10 -> 80
A40: 31 | B40: RAJA MUZZAFFAR SHAH BIN RAJA NAZRULAZMIR | C40: 6 CERDIK | D40: CB48439 | E40: 5 | F40: 6 | G40: 9 | H40: 5 | I40: 10 | J40: 6 | K40: 9 | L40: 9 | M40: 9 | N40: Tinggi | O40: 90 | P40: Tinggi | Q40: 80 | R40: Tinggi | S40: 30 | T40: Rendah | U40: 90 | V40: =K40*10 -> 90 | W40: =L40*10 -> 90 | X40: =M40*10 -> 90
A41: 32 | B41: SITI NORNAZIATUL AZRINDA BINTI AZMAN | C41: 6 CERDIK | D41: BY20222 | E41: 9 | F41: 9 | G41: 8 | H41: 8 | I41: 10 | J41: 6 | K41: 6 | L41: 6 | M41: 9 | N41: Sederhana | O41: 80 | P41: Tinggi | Q41: 50 | R41: Sederhana | S41: 30 | T41: Rendah | U41: 50 | V41: =K41*10 -> 60 | W41: =L41*10 -> 60 | X41: =M41*10 -> 90
A42: 33 | B42: WARDATUL BATRISYIA BINTI MOHD FAIZUL | C42: 6 CERDIK | D42: CA37578 | E42: 5 | F42: 7 | G42: 8 | H42: 5 | I42: 9 | J42: 8 | K42: 8 | L42: 4 | M42: 9 | N42: Tinggi | O42: 50 | P42: Sederhana | Q42: 40 | R42: Rendah | S42: 30 | T42: Rendah | U42: 50 | V42: =K42*10 -> 80 | W42: =L42*10 -> 40 | X42: =M42*10 -> 90
A43: 34 | B43: AIRIESYA RANIA BINTI ABDULLAH | C43: 6 BIJAK | D43: BY53903 | E43: 4 | F43: 7 | G43: 10 | H43: 8 | I43: 10 | J43: 9 | K43: 9 | L43: 3 | M43: 10 | N43: Tinggi | O43: 70 | P43: Sederhana | Q43: 80 | R43: Tinggi | S43: 50 | T43: Sederhana | U43: 80 | V43: =K43*10 -> 90 | W43: =L43*10 -> 30 | X43: =M43*10 -> 100
A44: 35 | B44: DANIA NURBATRISYIA BINTI MAT SA'AD | C44: 6 BIJAK | D44: CB31088 | E44: 4 | F44: 5 | G44: 5 | H44: 3 | I44: 8 | J44: 5 | K44: 5 | L44: 1 | M44: 6 | N44: Rendah | O44: 90 | P44: Tinggi | Q44: 70 | R44: Sederhana | S44: 40 | T44: Rendah | U44: 90 | V44: =K44*10 -> 50 | W44: =L44*10 -> 10 | X44: =M44*10 -> 60
...

Sheet DATA TRANSIT
A7: PENYATA KEPUTUSAN PENTAKSIRAN PSIKOMETRIK
A8: UJIAN APTITUD TAHUN 6
A9: IINVENTORI KECERDASAN PELBAGAI (IKeP)
A10: TAHUN 2016
B12: NAMA SEKOLAH : | D12: =DATA!C2 -> SK FELDA PALONG 5
B13: KOD SEKOLAH : | D13: =DATA!C3 -> NBA6016
B14: KELAS : | D14: =IKeP!H20 -> 6 CERDIK | M14: =COUNTIF(DATA!C10:C510,$D$14) -> 33
A17: BIL | B17: NAMA MURID | C17: KELAS | D17: NO KAD PENGENALAN | E17: VL | F17: LM | G17: INTRA | H17: VR | I17: NAT | J17: INTER | K17: KINE | L17: MUZIK | M17: EKSIS | R17: NAMA SEK | S17: KOD SEK | T17: VL% | U17: LM% | V17: INTRA% | W17: VR% | X17: NAT% | Y17: INTER% | Z17: KINE% | AA17: MUZIK% | AB17: EKSIS%
A18: 1 | B18: {=IF(ROWS(B$18:B18)<=$M$14,INDEX(DATA!B$10:B$510,SMALL(IF(DATA!$C$10:$C$510=$D$14,ROW(DATA!$B$10:$B$510)-ROW(DATA!$B$10)+1),ROWS(B$18:B18))),"")} -> ABDUL KHAIRIL IZWAN BIN ABDUL KHALID | C18: {=IF(ROWS(C$18:C18)<=$M$14,INDEX(DATA!C$10:C$510,SMALL(IF(DATA!$C$10:$C$510=$D$14,ROW(DATA!$B$10:$B$510)-ROW(DATA!$B$10)+1),ROWS(C$18:C18))),"")} -> 6 CERDIK | D18: {=IF(ROWS(D$18:D18)<=$M$14,INDEX(DATA!D$10:D$510,SMALL(IF(DATA!$C$10:$C$510=$D$14,ROW(DATA!$B$10:$B$510)-ROW(DATA!$B$10)+1),ROWS(D$18:D18))),"")} -> BY54520 | E18: {=IF(ROWS(E$18:E18)<=$M$14,INDEX(DATA!E$10:E$510,SMALL(IF(DATA!$C$10:$C$510=$D$14,ROW(DATA!$B$10:$B$510)-ROW(DATA!$B$10)+1),ROWS(E$18:E18))),"")} -> 6 | F18: {=IF(ROWS(F$18:F18)<=$M$14,INDEX(DATA!F$10:F$510,SMALL(IF(DATA!$C$10:$C$510=$D$14,ROW(DATA!$B$10:$B$510)-ROW(DATA!$B$10)+1),ROWS(F$18:F18))),"")} -> 8 | G18: {=IF(ROWS(G$18:G18)<=$M$14,INDEX(DATA!G$10:G$510,SMALL(IF(DATA!$C$10:$C$510=$D$14,ROW(DATA!$B$10:$B$510)-ROW(DATA!$B$10)+1),ROWS(G$18:G18))),"")} -> 7 | H18: {=IF(ROWS(H$18:H18)<=$M$14,INDEX(DATA!H$10:H$510,SMALL(IF(DATA!$C$10:$C$510=$D$14,ROW(DATA!$B$10:$B$510)-ROW(DATA!$B$10)+1),ROWS(H$18:H18))),"")} -> 6 | I18: {=IF(ROWS(I$18:I18)<=$M$14,INDEX(DATA!I$10:I$510,SMALL(IF(DATA!$C$10:$C$510=$D$14,ROW(DATA!$B$10:$B$510)-ROW(DATA!$B$10)+1),ROWS(I$18:I18))),"")} -> 7 | ... M18: {=IF(ROWS(M$18:M18)<=$M$14,INDEX(DATA!M$10:M$510,SMALL(IF(DATA!$C$10:$C$510=$D$14,ROW(DATA!$B$10:$B$510)-ROW(DATA!$B$10)+1),ROWS(M$18:M18))),"")} -> 9 | R18: =DATA!$C$2 -> SK FELDA PALONG 5 | S18: =DATA!$C$3 -> NBA6016 | T18: ='PROFIL KELAS'!$E18 -> 60 | U18: ='PROFIL KELAS'!$G18 -> 80 | V18: ='PROFIL KELAS'!$I18 -> 70 | W18: ='PROFIL KELAS'!$K18 -> 60 | X18: ='PROFIL KELAS'!$M18 -> 70 | Y18: ='PROFIL KELAS'!$O18 -> 70 | Z18: ='PROFIL KELAS'!$Q18 -> 70 | AA18: ='PROFIL KELAS'!$S18 -> 60 | AB18: ='PROFIL KELAS'!$U18 -> 90
A19: 2 | B19: {=IF(ROWS(B$18:B19)<=$M$14,INDEX(DATA!B$10:B$510,SMALL(IF(DATA!$C$10:$C$510=$D$14,ROW(DATA!$B$10:$B$510)-ROW(DATA!$B$10)+1),ROWS(B$18:B19))),"")} -> AMEER SUFFIAN BIN MOHD RAZUAN | C19: {=IF(ROWS(C$18:C19)<=$M$14,INDEX(DATA!C$10:C$510,SMALL(IF(DATA!$C$10:$C$510=$D$14,ROW(DATA!$B$10:$B$510)-ROW(DATA!$B$10)+1),ROWS(C$18:C19))),"")} -> 6 CERDIK | D19: {=IF(ROWS(D$18:D19)<=$M$14,INDEX(DATA!D$10:D$510,SMALL(IF(DATA!$C$10:$C$510=$D$14,ROW(DATA!$B$10:$B$510)-ROW(DATA!$B$10)+1),ROWS(D$18:D19))),"")} -> CB48425 | E19: {=IF(ROWS(E$18:E19)<=$M$14,INDEX(DATA!E$10:E$510,SMALL(IF(DATA!$C$10:$C$510=$D$14,ROW(DATA!$B$10:$B$510)-ROW(DATA!$B$10)+1),ROWS(E$18:E19))),"")} -> 1 | F19: {=IF(ROWS(F$18:F19)<=$M$14,INDEX(DATA!F$10:F$510,SMALL(IF(DATA!$C$10:$C$510=$D$14,ROW(DATA!$B$10:$B$510)-ROW(DATA!$B$10)+1),ROWS(F$18:F19))),"")} -> 8 | G19: {=IF(ROWS(G$18:G19)<=$M$14,INDEX(DATA!G$10:G$510,SMALL(IF(DATA!$C$10:$C$510=$D$14,ROW(DATA!$B$10:$B$510)-ROW(DATA!$B$10)+1),ROWS(G$18:G19))),"")} -> 5 | H19: {=IF(ROWS(H$18:H19)<=$M$14,INDEX(DATA!H$10:H$510,SMALL(IF(DATA!$C$10:$C$510=$D$14,ROW(DATA!$B$10:$B$510)-ROW(DATA!$B$10)+1),ROWS(H$18:H19))),"")} -> 4 | I19: {=IF(ROWS(I$18:I19)<=$M$14,INDEX(DATA!I$10:I$510,SMALL(IF(DATA!$C$10:$C$510=$D$14,ROW(DATA!$B$10:$B$510)-ROW(DATA!$B$10)+1),ROWS(I$18:I19))),"")} -> 6 | ... M19: {=IF(ROWS(M$18:M19)<=$M$14,INDEX(DATA!M$10:M$510,SMALL(IF(DATA!$C$10:$C$510=$D$14,ROW(DATA!$B$10:$B$510)-ROW(DATA!$B$10)+1),ROWS(M$18:M19))),"")} -> 9 | R19: =DATA!$C$2 -> SK FELDA PALONG 5 | S19: =DATA!$C$3 -> NBA6016 | T19: ='PROFIL KELAS'!$E19 -> 10 | U19: ='PROFIL KELAS'!$G19 -> 80 | V19: ='PROFIL KELAS'!$I19 -> 50 | W19: ='PROFIL KELAS'!$K19 -> 40 | X19: ='PROFIL KELAS'!$M19 -> 60 | Y19: ='PROFIL KELAS'!$O19 -> 100 | Z19: ='PROFIL KELAS'!$Q19 -> 70 | AA19: ='PROFIL KELAS'!$S19 -> 70 | AB19: ='PROFIL KELAS'!$U19 -> 90
A20: 3 | B20: {=IF(ROWS(B$18:B20)<=$M$14,INDEX(DATA!B$10:B$510,SMALL(IF(DATA!$C$10:$C$510=$D$14,ROW(DATA!$B$10:$B$510)-ROW(DATA!$B$10)+1),ROWS(B$18:B20))),"")} -> AMEERA SAFFIAH BINTI MOHD RAZUAN | C20: {=IF(ROWS(C$18:C20)<=$M$14,INDEX(DATA!C$10:C$510,SMALL(IF(DATA!$C$10:$C$510=$D$14,ROW(DATA!$B$10:$B$510)-ROW(DATA!$B$10)+1),ROWS(C$18:C20))),"")} -> 6 CERDIK | D20: {=IF(ROWS(D$18:D20)<=$M$14,INDEX(DATA!D$10:D$510,SMALL(IF(DATA!$C$10:$C$510=$D$14,ROW(DATA!$B$10:$B$510)-ROW(DATA!$B$10)+1),ROWS(D$18:D20))),"")} -> CB48424 | E20: {=IF(ROWS(E$18:E20)<=$M$14,INDEX(DATA!E$10:E$510,SMALL(IF(DATA!$C$10:$C$510=$D$14,ROW(DATA!$B$10:$B$510)-ROW(DATA!$B$10)+1),ROWS(E$18:E20))),"")} -> 3 | F20: {=IF(ROWS(F$18:F20)<=$M$14,INDEX(DATA!F$10:F$510,SMALL(IF(DATA!$C$10:$C$510=$D$14,ROW(DATA!$B$10:$B$510)-ROW(DATA!$B$10)+1),ROWS(F$18:F20))),"")} -> 6 | G20: {=IF(ROWS(G$18:G20)<=$M$14,INDEX(DATA!G$10:G$510,SMALL(IF(DATA!$C$10:$C$510=$D$14,ROW(DATA!$B$10:$B$510)-ROW(DATA!$B$10)+1),ROWS(G$18:G20))),"")} -> 9 | H20: {=IF(ROWS(H$18:H20)<=$M$14,INDEX(DATA!H$10:H$510,SMALL(IF(DATA!$C$10:$C$510=$D$14,ROW(DATA!$B$10:$B$510)-ROW(DATA!$B$10)+1),ROWS(H$18:H20))),"")} -> 8 | I20: {=IF(ROWS(I$18:I20)<=$M$14,INDEX(DATA!I$10:I$510,SMALL(IF(DATA!$C$10:$C$510=$D$14,ROW(DATA!$B$10:$B$510)-ROW(DATA!$B$10)+1),ROWS(I$18:I20))),"")} -> 8 | ... M20: {=IF(ROWS(M$18:M20)<=$M$14,INDEX(DATA!M$10:M$510,SMALL(IF(DATA!$C$10:$C$510=$D$14,ROW(DATA!$B$10:$B$510)-ROW(DATA!$B$10)+1),ROWS(M$18:M20))),"")} -> 9 | R20: =DATA!$C$2 -> SK FELDA PALONG 5 | S20: =DATA!$C$3 -> NBA6016 | T20: ='PROFIL KELAS'!$E20 -> 30 | U20: ='PROFIL KELAS'!$G20 -> 60 | V20: ='PROFIL KELAS'!$I20 -> 90 | W20: ='PROFIL KELAS'!$K20 -> 80 | X20: ='PROFIL KELAS'!$M20 -> 80 | Y20: ='PROFIL KELAS'!$O20 -> 70 | Z20: ='PROFIL KELAS'!$Q20 -> 80 | AA20: ='PROFIL KELAS'!$S20 -> 40 | AB20: ='PROFIL KELAS'!$U20 -> 90
A21: 4 | B21: {=IF(ROWS(B$18:B21)<=$M$14,INDEX(DATA!B$10:B$510,SMALL(IF(DATA!$C$10:$C$510=$D$14,ROW(DATA!$B$10:$B$510)-ROW(DATA!$B$10)+1),ROWS(B$18:B21))),"")} -> DARWISY ZULHILMI BIN SHAHIDAN | C21: {=IF(ROWS(C$18:C21)<=$M$14,INDEX(DATA!C$10:C$510,SMALL(IF(DATA!$C$10:$C$510=$D$14,ROW(DATA!$B$10:$B$510)-ROW(DATA!$B$10)+1),ROWS(C$18:C21))),"")} -> 6 CERDIK | D21: {=IF(ROWS(D$18:D21)<=$M$14,INDEX(DATA!D$10:D$510,SMALL(IF(DATA!$C$10:$C$510=$D$14,ROW(DATA!$B$10:$B$510)-ROW(DATA!$B$10)+1),ROWS(D$18:D21))),"")} -> BY54836 | E21: {=IF(ROWS(E$18:E21)<=$M$14,INDEX(DATA!E$10:E$510,SMALL(IF(DATA!$C$10:$C$510=$D$14,ROW(DATA!$B$10:$B$510)-ROW(DATA!$B$10)+1),ROWS(E$18:E21))),"")} -> 2 | F21: {=IF(ROWS(F$18:F21)<=$M$14,INDEX(DATA!F$10:F$510,SMALL(IF(DATA!$C$10:$C$510=$D$14,ROW(DATA!$B$10:$B$510)-ROW(DATA!$B$10)+1),ROWS(F$18:F21))),"")} -> 8 | G21: {=IF(ROWS(G$18:G21)<=$M$14,INDEX(DATA!G$10:G$510,SMALL(IF(DATA!$C$10:$C$510=$D$14,ROW(DATA!$B$10:$B$510)-ROW(DATA!$B$10)+1),ROWS(G$18:G21))),"")} -> 8 | H21: {=IF(ROWS(H$18:H21)<=$M$14,INDEX(DATA!H$10:H$510,SMALL(IF(DATA!$C$10:$C$510=$D$14,ROW(DATA!$B$10:$B$510)-ROW(DATA!$B$10)+1),ROWS(H$18:H21))),"")} -> 5 | I21: {=IF(ROWS(I$18:I21)<=$M$14,INDEX(DATA!I$10:I$510,SMALL(IF(DATA!$C$10:$C$510=$D$14,ROW(DATA!$B$10:$B$510)-ROW(DATA!$B$10)+1),ROWS(I$18:I21))),"")} -> 10 | ... M21: {=IF(ROWS(M$18:M21)<=$M$14,INDEX(DATA!M$10:M$510,SMALL(IF(DATA!$C$10:$C$510=$D$14,ROW(DATA!$B$10:$B$510)-ROW(DATA!$B$10)+1),ROWS(M$18:M21))),"")} -> 10 | R21: =DATA!$C$2 -> SK FELDA PALONG 5 | S21: =DATA!$C$3 -> NBA6016 | T21: ='PROFIL KELAS'!$E21 -> 20 | U21: ='PROFIL KELAS'!$G21 -> 80 | V21: ='PROFIL KELAS'!$I21 -> 80 | W21: ='PROFIL KELAS'!$K21 -> 50 | X21: ='PROFIL KELAS'!$M21 -> 100 | Y21: ='PROFIL KELAS'!$O21 -> 60 | Z21: ='PROFIL KELAS'!$Q21 -> 70 | AA21: ='PROFIL KELAS'!$S21 -> 40 | AB21: ='PROFIL KELAS'!$U21 -> 100
A22: 5 | B22: {=IF(ROWS(B$18:B22)<=$M$14,INDEX(DATA!B$10:B$510,SMALL(IF(DATA!$C$10:$C$510=$D$14,ROW(DATA!$B$10:$B$510)-ROW(DATA!$B$10)+1),ROWS(B$18:B22))),"")} -> DELISHA HANA BINTI AZMAN | C22: {=IF(ROWS(C$18:C22)<=$M$14,INDEX(DATA!C$10:C$510,SMALL(IF(DATA!$C$10:$C$510=$D$14,ROW(DATA!$B$10:$B$510)-ROW(DATA!$B$10)+1),ROWS(C$18:C22))),"")} -> 6 CERDIK | D22: {=IF(ROWS(D$18:D22)<=$M$14,INDEX(DATA!D$10:D$510,SMALL(IF(DATA!$C$10:$C$510=$D$14,ROW(DATA!$B$10:$B$510)-ROW(DATA!$B$10)+1),ROWS(D$18:D22))),"")} -> BY54529 | E22: {=IF(ROWS(E$18:E22)<=$M$14,INDEX(DATA!E$10:E$510,SMALL(IF(DATA!$C$10:$C$510=$D$14,ROW(DATA!$B$10:$B$510)-ROW(DATA!$B$10)+1),ROWS(E$18:E22))),"")} -> 10 | F22: {=IF(ROWS(F$18:F22)<=$M$14,INDEX(DATA!F$10:F$510,SMALL(IF(DATA!$C$10:$C$510=$D$14,ROW(DATA!$B$10:$B$510)-ROW(DATA!$B$10)+1),ROWS(F$18:F22))),"")} -> 10 | G22: {=IF(ROWS(G$18:G22)<=$M$14,INDEX(DATA!G$10:G$510,SMALL(IF(DATA!$C$10:$C$510=$D$14,ROW(DATA!$B$10:$B$510)-ROW(DATA!$B$10)+1),ROWS(G$18:G22))),"")} -> 10 | H22: {=IF(ROWS(H$18:H22)<=$M$14,INDEX(DATA!H$10:H$510,SMALL(IF(DATA!$C$10:$C$510=$D$14,ROW(DATA!$B$10:$B$510)-ROW(DATA!$B$10)+1),ROWS(H$18:H22))),"")} -> 9 | I22: {=IF(ROWS(I$18:I22)<=$M$14,INDEX(DATA!I$10:I$510,SMALL(IF(DATA!$C$10:$C$510=$D$14,ROW(DATA!$B$10:$B$510)-ROW(DATA!$B$10)+1),ROWS(I$18:I22))),"")} -> 10 | ... M22: {=IF(ROWS(M$18:M22)<=$M$14,INDEX(DATA!M$10:M$510,SMALL(IF(DATA!$C$10:$C$510=$D$14,ROW(DATA!$B$10:$B$510)-ROW(DATA!$B$10)+1),ROWS(M$18:M22))),"")} -> 8 | R22: =DATA!$C$2 -> SK FELDA PALONG 5 | S22: =DATA!$C$3 -> NBA6016 | T22: ='PROFIL KELAS'!$E22 -> 100 | U22: ='PROFIL KELAS'!$G22 -> 100 | V22: ='PROFIL KELAS'!$I22 -> 100 | W22: ='PROFIL KELAS'!$K22 -> 90 | X22: ='PROFIL KELAS'!$M22 -> 100 | Y22: ='PROFIL KELAS'!$O22 -> 90 | Z22: ='PROFIL KELAS'!$Q22 -> 80 | AA22: ='PROFIL KELAS'!$S22 -> 90 | AB22: ='PROFIL KELAS'!$U22 -> 80
A23: 6 | B23: {=IF(ROWS(B$18:B23)<=$M$14,INDEX(DATA!B$10:B$510,SMALL(IF(DATA!$C$10:$C$510=$D$14,ROW(DATA!$B$10:$B$510)-ROW(DATA!$B$10)+1),ROWS(B$18:B23))),"")} -> HARRAZ ZAKWAN BIN MOHD IMRANSYAH | C23: {=IF(ROWS(C$18:C23)<=$M$14,INDEX(DATA!C$10:C$510,SMALL(IF(DATA!$C$10:$C$510=$D$14,ROW(DATA!$B$10:$B$510)-ROW(DATA!$B$10)+1),ROWS(C$18:C23))),"")} -> 6 CERDIK | D23: {=IF(ROWS(D$18:D23)<=$M$14,INDEX(DATA!D$10:D$510,SMALL(IF(DATA!$C$10:$C$510=$D$14,ROW(DATA!$B$10:$B$510)-ROW(DATA!$B$10)+1),ROWS(D$18:D23))),"")} -> BX58302 | E23: {=IF(ROWS(E$18:E23)<=$M$14,INDEX(DATA!E$10:E$510,SMALL(IF(DATA!$C$10:$C$510=$D$14,ROW(DATA!$B$10:$B$510)-ROW(DATA!$B$10)+1),ROWS(E$18:E23))),"")} -> 3 | F23: {=IF(ROWS(F$18:F23)<=$M$14,INDEX(DATA!F$10:F$510,SMALL(IF(DATA!$C$10:$C$510=$D$14,ROW(DATA!$B$10:$B$510)-ROW(DATA!$B$10)+1),ROWS(F$18:F23))),"")} -> 8 | G23: {=IF(ROWS(G$18:G23)<=$M$14,INDEX(DATA!G$10:G$510,SMALL(IF(DATA!$C$10:$C$510=$D$14,ROW(DATA!$B$10:$B$510)-ROW(DATA!$B$10)+1),ROWS(G$18:G23))),"")} -> 8 | H23: {=IF(ROWS(H$18:H23)<=$M$14,INDEX(DATA!H$10:H$510,SMALL(IF(DATA!$C$10:$C$510=$D$14,ROW(DATA!$B$10:$B$510)-ROW(DATA!$B$10)+1),ROWS(H$18:H23))),"")} -> 7 | I23: {=IF(ROWS(I$18:I23)<=$M$14,INDEX(DATA!I$10:I$510,SMALL(IF(DATA!$C$10:$C$510=$D$14,ROW(DATA!$B$10:$B$510)-ROW(DATA!$B$10)+1),ROWS(I$18:I23))),"")} -> 5 | ... M23: {=IF(ROWS(M$18:M23)<=$M$14,INDEX(DATA!M$10:M$510,SMALL(IF(DATA!$C$10:$C$510=$D$14,ROW(DATA!$B$10:$B$510)-ROW(DATA!$B$10)+1),ROWS(M$18:M23))),"")} -> 9 | R23: =DATA!$C$2 -> SK FELDA PALONG 5 | S23: =DATA!$C$3 -> NBA6016 | T23: ='PROFIL KELAS'!$E23 -> 30 | U23: ='PROFIL KELAS'!$G23 -> 80 | V23: ='PROFIL KELAS'!$I23 -> 80 | W23: ='PROFIL KELAS'!$K23 -> 70 | X23: ='PROFIL KELAS'!$M23 -> 50 | Y23: ='PROFIL KELAS'!$O23 -> 70 | Z23: ='PROFIL KELAS'!$Q23 -> 50 | AA23: ='PROFIL KELAS'!$S23 -> 70 | AB23: ='PROFIL KELAS'!$U23 -> 90
A24: 7 | B24: {=IF(ROWS(B$18:B24)<=$M$14,INDEX(DATA!B$10:B$510,SMALL(IF(DATA!$C$10:$C$510=$D$14,ROW(DATA!$B$10:$B$510)-ROW(DATA!$B$10)+1),ROWS(B$18:B24))),"")} -> MOHAMAD DANISH DANIAL BIN MOHAMAD NASARUDDIN | C24: {=IF(ROWS(C$18:C24)<=$M$14,INDEX(DATA!C$10:C$510,SMALL(IF(DATA!$C$10:$C$510=$D$14,ROW(DATA!$B$10:$B$510)-ROW(DATA!$B$10)+1),ROWS(C$18:C24))),"")} -> 6 CERDIK | D24: {=IF(ROWS(D$18:D24)<=$M$14,INDEX(DATA!D$10:D$510,SMALL(IF(DATA!$C$10:$C$510=$D$14,ROW(DATA!$B$10:$B$510)-ROW(DATA!$B$10)+1),ROWS(D$18:D24))),"")} -> CA19676 | E24: {=IF(ROWS(E$18:E24)<=$M$14,INDEX(DATA!E$10:E$510,SMALL(IF(DATA!$C$10:$C$510=$D$14,ROW(DATA!$B$10:$B$510)-ROW(DATA!$B$10)+1),ROWS(E$18:E24))),"")} -> 3 | F24: {=IF(ROWS(F$18:F24)<=$M$14,INDEX(DATA!F$10:F$510,SMALL(IF(DATA!$C$10:$C$510=$D$14,ROW(DATA!$B$10:$B$510)-ROW(DATA!$B$10)+1),ROWS(F$18:F24))),"")} -> 6 | G24: {=IF(ROWS(G$18:G24)<=$M$14,INDEX(DATA!G$10:G$510,SMALL(IF(DATA!$C$10:$C$510=$D$14,ROW(DATA!$B$10:$B$510)-ROW(DATA!$B$10)+1),ROWS(G$18:G24))),"")} -> 8 | H24: {=IF(ROWS(H$18:H24)<=$M$14,INDEX(DATA!H$10:H$510,SMALL(IF(DATA!$C$10:$C$510=$D$14,ROW(DATA!$B$10:$B$510)-ROW(DATA!$B$10)+1),ROWS(H$18:H24))),"")} -> 6 | I24: {=IF(ROWS(I$18:I24)<=$M$14,INDEX(DATA!I$10:I$510,SMALL(IF(DATA!$C$10:$C$510=$D$14,ROW(DATA!$B$10:$B$510)-ROW(DATA!$B$10)+1),ROWS(I$18:I24))),"")} -> 10 | ... M24: {=IF(ROWS(M$18:M24)<=$M$14,INDEX(DATA!M$10:M$510,SMALL(IF(DATA!$C$10:$C$510=$D$14,ROW(DATA!$B$10:$B$510)-ROW(DATA!$B$10)+1),ROWS(M$18:M24))),"")} -> 9 | R24: =DATA!$C$2 -> SK FELDA PALONG 5 | S24: =DATA!$C$3 -> NBA6016 | T24: ='PROFIL KELAS'!$E24 -> 30 | U24: ='PROFIL KELAS'!$G24 -> 60 | V24: ='PROFIL KELAS'!$I24 -> 80 | W24: ='PROFIL KELAS'!$K24 -> 60 | X24: ='PROFIL KELAS'!$M24 -> 100 | Y24: ='PROFIL KELAS'!$O24 -> 70 | Z24: ='PROFIL KELAS'!$Q24 -> 60 | AA24: ='PROFIL KELAS'!$S24 -> 40 | AB24: ='PROFIL KELAS'!$U24 -> 90
A25: 8 | B25: {=IF(ROWS(B$18:B25)<=$M$14,INDEX(DATA!B$10:B$510,SMALL(IF(DATA!$C$10:$C$510=$D$14,ROW(DATA!$B$10:$B$510)-ROW(DATA!$B$10)+1),ROWS(B$18:B25))),"")} -> MOHAMAD MIKHAIL HAQIMI BIN ABDULLAH | C25: {=IF(ROWS(C$18:C25)<=$M$14,INDEX(DATA!C$10:C$510,SMALL(IF(DATA!$C$10:$C$510=$D$14,ROW(DATA!$B$10:$B$510)-ROW(DATA!$B$10)+1),ROWS(C$18:C25))),"")} -> 6 CERDIK | D25: {=IF(ROWS(D$18:D25)<=$M$14,INDEX(DATA!D$10:D$510,SMALL(IF(DATA!$C$10:$C$510=$D$14,ROW(DATA!$B$10:$B$510)-ROW(DATA!$B$10)+1),ROWS(D$18:D25))),"")} -> CC54134 | E25: {=IF(ROWS(E$18:E25)<=$M$14,INDEX(DATA!E$10:E$510,SMALL(IF(DATA!$C$10:$C$510=$D$14,ROW(DATA!$B$10:$B$510)-ROW(DATA!$B$10)+1),ROWS(E$18:E25))),"")} -> 1 | F25: {=IF(ROWS(F$18:F25)<=$M$14,INDEX(DATA!F$10:F$510,SMALL(IF(DATA!$C$10:$C$510=$D$14,ROW(DATA!$B$10:$B$510)-ROW(DATA!$B$10)+1),ROWS(F$18:F25))),"")} -> 10 | G25: {=IF(ROWS(G$18:G25)<=$M$14,INDEX(DATA!G$10:G$510,SMALL(IF(DATA!$C$10:$C$510=$D$14,ROW(DATA!$B$10:$B$510)-ROW(DATA!$B$10)+1),ROWS(G$18:G25))),"")} -> 9 | H25: {=IF(ROWS(H$18:H25)<=$M$14,INDEX(DATA!H$10:H$510,SMALL(IF(DATA!$C$10:$C$510=$D$14,ROW(DATA!$B$10:$B$510)-ROW(DATA!$B$10)+1),ROWS(H$18:H25))),"")} -> 8 | I25: {=IF(ROWS(I$18:I25)<=$M$14,INDEX(DATA!I$10:I$510,SMALL(IF(DATA!$C$10:$C$510=$D$14,ROW(DATA!$B$10:$B$510)-ROW(DATA!$B$10)+1),ROWS(I$18:I25))),"")} -> 7 | ... M25: {=IF(ROWS(M$18:M25)<=$M$14,INDEX(DATA!M$10:M$510,SMALL(IF(DATA!$C$10:$C$510=$D$14,ROW(DATA!$B$10:$B$510)-ROW(DATA!$B$10)+1),ROWS(M$18:M25))),"")} -> 10 | R25: =DATA!$C$2 -> SK FELDA PALONG 5 | S25: =DATA!$C$3 -> NBA6016 | T25: ='PROFIL KELAS'!$E25 -> 10 | U25: ='PROFIL KELAS'!$G25 -> 100 | V25: ='PROFIL KELAS'!$I25 -> 90 | W25: ='PROFIL KELAS'!$K25 -> 80 | X25: ='PROFIL KELAS'!$M25 -> 70 | Y25: ='PROFIL KELAS'!$O25 -> 80 | Z25: ='PROFIL KELAS'!$Q25 -> 90 | AA25: ='PROFIL KELAS'!$S25 -> 40 | AB25: ='PROFIL KELAS'!$U25 -> 100
A26: 9 | B26: {=IF(ROWS(B$18:B26)<=$M$14,INDEX(DATA!B$10:B$510,SMALL(IF(DATA!$C$10:$C$510=$D$14,ROW(DATA!$B$10:$B$510)-ROW(DATA!$B$10)+1),ROWS(B$18:B26))),"")} -> MUHAMMAD AMIN BIN ISKANDAR | C26: {=IF(ROWS(C$18:C26)<=$M$14,INDEX(DATA!C$10:C$510,SMALL(IF(DATA!$C$10:$C$510=$D$14,ROW(DATA!$B$10:$B$510)-ROW(DATA!$B$10)+1),ROWS(C$18:C26))),"")} -> 6 CERDIK | D26: {=IF(ROWS(D$18:D26)<=$M$14,INDEX(DATA!D$10:D$510,SMALL(IF(DATA!$C$10:$C$510=$D$14,ROW(DATA!$B$10:$B$510)-ROW(DATA!$B$10)+1),ROWS(D$18:D26))),"")} -> CA39174 | E26: {=IF(ROWS(E$18:E26)<=$M$14,INDEX(DATA!E$10:E$510,SMALL(IF(DATA!$C$10:$C$510=$D$14,ROW(DATA!$B$10:$B$510)-ROW(DATA!$B$10)+1),ROWS(E$18:E26))),"")} -> 0 | F26: {=IF(ROWS(F$18:F26)<=$M$14,INDEX(DATA!F$10:F$510,SMALL(IF(DATA!$C$10:$C$510=$D$14,ROW(DATA!$B$10:$B$510)-ROW(DATA!$B$10)+1),ROWS(F$18:F26))),"")} -> 3 | G26: {=IF(ROWS(G$18:G26)<=$M$14,INDEX(DATA!G$10:G$510,SMALL(IF(DATA!$C$10:$C$510=$D$14,ROW(DATA!$B$10:$B$510)-ROW(DATA!$B$10)+1),ROWS(G$18:G26))),"")} -> 8 | H26: {=IF(ROWS(H$18:H26)<=$M$14,INDEX(DATA!H$10:H$510,SMALL(IF(DATA!$C$10:$C$510=$D$14,ROW(DATA!$B$10:$B$510)-ROW(DATA!$B$10)+1),ROWS(H$18:H26))),"")} -> 3 | I26: {=IF(ROWS(I$18:I26)<=$M$14,INDEX(DATA!I$10:I$510,SMALL(IF(DATA!$C$10:$C$510=$D$14,ROW(DATA!$B$10:$B$510)-ROW(DATA!$B$10)+1),ROWS(I$18:I26))),"")} -> 4 | ... M26: {=IF(ROWS(M$18:M26)<=$M$14,INDEX(DATA!M$10:M$510,SMALL(IF(DATA!$C$10:$C$510=$D$14,ROW(DATA!$B$10:$B$510)-ROW(DATA!$B$10)+1),ROWS(M$18:M26))),"")} -> 8 | R26: =DATA!$C$2 -> SK FELDA PALONG 5 | S26: =DATA!$C$3 -> NBA6016 | T26: ='PROFIL KELAS'!$E26 -> 0 | U26: ='PROFIL KELAS'!$G26 -> 30 | V26: ='PROFIL KELAS'!$I26 -> 80 | W26: ='PROFIL KELAS'!$K26 -> 30 | X26: ='PROFIL KELAS'!$M26 -> 40 | Y26: ='PROFIL KELAS'!$O26 -> 70 | Z26: ='PROFIL KELAS'!$Q26 -> 40 | AA26: ='PROFIL KELAS'!$S26 -> 30 | AB26: ='PROFIL KELAS'!$U26 -> 80
A27: 10 | B27: {=IF(ROWS(B$18:B27)<=$M$14,INDEX(DATA!B$10:B$510,SMALL(IF(DATA!$C$10:$C$510=$D$14,ROW(DATA!$B$10:$B$510)-ROW(DATA!$B$10)+1),ROWS(B$18:B27))),"")} -> MUHAMMAD AMIRUL IMAN BIN ADAM | C27: {=IF(ROWS(C$18:C27)<=$M$14,INDEX(DATA!C$10:C$510,SMALL(IF(DATA!$C$10:$C$510=$D$14,ROW(DATA!$B$10:$B$510)-ROW(DATA!$B$10)+1),ROWS(C$18:C27))),"")} -> 6 CERDIK | D27: {=IF(ROWS(D$18:D27)<=$M$14,INDEX(DATA!D$10:D$510,SMALL(IF(DATA!$C$10:$C$510=$D$14,ROW(DATA!$B$10:$B$510)-ROW(DATA!$B$10)+1),ROWS(D$18:D27))),"")} -> BC59535 | E27: {=IF(ROWS(E$18:E27)<=$M$14,INDEX(DATA!E$10:E$510,SMALL(IF(DATA!$C$10:$C$510=$D$14,ROW(DATA!$B$10:$B$510)-ROW(DATA!$B$10)+1),ROWS(E$18:E27))),"")} -> 2 | F27: {=IF(ROWS(F$18:F27)<=$M$14,INDEX(DATA!F$10:F$510,SMALL(IF(DATA!$C$10:$C$510=$D$14,ROW(DATA!$B$10:$B$510)-ROW(DATA!$B$10)+1),ROWS(F$18:F27))),"")} -> 4 | G27: {=IF(ROWS(G$18:G27)<=$M$14,INDEX(DATA!G$10:G$510,SMALL(IF(DATA!$C$10:$C$510=$D$14,ROW(DATA!$B$10:$B$510)-ROW(DATA!$B$10)+1),ROWS(G$18:G27))),"")} -> 7 | H27: {=IF(ROWS(H$18:H27)<=$M$14,INDEX(DATA!H$10:H$510,SMALL(IF(DATA!$C$10:$C$510=$D$14,ROW(DATA!$B$10:$B$510)-ROW(DATA!$B$10)+1),ROWS(H$18:H27))),"")} -> 4 | I27: {=IF(ROWS(I$18:I27)<=$M$14,INDEX(DATA!I$10:I$510,SMALL(IF(DATA!$C$10:$C$510=$D$14,ROW(DATA!$B$10:$B$510)-ROW(DATA!$B$10)+1),ROWS(I$18:I27))),"")} -> 2 | ... M27: {=IF(ROWS(M$18:M27)<=$M$14,INDEX(DATA!M$10:M$510,SMALL(IF(DATA!$C$10:$C$510=$D$14,ROW(DATA!$B$10:$B$510)-ROW(DATA!$B$10)+1),ROWS(M$18:M27))),"")} -> 4 | R27: =DATA!$C$2 -> SK FELDA PALONG 5 | S27: =DATA!$C$3 -> NBA6016 | T27: ='PROFIL KELAS'!$E27 -> 20 | U27: ='PROFIL KELAS'!$G27 -> 40 | V27: ='PROFIL KELAS'!$I27 -> 70 | W27: ='PROFIL KELAS'!$K27 -> 40 | X27: ='PROFIL KELAS'!$M27 -> 20 | Y27: ='PROFIL KELAS'!$O27 -> 60 | Z27: ='PROFIL KELAS'!$Q27 -> 60 | AA27: ='PROFIL KELAS'!$S27 -> 40 | AB27: ='PROFIL KELAS'!$U27 -> 40
A28: 11 | B28: {=IF(ROWS(B$18:B28)<=$M$14,INDEX(DATA!B$10:B$510,SMALL(IF(DATA!$C$10:$C$510=$D$14,ROW(DATA!$B$10:$B$510)-ROW(DATA!$B$10)+1),ROWS(B$18:B28))),"")} -> MUHAMMAD DANIEL ASHRAF BIN ABDULLAH | C28: {=IF(ROWS(C$18:C28)<=$M$14,INDEX(DATA!C$10:C$510,SMALL(IF(DATA!$C$10:$C$510=$D$14,ROW(DATA!$B$10:$B$510)-ROW(DATA!$B$10)+1),ROWS(C$18:C28))),"")} -> 6 CERDIK | D28: {=IF(ROWS(D$18:D28)<=$M$14,INDEX(DATA!D$10:D$510,SMALL(IF(DATA!$C$10:$C$510=$D$14,ROW(DATA!$B$10:$B$510)-ROW(DATA!$B$10)+1),ROWS(D$18:D28))),"")} -> BY53034 | E28: {=IF(ROWS(E$18:E28)<=$M$14,INDEX(DATA!E$10:E$510,SMALL(IF(DATA!$C$10:$C$510=$D$14,ROW(DATA!$B$10:$B$510)-ROW(DATA!$B$10)+1),ROWS(E$18:E28))),"")} -> 5 | F28: {=IF(ROWS(F$18:F28)<=$M$14,INDEX(DATA!F$10:F$510,SMALL(IF(DATA!$C$10:$C$510=$D$14,ROW(DATA!$B$10:$B$510)-ROW(DATA!$B$10)+1),ROWS(F$18:F28))),"")} -> 8 | G28: {=IF(ROWS(G$18:G28)<=$M$14,INDEX(DATA!G$10:G$510,SMALL(IF(DATA!$C$10:$C$510=$D$14,ROW(DATA!$B$10:$B$510)-ROW(DATA!$B$10)+1),ROWS(G$18:G28))),"")} -> 7 | H28: {=IF(ROWS(H$18:H28)<=$M$14,INDEX(DATA!H$10:H$510,SMALL(IF(DATA!$C$10:$C$510=$D$14,ROW(DATA!$B$10:$B$510)-ROW(DATA!$B$10)+1),ROWS(H$18:H28))),"")} -> 8 | I28: {=IF(ROWS(I$18:I28)<=$M$14,INDEX(DATA!I$10:I$510,SMALL(IF(DATA!$C$10:$C$510=$D$14,ROW(DATA!$B$10:$B$510)-ROW(DATA!$B$10)+1),ROWS(I$18:I28))),"")} -> 8 | ... M28: {=IF(ROWS(M$18:M28)<=$M$14,INDEX(DATA!M$10:M$510,SMALL(IF(DATA!$C$10:$C$510=$D$14,ROW(DATA!$B$10:$B$510)-ROW(DATA!$B$10)+1),ROWS(M$18:M28))),"")} -> 9 | R28: =DATA!$C$2 -> SK FELDA PALONG 5 | S28: =DATA!$C$3 -> NBA6016 | T28: ='PROFIL KELAS'!$E28 -> 50 | U28: ='PROFIL KELAS'!$G28 -> 80 | V28: ='PROFIL KELAS'!$I28 -> 70 | W28: ='PROFIL KELAS'!$K28 -> 80 | X28: ='PROFIL KELAS'!$M28 -> 80 | Y28: ='PROFIL KELAS'!$O28 -> 80 | Z28: ='PROFIL KELAS'!$Q28 -> 70 | AA28: ='PROFIL KELAS'!$S28 -> 40 | AB28: ='PROFIL KELAS'!$U28 -> 90
A29: 12 | B29: {=IF(ROWS(B$18:B29)<=$M$14,INDEX(DATA!B$10:B$510,SMALL(IF(DATA!$C$10:$C$510=$D$14,ROW(DATA!$B$10:$B$510)-ROW(DATA!$B$10)+1),ROWS(B$18:B29))),"")} -> MUHAMMAD DENISH RIFQIE BIN ABD RAHMAN | C29: {=IF(ROWS(C$18:C29)<=$M$14,INDEX(DATA!C$10:C$510,SMALL(IF(DATA!$C$10:$C$510=$D$14,ROW(DATA!$B$10:$B$510)-ROW(DATA!$B$10)+1),ROWS(C$18:C29))),"")} -> 6 CERDIK | D29: {=IF(ROWS(D$18:D29)<=$M$14,INDEX(DATA!D$10:D$510,SMALL(IF(DATA!$C$10:$C$510=$D$14,ROW(DATA!$B$10:$B$510)-ROW(DATA!$B$10)+1),ROWS(D$18:D29))),"")} -> BY55932 | E29: {=IF(ROWS(E$18:E29)<=$M$14,INDEX(DATA!E$10:E$510,SMALL(IF(DATA!$C$10:$C$510=$D$14,ROW(DATA!$B$10:$B$510)-ROW(DATA!$B$10)+1),ROWS(E$18:E29))),"")} -> 2 | F29: {=IF(ROWS(F$18:F29)<=$M$14,INDEX(DATA!F$10:F$510,SMALL(IF(DATA!$C$10:$C$510=$D$14,ROW(DATA!$B$10:$B$510)-ROW(DATA!$B$10)+1),ROWS(F$18:F29))),"")} -> 7 | G29: {=IF(ROWS(G$18:G29)<=$M$14,INDEX(DATA!G$10:G$510,SMALL(IF(DATA!$C$10:$C$510=$D$14,ROW(DATA!$B$10:$B$510)-ROW(DATA!$B$10)+1),ROWS(G$18:G29))),"")} -> 5 | H29: {=IF(ROWS(H$18:H29)<=$M$14,INDEX(DATA!H$10:H$510,SMALL(IF(DATA!$C$10:$C$510=$D$14,ROW(DATA!$B$10:$B$510)-ROW(DATA!$B$10)+1),ROWS(H$18:H29))),"")} -> 6 | I29: {=IF(ROWS(I$18:I29)<=$M$14,INDEX(DATA!I$10:I$510,SMALL(IF(DATA!$C$10:$C$510=$D$14,ROW(DATA!$B$10:$B$510)-ROW(DATA!$B$10)+1),ROWS(I$18:I29))),"")} -> 10 | ... M29: {=IF(ROWS(M$18:M29)<=$M$14,INDEX(DATA!M$10:M$510,SMALL(IF(DATA!$C$10:$C$510=$D$14,ROW(DATA!$B$10:$B$510)-ROW(DATA!$B$10)+1),ROWS(M$18:M29))),"")} -> 8 | R29: =DATA!$C$2 -> SK FELDA PALONG 5 | S29: =DATA!$C$3 -> NBA6016 | T29: ='PROFIL KELAS'!$E29 -> 20 | U29: ='PROFIL KELAS'!$G29 -> 70 | V29: ='PROFIL KELAS'!$I29 -> 50 | W29: ='PROFIL KELAS'!$K29 -> 60 | X29: ='PROFIL KELAS'!$M29 -> 100 | Y29: ='PROFIL KELAS'!$O29 -> 50 | Z29: ='PROFIL KELAS'!$Q29 -> 50 | AA29: ='PROFIL KELAS'!$S29 -> 10 | AB29: ='PROFIL KELAS'!$U29 -> 80
... A74: 57 | B74: {=IF(ROWS(B$18:B74)<=$M$14,INDEX(DATA!B$10:B$510,SMALL(IF(DATA!$C$10:$C$510=$D$14,ROW(DATA!$B$10:$B$510)-ROW(DATA!$B$10)+1),ROWS(B$18:B74))),"")} | C74: {=IF(ROWS(C$18:C74)<=$M$14,INDEX(DATA!C$10:C$510,SMALL(IF(DATA!$C$10:$C$510=$D$14,ROW(DATA!$B$10:$B$510)-ROW(DATA!$B$10)+1),ROWS(C$18:C74))),"")} | D74: {=IF(ROWS(D$18:D74)<=$M$14,INDEX(DATA!D$10:D$510,SMALL(IF(DATA!$C$10:$C$510=$D$14,ROW(DATA!$B$10:$B$510)-ROW(DATA!$B$10)+1),ROWS(D$18:D74))),"")} | E74: {=IF(ROWS(E$18:E74)<=$M$14,INDEX(DATA!E$10:E$510,SMALL(IF(DATA!$C$10:$C$510=$D$14,ROW(DATA!$B$10:$B$510)-ROW(DATA!$B$10)+1),ROWS(E$18:E74))),"")} | F74: {=IF(ROWS(F$18:F74)<=$M$14,INDEX(DATA!F$10:F$510,SMALL(IF(DATA!$C$10:$C$510=$D$14,ROW(DATA!$B$10:$B$510)-ROW(DATA!$B$10)+1),ROWS(F$18:F74))),"")} | G74: {=IF(ROWS(G$18:G74)<=$M$14,INDEX(DATA!G$10:G$510,SMALL(IF(DATA!$C$10:$C$510=$D$14,ROW(DATA!$B$10:$B$510)-ROW(DATA!$B$10)+1),ROWS(G$18:G74))),"")} | H74: {=IF(ROWS(H$18:H74)<=$M$14,INDEX(DATA!H$10:H$510,SMALL(IF(DATA!$C$10:$C$510=$D$14,ROW(DATA!$B$10:$B$510)-ROW(DATA!$B$10)+1),ROWS(H$18:H74))),"")} | I74: {=IF(ROWS(I$18:I74)<=$M$14,INDEX(DATA!I$10:I$510,SMALL(IF(DATA!$C$10:$C$510=$D$14,ROW(DATA!$B$10:$B$510)-ROW(DATA!$B$10)+1),ROWS(I$18:I74))),"")} | ... M74: {=IF(ROWS(M$18:M74)<=$M$14,INDEX(DATA!M$10:M$510,SMALL(IF(DATA!$C$10:$C$510=$D$14,ROW(DATA!$B$10:$B$510)-ROW(DATA!$B$10)+1),ROWS(M$18:M74))),"")} | R74: =DATA!$C$2 -> SK FELDA PALONG 5 | S74: =DATA!$C$3 -> NBA6016 | T74: ='PROFIL KELAS'!$E74 | U74: ='PROFIL KELAS'!$G74 | V74: ='PROFIL KELAS'!$I74 | W74: ='PROFIL KELAS'!$K74 | X74: ='PROFIL KELAS'!$M74 | Y74: ='PROFIL KELAS'!$O74 | Z74: ='PROFIL KELAS'!$Q74 | AA74: ='PROFIL KELAS'!$S74 | AB74: ='PROFIL KELAS'!$U74
A75: 58 | B75: {=IF(ROWS(B$18:B75)<=$M$14,INDEX(DATA!B$10:B$510,SMALL(IF(DATA!$C$10:$C$510=$D$14,ROW(DATA!$B$10:$B$510)-ROW(DATA!$B$10)+1),ROWS(B$18:B75))),"")} | C75: {=IF(ROWS(C$18:C75)<=$M$14,INDEX(DATA!C$10:C$510,SMALL(IF(DATA!$C$10:$C$510=$D$14,ROW(DATA!$B$10:$B$510)-ROW(DATA!$B$10)+1),ROWS(C$18:C75))),"")} | D75: {=IF(ROWS(D$18:D75)<=$M$14,INDEX(DATA!D$10:D$510,SMALL(IF(DATA!$C$10:$C$510=$D$14,ROW(DATA!$B$10:$B$510)-ROW(DATA!$B$10)+1),ROWS(D$18:D75))),"")} | E75: {=IF(ROWS(E$18:E75)<=$M$14,INDEX(DATA!E$10:E$510,SMALL(IF(DATA!$C$10:$C$510=$D$14,ROW(DATA!$B$10:$B$510)-ROW(DATA!$B$10)+1),ROWS(E$18:E75))),"")} | F75: {=IF(ROWS(F$18:F75)<=$M$14,INDEX(DATA!F$10:F$510,SMALL(IF(DATA!$C$10:$C$510=$D$14,ROW(DATA!$B$10:$B$510)-ROW(DATA!$B$10)+1),ROWS(F$18:F75))),"")} | G75: {=IF(ROWS(G$18:G75)<=$M$14,INDEX(DATA!G$10:G$510,SMALL(IF(DATA!$C$10:$C$510=$D$14,ROW(DATA!$B$10:$B$510)-ROW(DATA!$B$10)+1),ROWS(G$18:G75))),"")} | H75: {=IF(ROWS(H$18:H75)<=$M$14,INDEX(DATA!H$10:H$510,SMALL(IF(DATA!$C$10:$C$510=$D$14,ROW(DATA!$B$10:$B$510)-ROW(DATA!$B$10)+1),ROWS(H$18:H75))),"")} | I75: {=IF(ROWS(I$18:I75)<=$M$14,INDEX(DATA!I$10:I$510,SMALL(IF(DATA!$C$10:$C$510=$D$14,ROW(DATA!$B$10:$B$510)-ROW(DATA!$B$10)+1),ROWS(I$18:I75))),"")} | ... L75: {=IF(ROWS(L$18:L75)<=$M$14,INDEX(DATA!L$10:L$510,SMALL(IF(DATA!$C$10:$C$510=$D$14,ROW(DATA!$B$10:$B$510)-ROW(DATA!$B$10)+1),ROWS(L$18:L75))),"")} | M75: =IF(ROWS(M$18:M75)<=$M$14,INDEX(DATA!M$10:M$510,SMALL(IF(DATA!$C$10:$C$510=$D$14,ROW(DATA!$B$10:$B$510)-ROW(DATA!$B$10)+1),ROWS(M$18:M75))),"") | R75: =DATA!$C$2 -> SK FELDA PALONG 5 | S75: =DATA!$C$3 -> NBA6016 | T75: ='PROFIL KELAS'!$E75 | U75: ='PROFIL KELAS'!$G75 | V75: ='PROFIL KELAS'!$I75 | W75: ='PROFIL KELAS'!$K75 | X75: ='PROFIL KELAS'!$M75 | Y75: ='PROFIL KELAS'!$O75 | Z75: ='PROFIL KELAS'!$Q75 | AA75: ='PROFIL KELAS'!$S75 | AB75: ='PROFIL KELAS'!$U75
A76: 59 | B76: {=IF(ROWS(B$18:B76)<=$M$14,INDEX(DATA!B$10:B$510,SMALL(IF(DATA!$C$10:$C$510=$D$14,ROW(DATA!$B$10:$B$510)-ROW(DATA!$B$10)+1),ROWS(B$18:B76))),"")} | C76: {=IF(ROWS(C$18:C76)<=$M$14,INDEX(DATA!C$10:C$510,SMALL(IF(DATA!$C$10:$C$510=$D$14,ROW(DATA!$B$10:$B$510)-ROW(DATA!$B$10)+1),ROWS(C$18:C76))),"")} | D76: {=IF(ROWS(D$18:D76)<=$M$14,INDEX(DATA!D$10:D$510,SMALL(IF(DATA!$C$10:$C$510=$D$14,ROW(DATA!$B$10:$B$510)-ROW(DATA!$B$10)+1),ROWS(D$18:D76))),"")} | E76: {=IF(ROWS(E$18:E76)<=$M$14,INDEX(DATA!E$10:E$510,SMALL(IF(DATA!$C$10:$C$510=$D$14,ROW(DATA!$B$10:$B$510)-ROW(DATA!$B$10)+1),ROWS(E$18:E76))),"")} | F76: {=IF(ROWS(F$18:F76)<=$M$14,INDEX(DATA!F$10:F$510,SMALL(IF(DATA!$C$10:$C$510=$D$14,ROW(DATA!$B$10:$B$510)-ROW(DATA!$B$10)+1),ROWS(F$18:F76))),"")} | G76: {=IF(ROWS(G$18:G76)<=$M$14,INDEX(DATA!G$10:G$510,SMALL(IF(DATA!$C$10:$C$510=$D$14,ROW(DATA!$B$10:$B$510)-ROW(DATA!$B$10)+1),ROWS(G$18:G76))),"")} | H76: {=IF(ROWS(H$18:H76)<=$M$14,INDEX(DATA!H$10:H$510,SMALL(IF(DATA!$C$10:$C$510=$D$14,ROW(DATA!$B$10:$B$510)-ROW(DATA!$B$10)+1),ROWS(H$18:H76))),"")} | I76: {=IF(ROWS(I$18:I76)<=$M$14,INDEX(DATA!I$10:I$510,SMALL(IF(DATA!$C$10:$C$510=$D$14,ROW(DATA!$B$10:$B$510)-ROW(DATA!$B$10)+1),ROWS(I$18:I76))),"")} | ... M76: {=IF(ROWS(M$18:M76)<=$M$14,INDEX(DATA!M$10:M$510,SMALL(IF(DATA!$C$10:$C$510=$D$14,ROW(DATA!$B$10:$B$510)-ROW(DATA!$B$10)+1),ROWS(M$18:M76))),"")} | R76: =DATA!$C$2 -> SK FELDA PALONG 5 | S76: =DATA!$C$3 -> NBA6016 | T76: ='PROFIL KELAS'!$E76 | U76: ='PROFIL KELAS'!$G76 | V76: ='PROFIL KELAS'!$I76 | W76: ='PROFIL KELAS'!$K76 | X76: ='PROFIL KELAS'!$M76 | Y76: ='PROFIL KELAS'!$O76 | Z76: ='PROFIL KELAS'!$Q76 | AA76: ='PROFIL KELAS'!$S76 | AB76: ='PROFIL KELAS'!$U76
A77: 60 | B77: {=IF(ROWS(B$18:B77)<=$M$14,INDEX(DATA!B$10:B$510,SMALL(IF(DATA!$C$10:$C$510=$D$14,ROW(DATA!$B$10:$B$510)-ROW(DATA!$B$10)+1),ROWS(B$18:B77))),"")} | C77: {=IF(ROWS(C$18:C77)<=$M$14,INDEX(DATA!C$10:C$510,SMALL(IF(DATA!$C$10:$C$510=$D$14,ROW(DATA!$B$10:$B$510)-ROW(DATA!$B$10)+1),ROWS(C$18:C77))),"")} | D77: {=IF(ROWS(D$18:D77)<=$M$14,INDEX(DATA!D$10:D$510,SMALL(IF(DATA!$C$10:$C$510=$D$14,ROW(DATA!$B$10:$B$510)-ROW(DATA!$B$10)+1),ROWS(D$18:D77))),"")} | E77: {=IF(ROWS(E$18:E77)<=$M$14,INDEX(DATA!E$10:E$510,SMALL(IF(DATA!$C$10:$C$510=$D$14,ROW(DATA!$B$10:$B$510)-ROW(DATA!$B$10)+1),ROWS(E$18:E77))),"")} | F77: {=IF(ROWS(F$18:F77)<=$M$14,INDEX(DATA!F$10:F$510,SMALL(IF(DATA!$C$10:$C$510=$D$14,ROW(DATA!$B$10:$B$510)-ROW(DATA!$B$10)+1),ROWS(F$18:F77))),"")} | G77: {=IF(ROWS(G$18:G77)<=$M$14,INDEX(DATA!G$10:G$510,SMALL(IF(DATA!$C$10:$C$510=$D$14,ROW(DATA!$B$10:$B$510)-ROW(DATA!$B$10)+1),ROWS(G$18:G77))),"")} | H77: {=IF(ROWS(H$18:H77)<=$M$14,INDEX(DATA!H$10:H$510,SMALL(IF(DATA!$C$10:$C$510=$D$14,ROW(DATA!$B$10:$B$510)-ROW(DATA!$B$10)+1),ROWS(H$18:H77))),"")} | I77: {=IF(ROWS(I$18:I77)<=$M$14,INDEX(DATA!I$10:I$510,SMALL(IF(DATA!$C$10:$C$510=$D$14,ROW(DATA!$B$10:$B$510)-ROW(DATA!$B$10)+1),ROWS(I$18:I77))),"")} | ... M77: {=IF(ROWS(M$18:M77)<=$M$14,INDEX(DATA!M$10:M$510,SMALL(IF(DATA!$C$10:$C$510=$D$14,ROW(DATA!$B$10:$B$510)-ROW(DATA!$B$10)+1),ROWS(M$18:M77))),"")} | R77: =DATA!$C$2 -> SK FELDA PALONG 5 | S77: =DATA!$C$3 -> NBA6016 | T77: ='PROFIL KELAS'!$E77 | U77: ='PROFIL KELAS'!$G77 | V77: ='PROFIL KELAS'!$I77 | W77: ='PROFIL KELAS'!$K77 | X77: ='PROFIL KELAS'!$M77 | Y77: ='PROFIL KELAS'!$O77 | Z77: ='PROFIL KELAS'!$Q77 | AA77: ='PROFIL KELAS'!$S77 | AB77: ='PROFIL KELAS'!$U77
B79: MARKAH | D79: GRED | E79: VL | F79: LM | G79: INTRA | H79: VR | I79: NAT | J79: INTER | K79: KINE | L79: MUZIK | M79: EKSIS
B80: 0 | D80: R | E80: =COUNTIF($E$18:$E$77,D80) -> 0 | F80: =COUNTIF($F$18:$F77,D80) -> 0 | G80: =COUNTIF($G$18:$G$77,D80) -> 0 | H80: =COUNTIF($H$18:$H$77,D80) -> 0 | I80: =COUNTIF($I$18:$I$77,D80) -> 0 | J80: =COUNTIF($J$18:$J$77,D80) -> 0 | K80: =COUNTIF($K$18:$K$77,D80) -> 0 | L80: =COUNTIF($L$18:$L$77,D80) -> 0 | M80: =COUNTIF($M$18:$M$77,D80) -> 0
B81: 50 | D81: S | E81: =COUNTIF($E$18:$E$77,D81) -> 0 | F81: =COUNTIF($F$18:$F78,D81) -> 0 | G81: =COUNTIF($G$18:$G$77,D81) -> 0 | H81: =COUNTIF($H$18:$H$77,D81) -> 0 | I81: =COUNTIF($I$18:$I$77,D81) -> 0 | J81: =COUNTIF($J$18:$J$77,D81) -> 0 | K81: =COUNTIF($K$18:$K$77,D81) -> 0 | L81: =COUNTIF($L$18:$L$77,D81) -> 0 | M81: =COUNTIF($M$18:$M$77,D81) -> 0
B82: 75 | D82: T | E82: =COUNTIF($E$18:$E$77,D82) -> 0 | F82: =COUNTIF($F$18:$F79,D82) -> 0 | G82: =COUNTIF($G$18:$G$77,D82) -> 0 | H82: =COUNTIF($H$18:$H$77,D82) -> 0 | I82: =COUNTIF($I$18:$I$77,D82) -> 0 | J82: =COUNTIF($J$18:$J$77,D82) -> 0 | K82: =COUNTIF($K$18:$K$77,D82) -> 0 | L82: =COUNTIF($L$18:$L$77,D82) -> 0 | M82: =COUNTIF($M$18:$M$77,D82) -> 0
D83: JUMLAH | E83: =SUM(E80:E82) -> 0 | F83: =SUM(F80:F82) -> 0 | G83: =SUM(G80:G82) -> 0 | H83: =SUM(H80:H82) -> 0 | I83: =SUM(I80:I82) -> 0 | J83: =SUM(J80:J82) -> 0 | K83: =SUM(K80:K82) -> 0 | L83: =SUM(L80:L82) -> 0 | M83: =SUM(M80:M82) -> 0
A85: Disediakan oleh,
A88: Tandatangan:
A89: Nama Guru:
A91: Tarikh:

Sheet PROFIL KELAS
A7: PELAPORAN PENTAKSIRAN PSIKOMETRIK
A8: UJIAN APTITUD TAHUN 6
A9: IINVENTORI KECERDASAN PELBAGAI (IKeP)
A10: TAHUN 2016
B12: NAMA SEKOLAH | D12: =DATA!C2 -> SK FELDA PALONG 5
B13: KOD SEKOLAH | D13: =DATA!C3 -> NBA6016
B14: KELAS | D14: ='DATA TRANSIT'!D14 -> 6 CERDIK | Q14: JUMLAH MURID | T14: : | U14: =COUNTIF(DATA!C10:C409,$D$14) -> 33
A17: BIL | B17: NAMA MURID | C17: KELAS | D17: NO KAD PENGENALAN | E17: VL% | F17: GRED | G17: LM% | H17: GRED | I17: INTRA % | J17: GRED | K17: VR % | L17: GRED | M17: NAT % | N17: GRED | O17: INTER% | P17: GRED | Q17: KINE% | R17: GRED | S17: MUZIK% | T17: GRED | U17: EKSIS% | V17: GRED
A18: 1 | B18: ='DATA TRANSIT'!B18 -> ABDUL KHAIRIL IZWAN BIN ABDUL KHALID | C18: ='DATA TRANSIT'!C18 -> 6 CERDIK | D18: ='DATA TRANSIT'!D18 -> BY54520 | E18: =IFERROR(SUM('DATA TRANSIT'!E18/10*100),"") -> 60 | F18: =IFERROR(VLOOKUP(E18,GRED1,3,TRUE),"") -> S | G18: =IFERROR(SUM('DATA TRANSIT'!F18/10*100),"") -> 80 | H18: =IFERROR(VLOOKUP(G18,GRED1,3,TRUE),"") -> T | I18: =IFERROR(SUM('DATA TRANSIT'!G18/10*100),"") -> 70 | J18: =IFERROR(VLOOKUP(I18,GRED1,3,TRUE),"") -> S | K18: =IFERROR(SUM('DATA TRANSIT'!H18/10*100),"") -> 60 | L18: =IFERROR(VLOOKUP(K18,GRED1,3,TRUE),"") -> S | M18: =IFERROR(SUM('DATA TRANSIT'!I18/10*100),"") -> 70 | N18: =IFERROR(VLOOKUP(M18,GRED1,3,TRUE),"") -> S | O18: =IFERROR(SUM('DATA TRANSIT'!J18/10*100),"") -> 70 | P18: =IFERROR(VLOOKUP(O18,GRED1,3,TRUE),"") -> S | Q18: =IFERROR(SUM('DATA TRANSIT'!K18/10*100),"") -> 70 | R18: =IFERROR(VLOOKUP(Q18,GRED1,3,TRUE),"") -> S | S18: =IFERROR(SUM('DATA TRANSIT'!L18/10*100),"") -> 60 | T18: =IFERROR(VLOOKUP(S18,GRED1,3,TRUE),"") -> S | U18: =IFERROR(SUM('DATA TRANSIT'!M18/10*100),"") -> 90 | V18: =IFERROR(VLOOKUP(U18,GRED1,3,TRUE),"") -> T
A19: 2 | B19: ='DATA TRANSIT'!B19 -> AMEER SUFFIAN BIN MOHD RAZUAN | C19: ='DATA TRANSIT'!C19 -> 6 CERDIK | D19: ='DATA TRANSIT'!D19 -> CB48425 | E19: =IFERROR(SUM('DATA TRANSIT'!E19/10*100),"") -> 10 | F19: =IFERROR(VLOOKUP(E19,GRED1,3,TRUE),"") -> R | G19: =IFERROR(SUM('DATA TRANSIT'!F19/10*100),"") -> 80 | H19: =IFERROR(VLOOKUP(G19,GRED1,3,TRUE),"") -> T | I19: =IFERROR(SUM('DATA TRANSIT'!G19/10*100),"") -> 50 | J19: =IFERROR(VLOOKUP(I19,GRED1,3,TRUE),"") -> S | K19: =IFERROR(SUM('DATA TRANSIT'!H19/10*100),"") -> 40 | L19: =IFERROR(VLOOKUP(K19,GRED1,3,TRUE),"") -> R | M19: =IFERROR(SUM('DATA TRANSIT'!I19/10*100),"") -> 60 | N19: =IFERROR(VLOOKUP(M19,GRED1,3,TRUE),"") -> S | O19: =IFERROR(SUM('DATA TRANSIT'!J19/10*100),"") -> 100 | P19: =IFERROR(VLOOKUP(O19,GRED1,3,TRUE),"") -> T | Q19: =IFERROR(SUM('DATA TRANSIT'!K19/10*100),"") -> 70 | R19: =IFERROR(VLOOKUP(Q19,GRED1,3,TRUE),"") -> S | S19: =IFERROR(SUM('DATA TRANSIT'!L19/10*100),"") -> 70 | T19: =IFERROR(VLOOKUP(S19,GRED1,3,TRUE),"") -> S | U19: =IFERROR(SUM('DATA TRANSIT'!M19/10*100),"") -> 90 | V19: =IFERROR(VLOOKUP(U19,GRED1,3,TRUE),"") -> T
A20: 3 | B20: ='DATA TRANSIT'!B20 -> AMEERA SAFFIAH BINTI MOHD RAZUAN | C20: ='DATA TRANSIT'!C20 -> 6 CERDIK | D20: ='DATA TRANSIT'!D20 -> CB48424 | E20: =IFERROR(SUM('DATA TRANSIT'!E20/10*100),"") -> 30 | F20: =IFERROR(VLOOKUP(E20,GRED1,3,TRUE),"") -> R | G20: =IFERROR(SUM('DATA TRANSIT'!F20/10*100),"") -> 60 | H20: =IFERROR(VLOOKUP(G20,GRED1,3,TRUE),"") -> S | I20: =IFERROR(SUM('DATA TRANSIT'!G20/10*100),"") -> 90 | J20: =IFERROR(VLOOKUP(I20,GRED1,3,TRUE),"") -> T | K20: =IFERROR(SUM('DATA TRANSIT'!H20/10*100),"") -> 80 | L20: =IFERROR(VLOOKUP(K20,GRED1,3,TRUE),"") -> T | M20: =IFERROR(SUM('DATA TRANSIT'!I20/10*100),"") -> 80 | N20: =IFERROR(VLOOKUP(M20,GRED1,3,TRUE),"") -> T | O20: =IFERROR(SUM('DATA TRANSIT'!J20/10*100),"") -> 70 | P20: =IFERROR(VLOOKUP(O20,GRED1,3,TRUE),"") -> S | Q20: =IFERROR(SUM('DATA TRANSIT'!K20/10*100),"") -> 80 | R20: =IFERROR(VLOOKUP(Q20,GRED1,3,TRUE),"") -> T | S20: =IFERROR(SUM('DATA TRANSIT'!L20/10*100),"") -> 40 | T20: =IFERROR(VLOOKUP(S20,GRED1,3,TRUE),"") -> R | U20: =IFERROR(SUM('DATA TRANSIT'!M20/10*100),"") -> 90 | V20: =IFERROR(VLOOKUP(U20,GRED1,3,TRUE),"") -> T
A21: 4 | B21: ='DATA TRANSIT'!B21 -> DARWISY ZULHILMI BIN SHAHIDAN | C21: ='DATA TRANSIT'!C21 -> 6 CERDIK | D21: ='DATA TRANSIT'!D21 -> BY54836 | E21: =IFERROR(SUM('DATA TRANSIT'!E21/10*100),"") -> 20 | F21: =IFERROR(VLOOKUP(E21,GRED1,3,TRUE),"") -> R | G21: =IFERROR(SUM('DATA TRANSIT'!F21/10*100),"") -> 80 | H21: =IFERROR(VLOOKUP(G21,GRED1,3,TRUE),"") -> T | I21: =IFERROR(SUM('DATA TRANSIT'!G21/10*100),"") -> 80 | J21: =IFERROR(VLOOKUP(I21,GRED1,3,TRUE),"") -> T | K21: =IFERROR(SUM('DATA TRANSIT'!H21/10*100),"") -> 50 | L21: =IFERROR(VLOOKUP(K21,GRED1,3,TRUE),"") -> S | M21: =IFERROR(SUM('DATA TRANSIT'!I21/10*100),"") -> 100 | N21: =IFERROR(VLOOKUP(M21,GRED1,3,TRUE),"") -> T | O21: =IFERROR(SUM('DATA TRANSIT'!J21/10*100),"") -> 60 | P21: =IFERROR(VLOOKUP(O21,GRED1,3,TRUE),"") -> S | Q21: =IFERROR(SUM('DATA TRANSIT'!K21/10*100),"") -> 70 | R21: =IFERROR(VLOOKUP(Q21,GRED1,3,TRUE),"") -> S | S21: =IFERROR(SUM('DATA TRANSIT'!L21/10*100),"") -> 40 | T21: =IFERROR(VLOOKUP(S21,GRED1,3,TRUE),"") -> R | U21: =IFERROR(SUM('DATA TRANSIT'!M21/10*100),"") -> 100 | V21: =IFERROR(VLOOKUP(U21,GRED1,3,TRUE),"") -> T
A22: 5 | B22: ='DATA TRANSIT'!B22 -> DELISHA HANA BINTI AZMAN | C22: ='DATA TRANSIT'!C22 -> 6 CERDIK | D22: ='DATA TRANSIT'!D22 -> BY54529 | E22: =IFERROR(SUM('DATA TRANSIT'!E22/10*100),"") -> 100 | F22: =IFERROR(VLOOKUP(E22,GRED1,3,TRUE),"") -> T | G22: =IFERROR(SUM('DATA TRANSIT'!F22/10*100),"") -> 100 | H22: =IFERROR(VLOOKUP(G22,GRED1,3,TRUE),"") -> T | I22: =IFERROR(SUM('DATA TRANSIT'!G22/10*100),"") -> 100 | J22: =IFERROR(VLOOKUP(I22,GRED1,3,TRUE),"") -> T | K22: =IFERROR(SUM('DATA TRANSIT'!H22/10*100),"") -> 90 | L22: =IFERROR(VLOOKUP(K22,GRED1,3,TRUE),"") -> T | M22: =IFERROR(SUM('DATA TRANSIT'!I22/10*100),"") -> 100 | N22: =IFERROR(VLOOKUP(M22,GRED1,3,TRUE),"") -> T | O22: =IFERROR(SUM('DATA TRANSIT'!J22/10*100),"") -> 90 | P22: =IFERROR(VLOOKUP(O22,GRED1,3,TRUE),"") -> T | Q22: =IFERROR(SUM('DATA TRANSIT'!K22/10*100),"") -> 80 | R22: =IFERROR(VLOOKUP(Q22,GRED1,3,TRUE),"") -> T | S22: =IFERROR(SUM('DATA TRANSIT'!L22/10*100),"") -> 90 | T22: =IFERROR(VLOOKUP(S22,GRED1,3,TRUE),"") -> T | U22: =IFERROR(SUM('DATA TRANSIT'!M22/10*100),"") -> 80 | V22: =IFERROR(VLOOKUP(U22,GRED1,3,TRUE),"") -> T
A23: 6 | B23: ='DATA TRANSIT'!B23 -> HARRAZ ZAKWAN BIN MOHD IMRANSYAH | C23: ='DATA TRANSIT'!C23 -> 6 CERDIK | D23: ='DATA TRANSIT'!D23 -> BX58302 | E23: =IFERROR(SUM('DATA TRANSIT'!E23/10*100),"") -> 30 | F23: =IFERROR(VLOOKUP(E23,GRED1,3,TRUE),"") -> R | G23: =IFERROR(SUM('DATA TRANSIT'!F23/10*100),"") -> 80 | H23: =IFERROR(VLOOKUP(G23,GRED1,3,TRUE),"") -> T | I23: =IFERROR(SUM('DATA TRANSIT'!G23/10*100),"") -> 80 | J23: =IFERROR(VLOOKUP(I23,GRED1,3,TRUE),"") -> T | K23: =IFERROR(SUM('DATA TRANSIT'!H23/10*100),"") -> 70 | L23: =IFERROR(VLOOKUP(K23,GRED1,3,TRUE),"") -> S | M23: =IFERROR(SUM('DATA TRANSIT'!I23/10*100),"") -> 50 | N23: =IFERROR(VLOOKUP(M23,GRED1,3,TRUE),"") -> S | O23: =IFERROR(SUM('DATA TRANSIT'!J23/10*100),"") -> 70 | P23: =IFERROR(VLOOKUP(O23,GRED1,3,TRUE),"") -> S | Q23: =IFERROR(SUM('DATA TRANSIT'!K23/10*100),"") -> 50 | R23: =IFERROR(VLOOKUP(Q23,GRED1,3,TRUE),"") -> S | S23: =IFERROR(SUM('DATA TRANSIT'!L23/10*100),"") -> 70 | T23: =IFERROR(VLOOKUP(S23,GRED1,3,TRUE),"") -> S | U23: =IFERROR(SUM('DATA TRANSIT'!M23/10*100),"") -> 90 | V23: =IFERROR(VLOOKUP(U23,GRED1,3,TRUE),"") -> T
A24: 7 | B24: ='DATA TRANSIT'!B24 -> MOHAMAD DANISH DANIAL BIN MOHAMAD NASARUDDIN | C24: ='DATA TRANSIT'!C24 -> 6 CERDIK | D24: ='DATA TRANSIT'!D24 -> CA19676 | E24: =IFERROR(SUM('DATA TRANSIT'!E24/10*100),"") -> 30 | F24: =IFERROR(VLOOKUP(E24,GRED1,3,TRUE),"") -> R | G24: =IFERROR(SUM('DATA TRANSIT'!F24/10*100),"") -> 60 | H24: =IFERROR(VLOOKUP(G24,GRED1,3,TRUE),"") -> S | I24: =IFERROR(SUM('DATA TRANSIT'!G24/10*100),"") -> 80 | J24: =IFERROR(VLOOKUP(I24,GRED1,3,TRUE),"") -> T | K24: =IFERROR(SUM('DATA TRANSIT'!H24/10*100),"") -> 60 | L24: =IFERROR(VLOOKUP(K24,GRED1,3,TRUE),"") -> S | M24: =IFERROR(SUM('DATA TRANSIT'!I24/10*100),"") -> 100 | N24: =IFERROR(VLOOKUP(M24,GRED1,3,TRUE),"") -> T | O24: =IFERROR(SUM('DATA TRANSIT'!J24/10*100),"") -> 70 | P24: =IFERROR(VLOOKUP(O24,GRED1,3,TRUE),"") -> S | Q24: =IFERROR(SUM('DATA TRANSIT'!K24/10*100),"") -> 60 | R24: =IFERROR(VLOOKUP(Q24,GRED1,3,TRUE),"") -> S | S24: =IFERROR(SUM('DATA TRANSIT'!L24/10*100),"") -> 40 | T24: =IFERROR(VLOOKUP(S24,GRED1,3,TRUE),"") -> R | U24: =IFERROR(SUM('DATA TRANSIT'!M24/10*100),"") -> 90 | V24: =IFERROR(VLOOKUP(U24,GRED1,3,TRUE),"") -> T
A25: 8 | B25: ='DATA TRANSIT'!B25 -> MOHAMAD MIKHAIL HAQIMI BIN ABDULLAH | C25: ='DATA TRANSIT'!C25 -> 6 CERDIK | D25: ='DATA TRANSIT'!D25 -> CC54134 | E25: =IFERROR(SUM('DATA TRANSIT'!E25/10*100),"") -> 10 | F25: =IFERROR(VLOOKUP(E25,GRED1,3,TRUE),"") -> R | G25: =IFERROR(SUM('DATA TRANSIT'!F25/10*100),"") -> 100 | H25: =IFERROR(VLOOKUP(G25,GRED1,3,TRUE),"") -> T | I25: =IFERROR(SUM('DATA TRANSIT'!G25/10*100),"") -> 90 | J25: =IFERROR(VLOOKUP(I25,GRED1,3,TRUE),"") -> T | K25: =IFERROR(SUM('DATA TRANSIT'!H25/10*100),"") -> 80 | L25: =IFERROR(VLOOKUP(K25,GRED1,3,TRUE),"") -> T | M25: =IFERROR(SUM('DATA TRANSIT'!I25/10*100),"") -> 70 | N25: =IFERROR(VLOOKUP(M25,GRED1,3,TRUE),"") -> S | O25: =IFERROR(SUM('DATA TRANSIT'!J25/10*100),"") -> 80 | P25: =IFERROR(VLOOKUP(O25,GRED1,3,TRUE),"") -> T | Q25: =IFERROR(SUM('DATA TRANSIT'!K25/10*100),"") -> 90 | R25: =IFERROR(VLOOKUP(Q25,GRED1,3,TRUE),"") -> T | S25: =IFERROR(SUM('DATA TRANSIT'!L25/10*100),"") -> 40 | T25: =IFERROR(VLOOKUP(S25,GRED1,3,TRUE),"") -> R | U25: =IFERROR(SUM('DATA TRANSIT'!M25/10*100),"") -> 100 | V25: =IFERROR(VLOOKUP(U25,GRED1,3,TRUE),"") -> T
