Workbook

Sheet OPPMKTKM2021
F2: Ketua: HJ AMINUDIN B MOHD RASHID | J2: Nama Projek : Kajian Tindakan Peningkatan Kehadiran Murid ke sekolah. | W2: Tarikh: JAN 2021
F4: Objektif Program: Peningkatan Peratusan Kehadiran Murid (15 Sekolah di antara 70% - 90% TAHUN 2020)
B6: Objektif | G6: Tugasan Utama | J6: Status/Pencapain Projek | V6: Tanggungjawab
B7: ™ | F7: 1 | G7: Perancangan program PSO | U7: ˜ | V7: A | W7: B | X7: C | Y7: B | Z7: A
C8: ™ | F8: 2 | G8: Penyediaan Kertas Konsep | J8: ˜ | Z8: A
B9: ™ | C9: ™ | F9: 3 | G9: Google form soal selidik GPKHEM (BERSIRI) | K9: ˜ | M9: ™ | P9: ™ | S9: ™ | U9: ™ | Z9: A
B10: ™ | C10: ™ | D10: ™ | F10: 4 | G10: Taklimat/Bengkel /Dialog Prestasi | K10: ™ | M10: ™ | P10: ™ | S10: ™ | U10: ™ | W10: B | Y10: B | Z10: A
B11: ™ | C11: ™ | F11: 5 | G11: Analisis Kehadiran Murid | J11: ™ | K11: ™ | L11: ™ | M11: ™ | N11: ™ | O11: ™ | P11: ™ | Q11: ™ | R11: ™ | S11: ™ | T11: ™ | U11: ™ | Z11: A
B12: ™ | C12: ™ | F12: 6 | G12: Pembentangan analisis dalam mesyuarat PPD/PGB | L12: ™ | O12: ™ | R12: ™ | U12: ™ | V12: A | W12: A | X12: A | Y12: A | Z12: A
C13: ™ | F13: 7 | G13: Bimbingan ke 15 buah sekolah | J13: ™ | K13: ™ | L13: ™ | M13: ™ | N13: ™ | O13: ™ | P13: ™ | Q13: ™ | R13: ™ | S13: ™ | T13: ™ | U13: ™ | V13: C | W13: C | X13: C | Y13: B | Z13: A
F14: 7
F15: 8
F16: 9
F17: 10
F18: 11
F19: 12
F20: 13
F21: 14
F22: 15
B24: Pemimpin organisasi - ppd/sek | C24: Penyelaras program | D24: Komuniti | G24: TUGASAN | J24: Januari | K24: Februari | L24: Mach | M24: April | N24: Mei | O24: Jun | P24: Julai | Q24: Ogos | R24: September | S24: Oktober | T24: November | U24: Disember | V24: TN. PPD | W24: TIM. PPD | X24: SPM | Y24: HEM | Z24: PEG MEJA
F25: O B J E K T I F | I25: TARIKH
AC30: Ringgit Malaysia
I31: KOS | AC31: Anggaran | AD31: Belanjaan
AB32: taklimat 4 fasa | AC32: 400
G36: RINGKASAN & RAMALAN
F37: KPI PPDJJ - 93% DAPAT DICAPAI
F38: MERAPATKAN JURANG KPI 95% KEBANGSAAN
F39: Semua pemimpin sekolah memahami tangungjawab terhadap kehadiran murid
F40: MasyarakaT setempat membantu sekolah dalam isu ketidahadiran murid ke sekolah
K42: Simbol
K43: ™ | L43: Belum Siap | R43: A | S43: Orang Pertama dipertanggungjawabkan
K44: ˜ | L44: Siap | R44: B | S44: Orang Kedua dipertanggungjawabkan
R45: C | S45: Orang Ketiga dipertanggungjawabkan

Sheet sPeCt
B2: SCHOOL PROGRAMME CHECK TOOL (sPeCt)
B3: Kajian Tindakan Peningkatan Kehadiran Murid ke sekolah
A4: Isu / Cabaran Dalam Penambahbaikan Sekolah (Susun Ikut Jurang Terbesar) | C4: Alat Semakan Program Sekolah | E4: Program Intervensi Sekolah Yang Dilaksanakan (Berdasarkan Isu / Cabaran)
C5: Eliminate (Hapuskan) | D5: Raise (Tambah)
A6: 1 | B6: Sosioekonomi | E6: 1 | F6: Verifikasi data
A7: 2 | B7: Penempatan murid | C7: 11 | D7: 4 , 5 | E7: 2 | F7: Taklimat penyelarasan
A8: 3 | B8: Sikap penjaga/murid | E8: 3 | F8: Ziarah Cakna
A9: 4 | B9: Cakna ziarah | E9: 4 | F9: Kunjung Bantu yang berfokus
A10: 5 | B10: Motivasi pihak sekolah/ GBK | C10: Reduce (Kurangkan) | D10: Create (Wujudkan) | E10: 5 | F10: Dialog Prestasi
A11: 6 | B11: Surat amaran ikut SOP | D11: 1) Kerjasama GO & NGO - bantuan kewangan | E11: 6 | F11: Pembentangn analisis mengikut suku tahunan
A12: 7 | B12: Bekerja/tidak minat belajar | C12: 6, 7, 8, 9, 10 | D12: 2) Sarana PIBG - bank makanan di sekolah | E12: 7 | F12: Kerjasam PBS
A13: 8 | B13: Pandemik Covid-19 | D13: 3) Wujudkan budaya PdPc yang lebih menarik | E13: 8 | F13: Saranan Ibu bapa
A14: 9 | B14: Minat terhadap subjek pelajaran | E14: 9 | F14: OPS Ponteng Sekolah
A15: 10 | B15: Kualiti Pedagogi guru | C15: Sustain (Kekalkan)
A16: 11 | B16: Hukuman ponteng di perhimpunan | C16: 1,2, 3,

Sheet 15 sekolah
B1: ANALISIS DATA KEHADIRAN MURID BAGI 15 BUAH SEKOLAH YANG TERLIBAT DI DALAM KIJIAN TINDAKAN KEHADIRAN MURID PPDJJ TAHUN 2021
A3: BIL | B3: Nama Sekolah | C3: Jan | D3: Feb | E3: Mac | F3: SUKU 1 | G3: APR | H3: MEI | I3: JUN | J3: SUKU 2 | K3: JULAI | L3: OGOS | M3: SEPT | N3: SUKU 3 | O3: OKT | P3: NOV | Q3: SUKU 4 | R3: 2020
A4: 1 | B4: SK DUA | C4: 0.7796 | D4: 0.7557 | E4: 0.7667 | F4: =AVERAGE(C4:E4) -> 0.76733333 | K4: 0.6217 | L4: 0.6676 | M4: 0.7588 | N4: =AVERAGE(K4:M4) -> 0.6827 | O4: 0.7583 | P4: 0.7643 | Q4: =AVERAGE(O4:P4) -> 0.7613 | R4: =AVERAGE(C4:E4,K4:M4,O4:P4) -> 0.7340875
A5: 2 | B5: SK AMAR PENGHULU | C5: 0.8957 | D5: 0.8977 | E5: 0.897 | F5: =AVERAGE(C5:E5) -> 0.8968 | K5: 0.7568 | L5: 0.7188 | M5: 0.7633 | N5: =AVERAGE(K5:M5) -> 0.7463 | O5: 0.6474 | P5: 0.4788 | Q5: =AVERAGE(O5:P5) -> 0.5631 | R5: =AVERAGE(C5:E5,K5:M5,O5:P5) -> 0.7569375
A6: 3 | B6: SK ROMPIN | C6: 0.9021 | D6: 0.8821 | E6: 0.8962 | F6: =AVERAGE(C6:E6) -> 0.89346667 | K6: 0.7349 | L6: 0.7116 | M6: 0.7659 | N6: =AVERAGE(K6:M6) -> 0.73746667 | O6: 0.6728 | P6: 0.5505 | Q6: =AVERAGE(O6:P6) -> 0.61165 | R6: =AVERAGE(C6:E6,K6:M6,O6:P6) -> 0.7645125
A7: 4 | B7: SMK BAHAU | C7: 0.904 | D7: 0.9024 | E7: 0.8714 | F7: =AVERAGE(C7:E7) -> 0.8926 | I7: 0.8187 | J7: =AVERAGE(G7:I7) -> 0.8187 | K7: 0.8013 | L7: 0.7525 | M7: 0.7779 | N7: =AVERAGE(K7:M7) -> 0.77723333 | O7: 0.7232 | P7: 0.5416 | Q7: =AVERAGE(O7:P7) -> 0.6324 | R7: =AVERAGE(C7:E7,I7,K7:M7,O7:P7) -> 0.78811111
A8: 5 | B8: SJKT LDG ST HELIER | C8: 0.95 | D8: 0.9354 | E8: 0.9092 | F8: =AVERAGE(C8:E8) -> 0.93153333 | K8: 0.7022 | L8: 0.7018 | M8: 0.798 | N8: =AVERAGE(K8:M8) -> 0.734 | O8: 0.7822 | P8: 0.6473 | Q8: =AVERAGE(O8:P8) -> 0.71475 | R8: =AVERAGE(C8:E8,K8:M8,O8:P8) -> 0.8032625
A9: 6 | B9: SMK BAHAU 2 | C9: 0.8883 | D9: 0.9147 | E9: 0.9101 | F9: =AVERAGE(C9:E9) -> 0.90436667 | I9: 0.7966 | J9: =AVERAGE(G9:I9) -> 0.7966 | K9: 0.8168 | L9: 0.8283 | M9: 0.8379 | N9: =AVERAGE(K9:M9) -> 0.82766667 | O9: 0.7379 | P9: 0.5089 | Q9: =AVERAGE(O9:P9) -> 0.6234 | R9: =AVERAGE(C9:E9,I9,K9:M9,O9:P9) -> 0.80438889
A10: 7 | B10: SK ST AIDAN | C10: 0.9191 | D10: 0.9206 | E10: 0.9013 | F10: =AVERAGE(C10:E10) -> 0.91366667 | K10: 0.8219 | L10: 0.7461 | M10: 0.8408 | N10: =AVERAGE(K10:M10) -> 0.80293333 | O10: 0.7492 | P10: 0.6113 | Q10: =AVERAGE(O10:P10) -> 0.68025 | R10: =AVERAGE(C10:E10,K10:M10,O10:P10) -> 0.8137875
A11: 8 | B11: SMK UNDANG JELEBU | C11: 0.8973 | D11: 0.8846 | E11: 0.8986 | F11: =AVERAGE(C11:E11) -> 0.8935 | I11: 0.8224 | J11: =AVERAGE(G11:I11) -> 0.8224 | K11: 0.7961 | L11: 0.7602 | M11: 0.809 | N11: =AVERAGE(K11:M11) -> 0.78843333 | O11: 0.779 | P11: 0.6979 | Q11: =AVERAGE(O11:P11) -> 0.73845 | R11: =AVERAGE(C11:E11,I11,K11:M11,O11:P11) -> 0.81612222
A12: 9 | B12: SK FELDA RAJA ALIAS 3 | C12: 0.9565 | D12: 0.9483 | E12: 0.9491 | F12: =AVERAGE(C12:E12) -> 0.9513 | K12: 0.8926 | L12: 0.8572 | M12: 0.9023 | N12: =AVERAGE(K12:M12) -> 0.88403333 | O12: 0.8765 | P12: 0.2664 | Q12: =AVERAGE(O12:P12) -> 0.57145 | R12: =AVERAGE(C12:E12,K12:M12,O12:P12) -> 0.8311125
A13: 10 | B13: SMK STG HILIR KOMPLEKS | C13: 0.9072 | D13: 0.9093 | E13: 0.9061 | F13: =AVERAGE(C13:E13) -> 0.90753333 | I13: 0.8413 | J13: =AVERAGE(G13:I13) -> 0.8413 | K13: 0.8014 | L13: 0.7648 | M13: 0.8147 | N13: =AVERAGE(K13:M13) -> 0.79363333 | O13: 0.7838 | P13: 0.7688 | Q13: =AVERAGE(O13:P13) -> 0.7763 | R13: =AVERAGE(C13:E13,I13,K13:M13,O13:P13) -> 0.83304444
A14: 11 | B14: SJKT LDG BAHAU | C14: 0.9676 | D14: 0.9449 | E14: 0.9579 | F14: =AVERAGE(C14:E14) -> 0.9568 | K14: 0.7383 | L14: 0.7631 | M14: 0.8887 | N14: =AVERAGE(K14:M14) -> 0.7967 | O14: 0.8349 | P14: 0.5764 | Q14: =AVERAGE(O14:P14) -> 0.70565 | R14: =AVERAGE(C14:E14,K14:M14,O14:P14) -> 0.833975
A15: 12 | B15: SMK DATUK MANSOR | C15: 0.9091 | D15: 0.9124 | E15: 0.9262 | F15: =AVERAGE(C15:E15) -> 0.9159 | I15: 0.8908 | J15: =AVERAGE(G15:I15) -> 0.8908 | K15: 0.8792 | L15: 0.841 | M15: 0.8811 | N15: =AVERAGE(K15:M15) -> 0.8671 | O15: 0.8003 | P15: 0.5228 | Q15: =AVERAGE(O15:P15) -> 0.66155 | R15: =AVERAGE(C15:E15,I15,K15:M15,O15:P15) -> 0.84032222
A16: 13 | B16: SK STG HILIR KOMPLEKS | C16: 0.9182 | D16: 0.898 | E16: 0.9162 | F16: =AVERAGE(C16:E16) -> 0.9108 | K16: 0.7926 | L16: 0.7529 | M16: 0.8153 | N16: =AVERAGE(K16:M16) -> 0.78693333 | O16: 0.8026 | P16: 0.7874 | Q16: =AVERAGE(O16:P16) -> 0.795 | R16: =AVERAGE(C16:E16,K16:M16,O16:P16) -> 0.8354
A17: 14 | B17: SMK TERIANG HILIR | C17: 0.9114 | D17: 0.9048 | E17: 0.9061 | F17: =AVERAGE(C17:E17) -> 0.90743333 | I17: 0.7981 | J17: =AVERAGE(G17:I17) -> 0.7981 | K17: 0.8185 | L17: 0.8059 | M17: 0.8484 | N17: =AVERAGE(K17:M17) -> 0.82426667 | O17: 0.8238 | P17: 0.7789 | Q17: =AVERAGE(O17:P17) -> 0.80135 | R17: =AVERAGE(C17:E17,I17,K17:M17,O17:P17) -> 0.84398889
A18: 15 | B18: SMK (FELDA) LUI BARAT | C18: 0.9173 | D18: 0.909 | E18: 0.9058 | F18: =AVERAGE(C18:E18) -> 0.9107 | I18: 0.8874 | J18: =AVERAGE(G18:I18) -> 0.8874 | K18: 0.8488 | L18: 0.812 | M18: 0.8355 | N18: =AVERAGE(K18:M18) -> 0.8321 | O18: 0.8049 | P18: 0.7675 | Q18: =AVERAGE(O18:P18) -> 0.7862 | R18: =AVERAGE(C18:E18,I18,K18:M18,O18:P18) -> 0.85424444
B19: PURATA | C19: =AVERAGE(C4:C18) -> 0.90822667 | D19: =AVERAGE(D4:D18) -> 0.90132667 | E19: =AVERAGE(E4:E18) -> 0.90119333 | F19: =AVERAGE(C19:E19) -> 0.90358222 | G19: =AVERAGE(G4:G18) -> #DIV/0! | H19: =AVERAGE(H4:H18) -> #DIV/0! | I19: =AVERAGE(I4:I18) -> 0.83647143 | J19: =AVERAGE(J4:J18) -> 0.83647143 | K19: =AVERAGE(K4:K18) -> 0.78820667 | L19: =AVERAGE(L4:L18) -> 0.76558667 | M19: =AVERAGE(M4:M18) -> 0.82250667 | N19: =AVERAGE(K19:M19) -> 0.7921 | O19: =AVERAGE(O4:O18) -> 0.77178667 | P19: =AVERAGE(P4:P18) -> 0.61792 | Q19: =AVERAGE(O19:P19) -> 0.69485333 | R19: =AVERAGE(C19:E19,I19,K19:M19,O19:P19) -> 0.81258053

Sheet DATA 2021
B1: ANALISIS DATA KEHADIRAN MURID BAGI 15 BUAH SEKOLAH YANG TERLIBAT DI DALAM KIJIAN TINDAKAN KEHADIRAN MURID PPDJJ TAHUN 2021
A3: BIL | B3: SEKOLAH 2021 | C3: JAN | D3: FEB | E3: MAC | F3: SUKU 1 | G3: APR | H3: MEI | I3: JUN | J3: SUKU 2 | K3: JULAI | L3: OGOS | M3: SEPT | N3: SUKU 3 | O3: OKT | P3: NOV | Q3: SUKU 4 | R3: 2021
A4: 1 | B4: SK DUA | F4: =AVERAGE(C4:E4) -> #DIV/0! | J4: =AVERAGE(G4:I4) -> #DIV/0! | N4: =AVERAGE(K4:M4) -> #DIV/0! | Q4: =AVERAGE(O4:P4) -> #DIV/0! | R4: =AVERAGE(C4:E4,G4:I4,K4:M4,O4:P4) -> #DIV/0!
A5: 2 | B5: SK AMAR PENGHULU | F5: =AVERAGE(C5:E5) -> #DIV/0! | J5: =AVERAGE(G5:I5) -> #DIV/0! | N5: =AVERAGE(K5:M5) -> #DIV/0! | Q5: =AVERAGE(O5:P5) -> #DIV/0! | R5: =AVERAGE(C5:E5,G5:I5,K5:M5,O5:P5) -> #DIV/0!
A6: 3 | B6: SK ROMPIN | F6: =AVERAGE(C6:E6) -> #DIV/0! | J6: =AVERAGE(G6:I6) -> #DIV/0! | N6: =AVERAGE(K6:M6) -> #DIV/0! | Q6: =AVERAGE(O6:P6) -> #DIV/0! | R6: =AVERAGE(C6:E6,G6:I6,K6:M6,O6:P6) -> #DIV/0!
A7: 4 | B7: SMK BAHAU | F7: =AVERAGE(C7:E7) -> #DIV/0! | J7: =AVERAGE(G7:I7) -> #DIV/0! | N7: =AVERAGE(K7:M7) -> #DIV/0! | Q7: =AVERAGE(O7:P7) -> #DIV/0! | R7: =AVERAGE(C7:E7,G7:I7,K7:M7,O7:P7) -> #DIV/0!
A8: 5 | B8: SJKT LDG ST HELIER | F8: =AVERAGE(C8:E8) -> #DIV/0! | J8: =AVERAGE(G8:I8) -> #DIV/0! | N8: =AVERAGE(K8:M8) -> #DIV/0! | Q8: =AVERAGE(O8:P8) -> #DIV/0! | R8: =AVERAGE(C8:E8,G8:I8,K8:M8,O8:P8) -> #DIV/0!
A9: 6 | B9: SMK BAHAU 2 | F9: =AVERAGE(C9:E9) -> #DIV/0! | J9: =AVERAGE(G9:I9) -> #DIV/0! | N9: =AVERAGE(K9:M9) -> #DIV/0! | Q9: =AVERAGE(O9:P9) -> #DIV/0! | R9: =AVERAGE(C9:E9,G9:I9,K9:M9,O9:P9) -> #DIV/0!
A10: 7 | B10: SK ST AIDAN | F10: =AVERAGE(C10:E10) -> #DIV/0! | J10: =AVERAGE(G10:I10) -> #DIV/0! | N10: =AVERAGE(K10:M10) -> #DIV/0! | Q10: =AVERAGE(O10:P10) -> #DIV/0! | R10: =AVERAGE(C10:E10,G10:I10,K10:M10,O10:P10) -> #DIV/0!
A11: 8 | B11: SMK UNDANG JELEBU | F11: =AVERAGE(C11:E11) -> #DIV/0! | J11: =AVERAGE(G11:I11) -> #DIV/0! | N11: =AVERAGE(K11:M11) -> #DIV/0! | Q11: =AVERAGE(O11:P11) -> #DIV/0! | R11: =AVERAGE(C11:E11,G11:I11,K11:M11,O11:P11) -> #DIV/0!
A12: 9 | B12: SK FELDA RAJA ALIAS 3 | F12: =AVERAGE(C12:E12) -> #DIV/0! | J12: =AVERAGE(G12:I12) -> #DIV/0! | N12: =AVERAGE(K12:M12) -> #DIV/0! | Q12: =AVERAGE(O12:P12) -> #DIV/0! | R12: =AVERAGE(C12:E12,G12:I12,K12:M12,O12:P12) -> #DIV/0!
A13: 10 | B13: SMK STG HILIR KOMPLEKS | F13: =AVERAGE(C13:E13) -> #DIV/0! | J13: =AVERAGE(G13:I13) -> #DIV/0! | N13: =AVERAGE(K13:M13) -> #DIV/0! | Q13: =AVERAGE(O13:P13) -> #DIV/0! | R13: =AVERAGE(C13:E13,G13:I13,K13:M13,O13:P13) -> #DIV/0!
A14: 11 | B14: SJKT LDG BAHAU | F14: =AVERAGE(C14:E14) -> #DIV/0! | J14: =AVERAGE(G14:I14) -> #DIV/0! | N14: =AVERAGE(K14:M14) -> #DIV/0! | Q14: =AVERAGE(O14:P14) -> #DIV/0! | R14: =AVERAGE(C14:E14,G14:I14,K14:M14,O14:P14) -> #DIV/0!
A15: 12 | B15: SMK DATUK MANSOR | F15: =AVERAGE(C15:E15) -> #DIV/0! | J15: =AVERAGE(G15:I15) -> #DIV/0! | N15: =AVERAGE(K15:M15) -> #DIV/0! | Q15: =AVERAGE(O15:P15) -> #DIV/0! | R15: =AVERAGE(C15:E15,G15:I15,K15:M15,O15:P15) -> #DIV/0!
... A18: 15 | B18: SMK (FELDA) LUI BARAT | F18: =AVERAGE(C18:E18) -> #DIV/0! | J18: =AVERAGE(G18:I18) -> #DIV/0! | N18: =AVERAGE(K18:M18) -> #DIV/0! | Q18: =AVERAGE(O18:P18) -> #DIV/0! | R18: =AVERAGE(C18:E18,G18:I18,K18:M18,O18:P18) -> #DIV/0!
B19: PURATA | C19: =AVERAGE(C4:C18) -> #DIV/0! | D19: =AVERAGE(D4:D18) -> #DIV/0! | E19: =AVERAGE(E4:E18) -> #DIV/0! | F19: =AVERAGE(C19:E19) -> #DIV/0! | G19: =AVERAGE(G4:G18) -> #DIV/0! | H19: =AVERAGE(H4:H18) -> #DIV/0! | I19: =AVERAGE(I4:I18) -> #DIV/0! | J19: =AVERAGE(G19:I19) -> #DIV/0! | K19: =AVERAGE(K4:K18) -> #DIV/0! | L19: =AVERAGE(L4:L18) -> #DIV/0! | M19: =AVERAGE(M4:M18) -> #DIV/0! | N19: =AVERAGE(K19:M19) -> #DIV/0! | O19: =AVERAGE(O4:O18) -> #DIV/0! | P19: =AVERAGE(P4:P18) -> #DIV/0! | Q19: =AVERAGE(O19:P19) -> #DIV/0! | R19: =AVERAGE(R4:R18) -> #DIV/0!

Sheet SUKU TAHUNAN
B1: BANDINGAN KEHADIRAN MURID MENGIKUT SUKU TAHUNAN
B3: Nama Sekolah | C3: SUKU 1 | E3: SUKU 2 | G3: SUKU 3 | I3: SUKU 4 | K3: TAHUN
A4: BIL | C4: 2020 | D4: 2021 | E4: 2020 | F4: 2021 | G4: 2020 | H4: 2021 | I4: 2020 | J4: 2021 | K4: 2020 | L4: 2021
A5: 1 | B5: SK DUA | C5: ='15 sekolah'!F4 -> 0.76733333 | D5: ='DATA 2021'!F4 -> #DIV/0! | E5: ='15 sekolah'!J4 | F5: ='DATA 2021'!J4 -> #DIV/0! | G5: ='15 sekolah'!N4 -> 0.6827 | H5: ='DATA 2021'!N4 -> #DIV/0! | I5: ='15 sekolah'!Q4 -> 0.7613 | J5: ='DATA 2021'!Q4 -> #DIV/0! | K5: ='15 sekolah'!R4 -> 0.7340875 | L5: ='DATA 2021'!R4 -> #DIV/0!
A6: 2 | B6: SK AM PHULU | C6: ='15 sekolah'!F5 -> 0.8968 | D6: ='DATA 2021'!F5 -> #DIV/0! | E6: ='15 sekolah'!J5 | F6: ='DATA 2021'!J5 -> #DIV/0! | G6: ='15 sekolah'!N5 -> 0.7463 | H6: ='DATA 2021'!N5 -> #DIV/0! | I6: ='15 sekolah'!Q5 -> 0.5631 | J6: ='DATA 2021'!Q5 -> #DIV/0! | K6: ='15 sekolah'!R5 -> 0.7569375 | L6: ='DATA 2021'!R5 -> #DIV/0!
A7: 3 | B7: SK ROMPIN | C7: ='15 sekolah'!F6 -> 0.89346667 | D7: ='DATA 2021'!F6 -> #DIV/0! | E7: ='15 sekolah'!J6 | F7: ='DATA 2021'!J6 -> #DIV/0! | G7: ='15 sekolah'!N6 -> 0.73746667 | H7: ='DATA 2021'!N6 -> #DIV/0! | I7: ='15 sekolah'!Q6 -> 0.61165 | J7: ='DATA 2021'!Q6 -> #DIV/0! | K7: ='15 sekolah'!R6 -> 0.7645125 | L7: ='DATA 2021'!R6 -> #DIV/0!
A8: 4 | B8: SMK BAHAU | C8: ='15 sekolah'!F7 -> 0.8926 | D8: ='DATA 2021'!F7 -> #DIV/0! | E8: ='15 sekolah'!J7 -> 0.8187 | F8: ='DATA 2021'!J7 -> #DIV/0! | G8: ='15 sekolah'!N7 -> 0.77723333 | H8: ='DATA 2021'!N7 -> #DIV/0! | I8: ='15 sekolah'!Q7 -> 0.6324 | J8: ='DATA 2021'!Q7 -> #DIV/0! | K8: ='15 sekolah'!R7 -> 0.78811111 | L8: ='DATA 2021'!R7 -> #DIV/0!
A9: 5 | B9: SJKT LDG ST HELIER | C9: ='15 sekolah'!F8 -> 0.93153333 | D9: ='DATA 2021'!F8 -> #DIV/0! | E9: ='15 sekolah'!J8 | F9: ='DATA 2021'!J8 -> #DIV/0! | G9: ='15 sekolah'!N8 -> 0.734 | H9: ='DATA 2021'!N8 -> #DIV/0! | I9: ='15 sekolah'!Q8 -> 0.71475 | J9: ='DATA 2021'!Q8 -> #DIV/0! | K9: ='15 sekolah'!R8 -> 0.8032625 | L9: ='DATA 2021'!R8 -> #DIV/0!
A10: 6 | B10: SMK BAHAU 2 | C10: ='15 sekolah'!F9 -> 0.90436667 | D10: ='DATA 2021'!F9 -> #DIV/0! | E10: ='15 sekolah'!J9 -> 0.7966 | F10: ='DATA 2021'!J9 -> #DIV/0! | G10: ='15 sekolah'!N9 -> 0.82766667 | H10: ='DATA 2021'!N9 -> #DIV/0! | I10: ='15 sekolah'!Q9 -> 0.6234 | J10: ='DATA 2021'!Q9 -> #DIV/0! | K10: ='15 sekolah'!R9 -> 0.80438889 | L10: ='DATA 2021'!R9 -> #DIV/0!
A11: 7 | B11: SK ST AIDAN | C11: ='15 sekolah'!F10 -> 0.91366667 | D11: ='DATA 2021'!F10 -> #DIV/0! | E11: ='15 sekolah'!J10 | F11: ='DATA 2021'!J10 -> #DIV/0! | G11: ='15 sekolah'!N10 -> 0.80293333 | H11: ='DATA 2021'!N10 -> #DIV/0! | I11: ='15 sekolah'!Q10 -> 0.68025 | J11: ='DATA 2021'!Q10 -> #DIV/0! | K11: ='15 sekolah'!R10 -> 0.8137875 | L11: ='DATA 2021'!R10 -> #DIV/0!
A12: 8 | B12: SMK UNDANG JELEBU | C12: ='15 sekolah'!F11 -> 0.8935 | D12: ='DATA 2021'!F11 -> #DIV/0! | E12: ='15 sekolah'!J11 -> 0.8224 | F12: ='DATA 2021'!J11 -> #DIV/0! | G12: ='15 sekolah'!N11 -> 0.78843333 | H12: ='DATA 2021'!N11 -> #DIV/0! | I12: ='15 sekolah'!Q11 -> 0.73845 | J12: ='DATA 2021'!Q11 -> #DIV/0! | K12: ='15 sekolah'!R11 -> 0.81612222 | L12: ='DATA 2021'!R11 -> #DIV/0!
A13: 9 | B13: SK FELDA RAJA ALIAS 3 | C13: ='15 sekolah'!F12 -> 0.9513 | D13: ='DATA 2021'!F12 -> #DIV/0! | E13: ='15 sekolah'!J12 | F13: ='DATA 2021'!J12 -> #DIV/0! | G13: ='15 sekolah'!N12 -> 0.88403333 | H13: ='DATA 2021'!N12 -> #DIV/0! | I13: ='15 sekolah'!Q12 -> 0.57145 | J13: ='DATA 2021'!Q12 -> #DIV/0! | K13: ='15 sekolah'!R12 -> 0.8311125 | L13: ='DATA 2021'!R12 -> #DIV/0!
A14: 10 | B14: SMK STG HILIR KOMPLEKS | C14: ='15 sekolah'!F13 -> 0.90753333 | D14: ='DATA 2021'!F13 -> #DIV/0! | E14: ='15 sekolah'!J13 -> 0.8413 | F14: ='DATA 2021'!J13 -> #DIV/0! | G14: ='15 sekolah'!N13 -> 0.79363333 | H14: ='DATA 2021'!N13 -> #DIV/0! | I14: ='15 sekolah'!Q13 -> 0.7763 | J14: ='DATA 2021'!Q13 -> #DIV/0! | K14: ='15 sekolah'!R13 -> 0.83304444 | L14: ='DATA 2021'!R13 -> #DIV/0!
A15: 11 | B15: SJKT LDG BAHAU | C15: ='15 sekolah'!F14 -> 0.9568 | D15: ='DATA 2021'!F14 -> #DIV/0! | E15: ='15 sekolah'!J14 | F15: ='DATA 2021'!J14 -> #DIV/0! | G15: ='15 sekolah'!N14 -> 0.7967 | H15: ='DATA 2021'!N14 -> #DIV/0! | I15: ='15 sekolah'!Q14 -> 0.70565 | J15: ='DATA 2021'!Q14 -> #DIV/0! | K15: ='15 sekolah'!R14 -> 0.833975 | L15: ='DATA 2021'!R14 -> #DIV/0!
A16: 12 | B16: SMK DATUK MANSOR | C16: ='15 sekolah'!F15 -> 0.9159 | D16: ='DATA 2021'!F15 -> #DIV/0! | E16: ='15 sekolah'!J15 -> 0.8908 | F16: ='DATA 2021'!J15 -> #DIV/0! | G16: ='15 sekolah'!N15 -> 0.8671 | H16: ='DATA 2021'!N15 -> #DIV/0! | I16: ='15 sekolah'!Q15 -> 0.66155 | J16: ='DATA 2021'!Q15 -> #DIV/0! | K16: ='15 sekolah'!R15 -> 0.84032222 | L16: ='DATA 2021'!R15 -> #DIV/0!
... A19: 15 | B19: SMK (FELDA) LUI BARAT | C19: ='15 sekolah'!F18 -> 0.9107 | D19: ='DATA 2021'!F18 -> #DIV/0! | E19: ='15 sekolah'!J18 -> 0.8874 | F19: ='DATA 2021'!J18 -> #DIV/0! | G19: ='15 sekolah'!N18 -> 0.8321 | H19: ='DATA 2021'!N18 -> #DIV/0! | I19: ='15 sekolah'!Q18 -> 0.7862 | J19: ='DATA 2021'!Q18 -> #DIV/0! | K19: ='15 sekolah'!R18 -> 0.85424444 | L19: ='DATA 2021'!R18 -> #DIV/0!
B20: PURATA | C20: ='15 sekolah'!F19 -> 0.90358222 | D20: ='DATA 2021'!F19 -> #DIV/0! | E20: ='15 sekolah'!J19 -> 0.83647143 | F20: ='DATA 2021'!J19 -> #DIV/0! | G20: ='15 sekolah'!N19 -> 0.7921 | H20: ='DATA 2021'!N19 -> #DIV/0! | I20: ='15 sekolah'!Q19 -> 0.69485333 | J20: ='DATA 2021'!Q19 -> #DIV/0! | K20: ='15 sekolah'!R19 -> 0.81258053 | L20: ='DATA 2021'!R19 -> #DIV/0!

Sheet JADUALPERBATUAN
B2: Nama Projek : Kajian Tindakan Peningkatan Kehadiran Murid ke sekolah.
B5: BIL | C5: TARIKH | D5: PERKARA | E5: TINDAKAN
B6: 1 | C6: 44166 | D6: MESY SPM
B7: 2 | C7: 44197 | D7: KERTAS KERJA
B8: 3 | C8: 44197 | D8: GOOGLE FORM KPD GPKHEM
B9: 4 | C9: 44228 | D9: DASHBOARD KT
B10: 5
